BEGIN:VCALENDAR
VERSION:2.0
PRODID:-//St Matthew&#039;s Congregation Woy Woy, NSW - ECPv6.8.1//NONSGML v1.0//EN
CALSCALE:GREGORIAN
METHOD:PUBLISH
X-ORIGINAL-URL:https://woywoy.lutheran.org.au
X-WR-CALDESC:Events for St Matthew&#039;s Congregation Woy Woy, NSW
REFRESH-INTERVAL;VALUE=DURATION:PT1H
X-Robots-Tag:noindex
X-PUBLISHED-TTL:PT1H
BEGIN:VTIMEZONE
TZID:UTC
BEGIN:STANDARD
TZOFFSETFROM:+0000
TZOFFSETTO:+0000
TZNAME:UTC
DTSTART:20230101T000000
END:STANDARD
TZID:Australia/Sydney
BEGIN:STANDARD
TZOFFSETFROM:+1100
TZOFFSETTO:+1000
TZNAME:AEST
DTSTART:20230401T160000
END:STANDARD
BEGIN:DAYLIGHT
TZOFFSETFROM:+1000
TZOFFSETTO:+1100
TZNAME:AEDT
DTSTART:20230930T160000
END:DAYLIGHT
END:VTIMEZONE
BEGIN:VEVENT
DTSTART;TZID=UTC:20231217T093000
DTEND;TZID=UTC:20231217T223000
DTSTAMP:20260420T072223
CREATED:20180812T165225Z
LAST-MODIFIED:20200323T030318Z
UID:10000276-1702805400-1702852200@woywoy.lutheran.org.au
SUMMARY:Online Worship Service
DESCRIPTION:As a temporary measure\, while State Government restrictions apply\, Sunday worships will be offered as simple live stream online via Facebook and YouTube.\nIt is possible to view the worships at a later date also.
URL:https://woywoy.lutheran.org.au/event/worship-service/2023-12-17/
LOCATION:St Matthews Lutheran Church\, 8 Jumbuck Cres\, Woy Woy\, NSW\, 2257\, Australia
CATEGORIES:Worship
GEO:-33.4997606;151.3274231
X-APPLE-STRUCTURED-LOCATION;VALUE=URI;X-ADDRESS=St Matthews Lutheran Church 8 Jumbuck Cres Woy Woy NSW 2257 Australia;X-APPLE-RADIUS=500;X-TITLE=8 Jumbuck Cres:geo:151.3274231,-33.4997606
END:VEVENT
BEGIN:VEVENT
DTSTART;TZID=UTC:20231210T093000
DTEND;TZID=UTC:20231210T223000
DTSTAMP:20260420T072223
CREATED:20180812T165225Z
LAST-MODIFIED:20200323T030318Z
UID:10000275-1702200600-1702247400@woywoy.lutheran.org.au
SUMMARY:Online Worship Service
DESCRIPTION:As a temporary measure\, while State Government restrictions apply\, Sunday worships will be offered as simple live stream online via Facebook and YouTube.\nIt is possible to view the worships at a later date also.
URL:https://woywoy.lutheran.org.au/event/worship-service/2023-12-10/
LOCATION:St Matthews Lutheran Church\, 8 Jumbuck Cres\, Woy Woy\, NSW\, 2257\, Australia
CATEGORIES:Worship
GEO:-33.4997606;151.3274231
X-APPLE-STRUCTURED-LOCATION;VALUE=URI;X-ADDRESS=St Matthews Lutheran Church 8 Jumbuck Cres Woy Woy NSW 2257 Australia;X-APPLE-RADIUS=500;X-TITLE=8 Jumbuck Cres:geo:151.3274231,-33.4997606
END:VEVENT
BEGIN:VEVENT
DTSTART;TZID=UTC:20231210T093000
DTEND;TZID=UTC:20231210T223000
DTSTAMP:20260420T072223
CREATED:20180812T165225Z
LAST-MODIFIED:20211108T005628Z
UID:10000725-1702200600-1702247400@woywoy.lutheran.org.au
SUMMARY:Worship Service
DESCRIPTION:As the COVID-19 restrictions have been eased we have been able to return to our church and worship together almost as before. We will also continue our online presence. \nWelcome to St Matthew’s: at 8 Jumbuck Cres\, Facebook or YouTube! \nIt is possible to view the worships at a later date also.
URL:https://woywoy.lutheran.org.au/event/worship-service-2020-05-31/2023-12-10/
LOCATION:St Matthews Lutheran Church\, 8 Jumbuck Cres\, Woy Woy\, NSW\, 2257\, Australia
CATEGORIES:Worship
GEO:-33.4997606;151.3274231
X-APPLE-STRUCTURED-LOCATION;VALUE=URI;X-ADDRESS=St Matthews Lutheran Church 8 Jumbuck Cres Woy Woy NSW 2257 Australia;X-APPLE-RADIUS=500;X-TITLE=8 Jumbuck Cres:geo:151.3274231,-33.4997606
END:VEVENT
BEGIN:VEVENT
DTSTART;TZID=Australia/Sydney:20231206T100000
DTEND;TZID=Australia/Sydney:20231206T120000
DTSTAMP:20260420T072223
CREATED:20181010T003801Z
LAST-MODIFIED:20181212T052539Z
UID:10000537-1701856800-1701864000@woywoy.lutheran.org.au
SUMMARY:Lutheran Women's Fellowship group
DESCRIPTION:Join our wonderful women’s fellowship group who meet monthly for devotion\, bible study and prayer\, followed by lunch.
URL:https://woywoy.lutheran.org.au/event/lutheran-womens-fellowship-group-2019-02-06/2023-12-06/
LOCATION:St Matthews Lutheran Church\, 8 Jumbuck Cres\, Woy Woy\, NSW\, 2257\, Australia
CATEGORIES:Women
ATTACH;FMTTYPE=image/jpeg:https://woywoy.lutheran.org.au/wp-content/uploads/sites/146/2018/06/6.-LWNSW-Ladies-group-meeting-at-St-Matthews-NSW.jpg
GEO:-33.4997606;151.3274231
X-APPLE-STRUCTURED-LOCATION;VALUE=URI;X-ADDRESS=St Matthews Lutheran Church 8 Jumbuck Cres Woy Woy NSW 2257 Australia;X-APPLE-RADIUS=500;X-TITLE=8 Jumbuck Cres:geo:151.3274231,-33.4997606
END:VEVENT
BEGIN:VEVENT
DTSTART;TZID=Australia/Sydney:20231206T100000
DTEND;TZID=Australia/Sydney:20231206T120000
DTSTAMP:20260420T072223
CREATED:20181010T003801Z
LAST-MODIFIED:20181212T052540Z
UID:10000600-1701856800-1701864000@woywoy.lutheran.org.au
SUMMARY:Lutheran Women's Fellowship group
DESCRIPTION:Join our wonderful women’s fellowship group who meet monthly for devotion\, bible study and prayer\, followed by lunch.
URL:https://woywoy.lutheran.org.au/event/lutheran-womens-fellowship-group-2019-06-05/2023-12-06/
LOCATION:St Matthews Lutheran Church\, 8 Jumbuck Cres\, Woy Woy\, NSW\, 2257\, Australia
CATEGORIES:Women
ATTACH;FMTTYPE=image/jpeg:https://woywoy.lutheran.org.au/wp-content/uploads/sites/146/2018/06/6.-LWNSW-Ladies-group-meeting-at-St-Matthews-NSW.jpg
GEO:-33.4997606;151.3274231
X-APPLE-STRUCTURED-LOCATION;VALUE=URI;X-ADDRESS=St Matthews Lutheran Church 8 Jumbuck Cres Woy Woy NSW 2257 Australia;X-APPLE-RADIUS=500;X-TITLE=8 Jumbuck Cres:geo:151.3274231,-33.4997606
END:VEVENT
BEGIN:VEVENT
DTSTART;TZID=UTC:20231203T093000
DTEND;TZID=UTC:20231203T223000
DTSTAMP:20260420T072223
CREATED:20180812T165225Z
LAST-MODIFIED:20200323T030318Z
UID:10000274-1701595800-1701642600@woywoy.lutheran.org.au
SUMMARY:Online Worship Service
DESCRIPTION:As a temporary measure\, while State Government restrictions apply\, Sunday worships will be offered as simple live stream online via Facebook and YouTube.\nIt is possible to view the worships at a later date also.
URL:https://woywoy.lutheran.org.au/event/worship-service/2023-12-03/
LOCATION:St Matthews Lutheran Church\, 8 Jumbuck Cres\, Woy Woy\, NSW\, 2257\, Australia
CATEGORIES:Worship
GEO:-33.4997606;151.3274231
X-APPLE-STRUCTURED-LOCATION;VALUE=URI;X-ADDRESS=St Matthews Lutheran Church 8 Jumbuck Cres Woy Woy NSW 2257 Australia;X-APPLE-RADIUS=500;X-TITLE=8 Jumbuck Cres:geo:151.3274231,-33.4997606
END:VEVENT
BEGIN:VEVENT
DTSTART;TZID=UTC:20231203T093000
DTEND;TZID=UTC:20231203T223000
DTSTAMP:20260420T072223
CREATED:20180812T165225Z
LAST-MODIFIED:20211108T005628Z
UID:10000724-1701595800-1701642600@woywoy.lutheran.org.au
SUMMARY:Worship Service
DESCRIPTION:As the COVID-19 restrictions have been eased we have been able to return to our church and worship together almost as before. We will also continue our online presence. \nWelcome to St Matthew’s: at 8 Jumbuck Cres\, Facebook or YouTube! \nIt is possible to view the worships at a later date also.
URL:https://woywoy.lutheran.org.au/event/worship-service-2020-05-31/2023-12-03/
LOCATION:St Matthews Lutheran Church\, 8 Jumbuck Cres\, Woy Woy\, NSW\, 2257\, Australia
CATEGORIES:Worship
GEO:-33.4997606;151.3274231
X-APPLE-STRUCTURED-LOCATION;VALUE=URI;X-ADDRESS=St Matthews Lutheran Church 8 Jumbuck Cres Woy Woy NSW 2257 Australia;X-APPLE-RADIUS=500;X-TITLE=8 Jumbuck Cres:geo:151.3274231,-33.4997606
END:VEVENT
BEGIN:VEVENT
DTSTART;TZID=Australia/Sydney:20231203T093000
DTEND;TZID=Australia/Sydney:20231203T130000
DTSTAMP:20260420T072223
CREATED:20231116T215357Z
LAST-MODIFIED:20231116T215358Z
UID:10000911-1701595800-1701608400@woywoy.lutheran.org.au
SUMMARY:Advent Lunch
DESCRIPTION:You are invited to a special celebration at St Matthew’s\, as we enter the wonderful Advent time! As we prepare for our Lord Jesus Christ’s Incarnation\, we want to come together as a community to rejoice in the enduring message of His coming. \nDate: December 3rd\, 2023\nTime: 9:30am\nLocation: St Matthew’s Lutheran Church\, 8 Jumbuck Crescent\, Woy Woy NSW 2256 \nOur celebration will begin with the Advent Holy Communion service\, followed by a joyful gathering that includes a BBQ lunch. It’s an excellent opportunity for fellowship\, delicious food\, and connecting with fellow members of our congregation. \nWhether you’ve been a part of our church family for years or are new to our community\, this event is open to everyone. We encourage you to invite friends and family to share in this special occasion with us. \nPlease RSVP by November 29th\, 2023 so that we can ensure we have enough food prepared for everyone. You can RSVP Mechelle\, mechelle.haywood@gmail.com or John Haywood\, johnhaywo@gmail.com. \nWe look forward to celebrating the Advent time with you and sharing in the blessings of faith\, fellowship\, and good food. See you there!
URL:https://woywoy.lutheran.org.au/event/advent-lunch/
LOCATION:NSW
CATEGORIES:Worship
END:VEVENT
BEGIN:VEVENT
DTSTART;TZID=Australia/Sydney:20231202T110000
DTEND;TZID=Australia/Sydney:20231202T120000
DTSTAMP:20260420T072223
CREATED:20190219T020541Z
LAST-MODIFIED:20200309T043803Z
UID:10000891-1701514800-1701518400@woywoy.lutheran.org.au
SUMMARY:Gottesdienst auf Deutsch / German Worship Service
DESCRIPTION:
URL:https://woywoy.lutheran.org.au/event/german-worship-service/2023-12-02/
LOCATION:St Matthews Lutheran Church\, 8 Jumbuck Cres\, Woy Woy\, NSW\, 2257\, Australia
CATEGORIES:Worship
GEO:-33.4997606;151.3274231
X-APPLE-STRUCTURED-LOCATION;VALUE=URI;X-ADDRESS=St Matthews Lutheran Church 8 Jumbuck Cres Woy Woy NSW 2257 Australia;X-APPLE-RADIUS=500;X-TITLE=8 Jumbuck Cres:geo:151.3274231,-33.4997606
END:VEVENT
BEGIN:VEVENT
DTSTART;TZID=UTC:20231126T093000
DTEND;TZID=UTC:20231126T223000
DTSTAMP:20260420T072223
CREATED:20180812T165225Z
LAST-MODIFIED:20200323T030318Z
UID:10000273-1700991000-1701037800@woywoy.lutheran.org.au
SUMMARY:Online Worship Service
DESCRIPTION:As a temporary measure\, while State Government restrictions apply\, Sunday worships will be offered as simple live stream online via Facebook and YouTube.\nIt is possible to view the worships at a later date also.
URL:https://woywoy.lutheran.org.au/event/worship-service/2023-11-26/
LOCATION:St Matthews Lutheran Church\, 8 Jumbuck Cres\, Woy Woy\, NSW\, 2257\, Australia
CATEGORIES:Worship
GEO:-33.4997606;151.3274231
X-APPLE-STRUCTURED-LOCATION;VALUE=URI;X-ADDRESS=St Matthews Lutheran Church 8 Jumbuck Cres Woy Woy NSW 2257 Australia;X-APPLE-RADIUS=500;X-TITLE=8 Jumbuck Cres:geo:151.3274231,-33.4997606
END:VEVENT
BEGIN:VEVENT
DTSTART;TZID=UTC:20231126T093000
DTEND;TZID=UTC:20231126T223000
DTSTAMP:20260420T072223
CREATED:20180812T165225Z
LAST-MODIFIED:20211108T005628Z
UID:10000723-1700991000-1701037800@woywoy.lutheran.org.au
SUMMARY:Worship Service
DESCRIPTION:As the COVID-19 restrictions have been eased we have been able to return to our church and worship together almost as before. We will also continue our online presence. \nWelcome to St Matthew’s: at 8 Jumbuck Cres\, Facebook or YouTube! \nIt is possible to view the worships at a later date also.
URL:https://woywoy.lutheran.org.au/event/worship-service-2020-05-31/2023-11-26/
LOCATION:St Matthews Lutheran Church\, 8 Jumbuck Cres\, Woy Woy\, NSW\, 2257\, Australia
CATEGORIES:Worship
GEO:-33.4997606;151.3274231
X-APPLE-STRUCTURED-LOCATION;VALUE=URI;X-ADDRESS=St Matthews Lutheran Church 8 Jumbuck Cres Woy Woy NSW 2257 Australia;X-APPLE-RADIUS=500;X-TITLE=8 Jumbuck Cres:geo:151.3274231,-33.4997606
END:VEVENT
BEGIN:VEVENT
DTSTART;TZID=UTC:20231119T120000
DTEND;TZID=UTC:20231119T133000
DTSTAMP:20260420T072223
CREATED:20180812T165956Z
LAST-MODIFIED:20200309T044009Z
UID:10000457-1700395200-1700400600@woywoy.lutheran.org.au
SUMMARY:Jumalanpalvelus suomeksi Finnish Worship Service
DESCRIPTION:
URL:https://woywoy.lutheran.org.au/event/finnish-worship-services/2023-11-19/
LOCATION:St Matthews Lutheran Church\, 8 Jumbuck Cres\, Woy Woy\, NSW\, 2257\, Australia
CATEGORIES:Worship
GEO:-33.4997606;151.3274231
X-APPLE-STRUCTURED-LOCATION;VALUE=URI;X-ADDRESS=St Matthews Lutheran Church 8 Jumbuck Cres Woy Woy NSW 2257 Australia;X-APPLE-RADIUS=500;X-TITLE=8 Jumbuck Cres:geo:151.3274231,-33.4997606
END:VEVENT
BEGIN:VEVENT
DTSTART;TZID=UTC:20231119T093000
DTEND;TZID=UTC:20231119T223000
DTSTAMP:20260420T072223
CREATED:20180812T165225Z
LAST-MODIFIED:20200323T030318Z
UID:10000272-1700386200-1700433000@woywoy.lutheran.org.au
SUMMARY:Online Worship Service
DESCRIPTION:As a temporary measure\, while State Government restrictions apply\, Sunday worships will be offered as simple live stream online via Facebook and YouTube.\nIt is possible to view the worships at a later date also.
URL:https://woywoy.lutheran.org.au/event/worship-service/2023-11-19/
LOCATION:St Matthews Lutheran Church\, 8 Jumbuck Cres\, Woy Woy\, NSW\, 2257\, Australia
CATEGORIES:Worship
GEO:-33.4997606;151.3274231
X-APPLE-STRUCTURED-LOCATION;VALUE=URI;X-ADDRESS=St Matthews Lutheran Church 8 Jumbuck Cres Woy Woy NSW 2257 Australia;X-APPLE-RADIUS=500;X-TITLE=8 Jumbuck Cres:geo:151.3274231,-33.4997606
END:VEVENT
BEGIN:VEVENT
DTSTART;TZID=UTC:20231119T093000
DTEND;TZID=UTC:20231119T223000
DTSTAMP:20260420T072223
CREATED:20180812T165225Z
LAST-MODIFIED:20211108T005628Z
UID:10000722-1700386200-1700433000@woywoy.lutheran.org.au
SUMMARY:Worship Service
DESCRIPTION:As the COVID-19 restrictions have been eased we have been able to return to our church and worship together almost as before. We will also continue our online presence. \nWelcome to St Matthew’s: at 8 Jumbuck Cres\, Facebook or YouTube! \nIt is possible to view the worships at a later date also.
URL:https://woywoy.lutheran.org.au/event/worship-service-2020-05-31/2023-11-19/
LOCATION:St Matthews Lutheran Church\, 8 Jumbuck Cres\, Woy Woy\, NSW\, 2257\, Australia
CATEGORIES:Worship
GEO:-33.4997606;151.3274231
X-APPLE-STRUCTURED-LOCATION;VALUE=URI;X-ADDRESS=St Matthews Lutheran Church 8 Jumbuck Cres Woy Woy NSW 2257 Australia;X-APPLE-RADIUS=500;X-TITLE=8 Jumbuck Cres:geo:151.3274231,-33.4997606
END:VEVENT
BEGIN:VEVENT
DTSTART;TZID=UTC:20231112T093000
DTEND;TZID=UTC:20231112T223000
DTSTAMP:20260420T072223
CREATED:20180812T165225Z
LAST-MODIFIED:20211108T005628Z
UID:10000721-1699781400-1699828200@woywoy.lutheran.org.au
SUMMARY:Worship Service
DESCRIPTION:As the COVID-19 restrictions have been eased we have been able to return to our church and worship together almost as before. We will also continue our online presence. \nWelcome to St Matthew’s: at 8 Jumbuck Cres\, Facebook or YouTube! \nIt is possible to view the worships at a later date also.
URL:https://woywoy.lutheran.org.au/event/worship-service-2020-05-31/2023-11-12/
LOCATION:St Matthews Lutheran Church\, 8 Jumbuck Cres\, Woy Woy\, NSW\, 2257\, Australia
CATEGORIES:Worship
GEO:-33.4997606;151.3274231
X-APPLE-STRUCTURED-LOCATION;VALUE=URI;X-ADDRESS=St Matthews Lutheran Church 8 Jumbuck Cres Woy Woy NSW 2257 Australia;X-APPLE-RADIUS=500;X-TITLE=8 Jumbuck Cres:geo:151.3274231,-33.4997606
END:VEVENT
BEGIN:VEVENT
DTSTART;TZID=UTC:20231112T093000
DTEND;TZID=UTC:20231112T223000
DTSTAMP:20260420T072223
CREATED:20180812T165225Z
LAST-MODIFIED:20200323T030318Z
UID:10000271-1699781400-1699828200@woywoy.lutheran.org.au
SUMMARY:Online Worship Service
DESCRIPTION:As a temporary measure\, while State Government restrictions apply\, Sunday worships will be offered as simple live stream online via Facebook and YouTube.\nIt is possible to view the worships at a later date also.
URL:https://woywoy.lutheran.org.au/event/worship-service/2023-11-12/
LOCATION:St Matthews Lutheran Church\, 8 Jumbuck Cres\, Woy Woy\, NSW\, 2257\, Australia
CATEGORIES:Worship
GEO:-33.4997606;151.3274231
X-APPLE-STRUCTURED-LOCATION;VALUE=URI;X-ADDRESS=St Matthews Lutheran Church 8 Jumbuck Cres Woy Woy NSW 2257 Australia;X-APPLE-RADIUS=500;X-TITLE=8 Jumbuck Cres:geo:151.3274231,-33.4997606
END:VEVENT
BEGIN:VEVENT
DTSTART;TZID=UTC:20231105T093000
DTEND;TZID=UTC:20231105T223000
DTSTAMP:20260420T072223
CREATED:20180812T165225Z
LAST-MODIFIED:20200323T030318Z
UID:10000270-1699176600-1699223400@woywoy.lutheran.org.au
SUMMARY:Online Worship Service
DESCRIPTION:As a temporary measure\, while State Government restrictions apply\, Sunday worships will be offered as simple live stream online via Facebook and YouTube.\nIt is possible to view the worships at a later date also.
URL:https://woywoy.lutheran.org.au/event/worship-service/2023-11-05/
LOCATION:St Matthews Lutheran Church\, 8 Jumbuck Cres\, Woy Woy\, NSW\, 2257\, Australia
CATEGORIES:Worship
GEO:-33.4997606;151.3274231
X-APPLE-STRUCTURED-LOCATION;VALUE=URI;X-ADDRESS=St Matthews Lutheran Church 8 Jumbuck Cres Woy Woy NSW 2257 Australia;X-APPLE-RADIUS=500;X-TITLE=8 Jumbuck Cres:geo:151.3274231,-33.4997606
END:VEVENT
BEGIN:VEVENT
DTSTART;TZID=UTC:20231105T093000
DTEND;TZID=UTC:20231105T223000
DTSTAMP:20260420T072223
CREATED:20180812T165225Z
LAST-MODIFIED:20211108T005628Z
UID:10000720-1699176600-1699223400@woywoy.lutheran.org.au
SUMMARY:Worship Service
DESCRIPTION:As the COVID-19 restrictions have been eased we have been able to return to our church and worship together almost as before. We will also continue our online presence. \nWelcome to St Matthew’s: at 8 Jumbuck Cres\, Facebook or YouTube! \nIt is possible to view the worships at a later date also.
URL:https://woywoy.lutheran.org.au/event/worship-service-2020-05-31/2023-11-05/
LOCATION:St Matthews Lutheran Church\, 8 Jumbuck Cres\, Woy Woy\, NSW\, 2257\, Australia
CATEGORIES:Worship
GEO:-33.4997606;151.3274231
X-APPLE-STRUCTURED-LOCATION;VALUE=URI;X-ADDRESS=St Matthews Lutheran Church 8 Jumbuck Cres Woy Woy NSW 2257 Australia;X-APPLE-RADIUS=500;X-TITLE=8 Jumbuck Cres:geo:151.3274231,-33.4997606
END:VEVENT
BEGIN:VEVENT
DTSTART;TZID=Australia/Sydney:20231104T110000
DTEND;TZID=Australia/Sydney:20231104T120000
DTSTAMP:20260420T072223
CREATED:20190219T020541Z
LAST-MODIFIED:20200309T043803Z
UID:10000890-1699095600-1699099200@woywoy.lutheran.org.au
SUMMARY:Gottesdienst auf Deutsch / German Worship Service
DESCRIPTION:
URL:https://woywoy.lutheran.org.au/event/german-worship-service/2023-11-04/
LOCATION:St Matthews Lutheran Church\, 8 Jumbuck Cres\, Woy Woy\, NSW\, 2257\, Australia
CATEGORIES:Worship
GEO:-33.4997606;151.3274231
X-APPLE-STRUCTURED-LOCATION;VALUE=URI;X-ADDRESS=St Matthews Lutheran Church 8 Jumbuck Cres Woy Woy NSW 2257 Australia;X-APPLE-RADIUS=500;X-TITLE=8 Jumbuck Cres:geo:151.3274231,-33.4997606
END:VEVENT
BEGIN:VEVENT
DTSTART;TZID=Australia/Sydney:20231101T100000
DTEND;TZID=Australia/Sydney:20231101T120000
DTSTAMP:20260420T072223
CREATED:20181010T003801Z
LAST-MODIFIED:20181212T052540Z
UID:10000599-1698832800-1698840000@woywoy.lutheran.org.au
SUMMARY:Lutheran Women's Fellowship group
DESCRIPTION:Join our wonderful women’s fellowship group who meet monthly for devotion\, bible study and prayer\, followed by lunch.
URL:https://woywoy.lutheran.org.au/event/lutheran-womens-fellowship-group-2019-06-05/2023-11-01/
LOCATION:St Matthews Lutheran Church\, 8 Jumbuck Cres\, Woy Woy\, NSW\, 2257\, Australia
CATEGORIES:Women
ATTACH;FMTTYPE=image/jpeg:https://woywoy.lutheran.org.au/wp-content/uploads/sites/146/2018/06/6.-LWNSW-Ladies-group-meeting-at-St-Matthews-NSW.jpg
GEO:-33.4997606;151.3274231
X-APPLE-STRUCTURED-LOCATION;VALUE=URI;X-ADDRESS=St Matthews Lutheran Church 8 Jumbuck Cres Woy Woy NSW 2257 Australia;X-APPLE-RADIUS=500;X-TITLE=8 Jumbuck Cres:geo:151.3274231,-33.4997606
END:VEVENT
BEGIN:VEVENT
DTSTART;TZID=Australia/Sydney:20231101T100000
DTEND;TZID=Australia/Sydney:20231101T120000
DTSTAMP:20260420T072223
CREATED:20181010T003801Z
LAST-MODIFIED:20181212T052539Z
UID:10000536-1698832800-1698840000@woywoy.lutheran.org.au
SUMMARY:Lutheran Women's Fellowship group
DESCRIPTION:Join our wonderful women’s fellowship group who meet monthly for devotion\, bible study and prayer\, followed by lunch.
URL:https://woywoy.lutheran.org.au/event/lutheran-womens-fellowship-group-2019-02-06/2023-11-01/
LOCATION:St Matthews Lutheran Church\, 8 Jumbuck Cres\, Woy Woy\, NSW\, 2257\, Australia
CATEGORIES:Women
ATTACH;FMTTYPE=image/jpeg:https://woywoy.lutheran.org.au/wp-content/uploads/sites/146/2018/06/6.-LWNSW-Ladies-group-meeting-at-St-Matthews-NSW.jpg
GEO:-33.4997606;151.3274231
X-APPLE-STRUCTURED-LOCATION;VALUE=URI;X-ADDRESS=St Matthews Lutheran Church 8 Jumbuck Cres Woy Woy NSW 2257 Australia;X-APPLE-RADIUS=500;X-TITLE=8 Jumbuck Cres:geo:151.3274231,-33.4997606
END:VEVENT
BEGIN:VEVENT
DTSTART;TZID=UTC:20231029T093000
DTEND;TZID=UTC:20231029T223000
DTSTAMP:20260420T072223
CREATED:20180812T165225Z
LAST-MODIFIED:20211108T005628Z
UID:10000719-1698571800-1698618600@woywoy.lutheran.org.au
SUMMARY:Worship Service
DESCRIPTION:As the COVID-19 restrictions have been eased we have been able to return to our church and worship together almost as before. We will also continue our online presence. \nWelcome to St Matthew’s: at 8 Jumbuck Cres\, Facebook or YouTube! \nIt is possible to view the worships at a later date also.
URL:https://woywoy.lutheran.org.au/event/worship-service-2020-05-31/2023-10-29/
LOCATION:St Matthews Lutheran Church\, 8 Jumbuck Cres\, Woy Woy\, NSW\, 2257\, Australia
CATEGORIES:Worship
GEO:-33.4997606;151.3274231
X-APPLE-STRUCTURED-LOCATION;VALUE=URI;X-ADDRESS=St Matthews Lutheran Church 8 Jumbuck Cres Woy Woy NSW 2257 Australia;X-APPLE-RADIUS=500;X-TITLE=8 Jumbuck Cres:geo:151.3274231,-33.4997606
END:VEVENT
BEGIN:VEVENT
DTSTART;TZID=UTC:20231029T093000
DTEND;TZID=UTC:20231029T223000
DTSTAMP:20260420T072223
CREATED:20180812T165225Z
LAST-MODIFIED:20200323T030318Z
UID:10000269-1698571800-1698618600@woywoy.lutheran.org.au
SUMMARY:Online Worship Service
DESCRIPTION:As a temporary measure\, while State Government restrictions apply\, Sunday worships will be offered as simple live stream online via Facebook and YouTube.\nIt is possible to view the worships at a later date also.
URL:https://woywoy.lutheran.org.au/event/worship-service/2023-10-29/
LOCATION:St Matthews Lutheran Church\, 8 Jumbuck Cres\, Woy Woy\, NSW\, 2257\, Australia
CATEGORIES:Worship
GEO:-33.4997606;151.3274231
X-APPLE-STRUCTURED-LOCATION;VALUE=URI;X-ADDRESS=St Matthews Lutheran Church 8 Jumbuck Cres Woy Woy NSW 2257 Australia;X-APPLE-RADIUS=500;X-TITLE=8 Jumbuck Cres:geo:151.3274231,-33.4997606
END:VEVENT
BEGIN:VEVENT
DTSTART;TZID=Australia/Sydney:20231029T093000
DTEND;TZID=Australia/Sydney:20231029T130000
DTSTAMP:20260420T072223
CREATED:20231008T040927Z
LAST-MODIFIED:20231008T041059Z
UID:10000910-1698571800-1698584400@woywoy.lutheran.org.au
SUMMARY:Reformation Sunday lunch
DESCRIPTION:We are excited to invite you to join us for a special celebration at St Matthew’s commemorating the Reformation! As we reflect on this significant moment in history\, we want to come together as a community to rejoice in the enduring message of faith and transformation. \nDate: October 29th\, 2023\nTime: 9:30am\nLocation: St Matthew’s Lutheran Church\, 8 Jumbuck Crescent\, Woy Woy\, NSW 2256 \nOur celebration will begin with a special service dedicated to the Reformation\, followed by a joyful gathering that includes a BBQ lunch. It’s an excellent opportunity for fellowship\, delicious food\, and connecting with fellow members of our congregation. \nWhether you’ve been a part of our church family for years or are new to our community\, this event is open to everyone. We encourage you to invite friends and family to share in this special occasion with us. \nPlease RSVP by October 25th\, 2023 so that we can ensure we have enough food prepared for everyone. You can RSVP to mechelle.haywood@gmail.com or johnhaywo@gmail.com. \nWe look forward to celebrating the Reformation with you and sharing in the blessings of faith\, fellowship\, and good food. This promises to be a memorable day\, and we can’t wait to see you there! \nIn Christ’s love\, \nSt Matthew’s Congregation
URL:https://woywoy.lutheran.org.au/event/reformation-sunday-lunch/
LOCATION:NSW
END:VEVENT
BEGIN:VEVENT
DTSTART;TZID=UTC:20231022T093000
DTEND;TZID=UTC:20231022T223000
DTSTAMP:20260420T072223
CREATED:20180812T165225Z
LAST-MODIFIED:20200323T030318Z
UID:10000268-1697967000-1698013800@woywoy.lutheran.org.au
SUMMARY:Online Worship Service
DESCRIPTION:As a temporary measure\, while State Government restrictions apply\, Sunday worships will be offered as simple live stream online via Facebook and YouTube.\nIt is possible to view the worships at a later date also.
URL:https://woywoy.lutheran.org.au/event/worship-service/2023-10-22/
LOCATION:St Matthews Lutheran Church\, 8 Jumbuck Cres\, Woy Woy\, NSW\, 2257\, Australia
CATEGORIES:Worship
GEO:-33.4997606;151.3274231
X-APPLE-STRUCTURED-LOCATION;VALUE=URI;X-ADDRESS=St Matthews Lutheran Church 8 Jumbuck Cres Woy Woy NSW 2257 Australia;X-APPLE-RADIUS=500;X-TITLE=8 Jumbuck Cres:geo:151.3274231,-33.4997606
END:VEVENT
BEGIN:VEVENT
DTSTART;TZID=UTC:20231022T093000
DTEND;TZID=UTC:20231022T223000
DTSTAMP:20260420T072223
CREATED:20180812T165225Z
LAST-MODIFIED:20211108T005628Z
UID:10000718-1697967000-1698013800@woywoy.lutheran.org.au
SUMMARY:Worship Service
DESCRIPTION:As the COVID-19 restrictions have been eased we have been able to return to our church and worship together almost as before. We will also continue our online presence. \nWelcome to St Matthew’s: at 8 Jumbuck Cres\, Facebook or YouTube! \nIt is possible to view the worships at a later date also.
URL:https://woywoy.lutheran.org.au/event/worship-service-2020-05-31/2023-10-22/
LOCATION:St Matthews Lutheran Church\, 8 Jumbuck Cres\, Woy Woy\, NSW\, 2257\, Australia
CATEGORIES:Worship
GEO:-33.4997606;151.3274231
X-APPLE-STRUCTURED-LOCATION;VALUE=URI;X-ADDRESS=St Matthews Lutheran Church 8 Jumbuck Cres Woy Woy NSW 2257 Australia;X-APPLE-RADIUS=500;X-TITLE=8 Jumbuck Cres:geo:151.3274231,-33.4997606
END:VEVENT
BEGIN:VEVENT
DTSTART;TZID=UTC:20231015T120000
DTEND;TZID=UTC:20231015T133000
DTSTAMP:20260420T072223
CREATED:20180812T165956Z
LAST-MODIFIED:20200309T044009Z
UID:10000456-1697371200-1697376600@woywoy.lutheran.org.au
SUMMARY:Jumalanpalvelus suomeksi Finnish Worship Service
DESCRIPTION:
URL:https://woywoy.lutheran.org.au/event/finnish-worship-services/2023-10-15/
LOCATION:St Matthews Lutheran Church\, 8 Jumbuck Cres\, Woy Woy\, NSW\, 2257\, Australia
CATEGORIES:Worship
GEO:-33.4997606;151.3274231
X-APPLE-STRUCTURED-LOCATION;VALUE=URI;X-ADDRESS=St Matthews Lutheran Church 8 Jumbuck Cres Woy Woy NSW 2257 Australia;X-APPLE-RADIUS=500;X-TITLE=8 Jumbuck Cres:geo:151.3274231,-33.4997606
END:VEVENT
BEGIN:VEVENT
DTSTART;TZID=UTC:20231015T093000
DTEND;TZID=UTC:20231015T223000
DTSTAMP:20260420T072223
CREATED:20180812T165225Z
LAST-MODIFIED:20200323T030318Z
UID:10000267-1697362200-1697409000@woywoy.lutheran.org.au
SUMMARY:Online Worship Service
DESCRIPTION:As a temporary measure\, while State Government restrictions apply\, Sunday worships will be offered as simple live stream online via Facebook and YouTube.\nIt is possible to view the worships at a later date also.
URL:https://woywoy.lutheran.org.au/event/worship-service/2023-10-15/
LOCATION:St Matthews Lutheran Church\, 8 Jumbuck Cres\, Woy Woy\, NSW\, 2257\, Australia
CATEGORIES:Worship
GEO:-33.4997606;151.3274231
X-APPLE-STRUCTURED-LOCATION;VALUE=URI;X-ADDRESS=St Matthews Lutheran Church 8 Jumbuck Cres Woy Woy NSW 2257 Australia;X-APPLE-RADIUS=500;X-TITLE=8 Jumbuck Cres:geo:151.3274231,-33.4997606
END:VEVENT
BEGIN:VEVENT
DTSTART;TZID=UTC:20231015T093000
DTEND;TZID=UTC:20231015T223000
DTSTAMP:20260420T072223
CREATED:20180812T165225Z
LAST-MODIFIED:20211108T005628Z
UID:10000717-1697362200-1697409000@woywoy.lutheran.org.au
SUMMARY:Worship Service
DESCRIPTION:As the COVID-19 restrictions have been eased we have been able to return to our church and worship together almost as before. We will also continue our online presence. \nWelcome to St Matthew’s: at 8 Jumbuck Cres\, Facebook or YouTube! \nIt is possible to view the worships at a later date also.
URL:https://woywoy.lutheran.org.au/event/worship-service-2020-05-31/2023-10-15/
LOCATION:St Matthews Lutheran Church\, 8 Jumbuck Cres\, Woy Woy\, NSW\, 2257\, Australia
CATEGORIES:Worship
GEO:-33.4997606;151.3274231
X-APPLE-STRUCTURED-LOCATION;VALUE=URI;X-ADDRESS=St Matthews Lutheran Church 8 Jumbuck Cres Woy Woy NSW 2257 Australia;X-APPLE-RADIUS=500;X-TITLE=8 Jumbuck Cres:geo:151.3274231,-33.4997606
END:VEVENT
BEGIN:VEVENT
DTSTART;TZID=UTC:20231008T093000
DTEND;TZID=UTC:20231008T223000
DTSTAMP:20260420T072223
CREATED:20180812T165225Z
LAST-MODIFIED:20211108T005628Z
UID:10000716-1696757400-1696804200@woywoy.lutheran.org.au
SUMMARY:Worship Service
DESCRIPTION:As the COVID-19 restrictions have been eased we have been able to return to our church and worship together almost as before. We will also continue our online presence. \nWelcome to St Matthew’s: at 8 Jumbuck Cres\, Facebook or YouTube! \nIt is possible to view the worships at a later date also.
URL:https://woywoy.lutheran.org.au/event/worship-service-2020-05-31/2023-10-08/
LOCATION:St Matthews Lutheran Church\, 8 Jumbuck Cres\, Woy Woy\, NSW\, 2257\, Australia
CATEGORIES:Worship
GEO:-33.4997606;151.3274231
X-APPLE-STRUCTURED-LOCATION;VALUE=URI;X-ADDRESS=St Matthews Lutheran Church 8 Jumbuck Cres Woy Woy NSW 2257 Australia;X-APPLE-RADIUS=500;X-TITLE=8 Jumbuck Cres:geo:151.3274231,-33.4997606
END:VEVENT
END:VCALENDAR