BEGIN:VCALENDAR
VERSION:2.0
PRODID:-//St Matthew&#039;s Congregation Woy Woy, NSW - ECPv6.8.1//NONSGML v1.0//EN
CALSCALE:GREGORIAN
METHOD:PUBLISH
X-ORIGINAL-URL:https://woywoy.lutheran.org.au
X-WR-CALDESC:Events for St Matthew&#039;s Congregation Woy Woy, NSW
REFRESH-INTERVAL;VALUE=DURATION:PT1H
X-Robots-Tag:noindex
X-PUBLISHED-TTL:PT1H
BEGIN:VTIMEZONE
TZID:Australia/Sydney
BEGIN:STANDARD
TZOFFSETFROM:+1100
TZOFFSETTO:+1000
TZNAME:AEST
DTSTART:20290331T160000
END:STANDARD
BEGIN:DAYLIGHT
TZOFFSETFROM:+1000
TZOFFSETTO:+1100
TZNAME:AEDT
DTSTART:20291006T160000
END:DAYLIGHT
END:VTIMEZONE
BEGIN:VEVENT
DTSTART;TZID=Australia/Sydney:20290408T093000
DTEND;TZID=Australia/Sydney:20290408T223000
DTSTAMP:20260420T122207
CREATED:20260313T002855Z
LAST-MODIFIED:20260317T004248Z
UID:10001075-1870335000-1870381800@woywoy.lutheran.org.au
SUMMARY:Worship Service
DESCRIPTION:Please join us at 930am on Sundays for worship at 8 Jumbuck Cres Woy Woy\, NSW 2257
URL:https://woywoy.lutheran.org.au/event/worship-service-2/2029-04-08/
LOCATION:St Matthews Lutheran Church\, 8 Jumbuck Cres\, Woy Woy\, NSW\, 2257\, Australia
GEO:-33.4997606;151.3274231
X-APPLE-STRUCTURED-LOCATION;VALUE=URI;X-ADDRESS=St Matthews Lutheran Church 8 Jumbuck Cres Woy Woy NSW 2257 Australia;X-APPLE-RADIUS=500;X-TITLE=8 Jumbuck Cres:geo:151.3274231,-33.4997606
END:VEVENT
BEGIN:VEVENT
DTSTART;TZID=Australia/Sydney:20290415T093000
DTEND;TZID=Australia/Sydney:20290415T223000
DTSTAMP:20260420T122207
CREATED:20260313T002855Z
LAST-MODIFIED:20260317T004248Z
UID:10001076-1870939800-1870986600@woywoy.lutheran.org.au
SUMMARY:Worship Service
DESCRIPTION:Please join us at 930am on Sundays for worship at 8 Jumbuck Cres Woy Woy\, NSW 2257
URL:https://woywoy.lutheran.org.au/event/worship-service-2/2029-04-15/
LOCATION:St Matthews Lutheran Church\, 8 Jumbuck Cres\, Woy Woy\, NSW\, 2257\, Australia
GEO:-33.4997606;151.3274231
X-APPLE-STRUCTURED-LOCATION;VALUE=URI;X-ADDRESS=St Matthews Lutheran Church 8 Jumbuck Cres Woy Woy NSW 2257 Australia;X-APPLE-RADIUS=500;X-TITLE=8 Jumbuck Cres:geo:151.3274231,-33.4997606
END:VEVENT
BEGIN:VEVENT
DTSTART;TZID=Australia/Sydney:20290422T093000
DTEND;TZID=Australia/Sydney:20290422T223000
DTSTAMP:20260420T122207
CREATED:20260313T002855Z
LAST-MODIFIED:20260317T004248Z
UID:10001077-1871544600-1871591400@woywoy.lutheran.org.au
SUMMARY:Worship Service
DESCRIPTION:Please join us at 930am on Sundays for worship at 8 Jumbuck Cres Woy Woy\, NSW 2257
URL:https://woywoy.lutheran.org.au/event/worship-service-2/2029-04-22/
LOCATION:St Matthews Lutheran Church\, 8 Jumbuck Cres\, Woy Woy\, NSW\, 2257\, Australia
GEO:-33.4997606;151.3274231
X-APPLE-STRUCTURED-LOCATION;VALUE=URI;X-ADDRESS=St Matthews Lutheran Church 8 Jumbuck Cres Woy Woy NSW 2257 Australia;X-APPLE-RADIUS=500;X-TITLE=8 Jumbuck Cres:geo:151.3274231,-33.4997606
END:VEVENT
BEGIN:VEVENT
DTSTART;TZID=Australia/Sydney:20290429T093000
DTEND;TZID=Australia/Sydney:20290429T223000
DTSTAMP:20260420T122207
CREATED:20260313T002855Z
LAST-MODIFIED:20260317T004248Z
UID:10001078-1872149400-1872196200@woywoy.lutheran.org.au
SUMMARY:Worship Service
DESCRIPTION:Please join us at 930am on Sundays for worship at 8 Jumbuck Cres Woy Woy\, NSW 2257
URL:https://woywoy.lutheran.org.au/event/worship-service-2/2029-04-29/
LOCATION:St Matthews Lutheran Church\, 8 Jumbuck Cres\, Woy Woy\, NSW\, 2257\, Australia
GEO:-33.4997606;151.3274231
X-APPLE-STRUCTURED-LOCATION;VALUE=URI;X-ADDRESS=St Matthews Lutheran Church 8 Jumbuck Cres Woy Woy NSW 2257 Australia;X-APPLE-RADIUS=500;X-TITLE=8 Jumbuck Cres:geo:151.3274231,-33.4997606
END:VEVENT
BEGIN:VEVENT
DTSTART;TZID=Australia/Sydney:20290505T110000
DTEND;TZID=Australia/Sydney:20290505T120000
DTSTAMP:20260420T122207
CREATED:20260317T003737Z
LAST-MODIFIED:20260317T003737Z
UID:10001213-1872673200-1872676800@woywoy.lutheran.org.au
SUMMARY:Gottesdienst auf Deutsch / German Worship Service
DESCRIPTION:
URL:https://woywoy.lutheran.org.au/event/gottesdienst-auf-deutsch-german-worship-service/2029-05-05/
LOCATION:NSW
CATEGORIES:Worship
END:VEVENT
BEGIN:VEVENT
DTSTART;TZID=Australia/Sydney:20290506T093000
DTEND;TZID=Australia/Sydney:20290506T223000
DTSTAMP:20260420T122207
CREATED:20260313T002855Z
LAST-MODIFIED:20260317T004248Z
UID:10001079-1872754200-1872801000@woywoy.lutheran.org.au
SUMMARY:Worship Service
DESCRIPTION:Please join us at 930am on Sundays for worship at 8 Jumbuck Cres Woy Woy\, NSW 2257
URL:https://woywoy.lutheran.org.au/event/worship-service-2/2029-05-06/
LOCATION:St Matthews Lutheran Church\, 8 Jumbuck Cres\, Woy Woy\, NSW\, 2257\, Australia
GEO:-33.4997606;151.3274231
X-APPLE-STRUCTURED-LOCATION;VALUE=URI;X-ADDRESS=St Matthews Lutheran Church 8 Jumbuck Cres Woy Woy NSW 2257 Australia;X-APPLE-RADIUS=500;X-TITLE=8 Jumbuck Cres:geo:151.3274231,-33.4997606
END:VEVENT
BEGIN:VEVENT
DTSTART;TZID=Australia/Sydney:20290513T093000
DTEND;TZID=Australia/Sydney:20290513T223000
DTSTAMP:20260420T122207
CREATED:20260313T002855Z
LAST-MODIFIED:20260317T004248Z
UID:10001080-1873359000-1873405800@woywoy.lutheran.org.au
SUMMARY:Worship Service
DESCRIPTION:Please join us at 930am on Sundays for worship at 8 Jumbuck Cres Woy Woy\, NSW 2257
URL:https://woywoy.lutheran.org.au/event/worship-service-2/2029-05-13/
LOCATION:St Matthews Lutheran Church\, 8 Jumbuck Cres\, Woy Woy\, NSW\, 2257\, Australia
GEO:-33.4997606;151.3274231
X-APPLE-STRUCTURED-LOCATION;VALUE=URI;X-ADDRESS=St Matthews Lutheran Church 8 Jumbuck Cres Woy Woy NSW 2257 Australia;X-APPLE-RADIUS=500;X-TITLE=8 Jumbuck Cres:geo:151.3274231,-33.4997606
END:VEVENT
BEGIN:VEVENT
DTSTART;TZID=Australia/Sydney:20290520T093000
DTEND;TZID=Australia/Sydney:20290520T223000
DTSTAMP:20260420T122207
CREATED:20260313T002855Z
LAST-MODIFIED:20260317T004248Z
UID:10001081-1873963800-1874010600@woywoy.lutheran.org.au
SUMMARY:Worship Service
DESCRIPTION:Please join us at 930am on Sundays for worship at 8 Jumbuck Cres Woy Woy\, NSW 2257
URL:https://woywoy.lutheran.org.au/event/worship-service-2/2029-05-20/
LOCATION:St Matthews Lutheran Church\, 8 Jumbuck Cres\, Woy Woy\, NSW\, 2257\, Australia
GEO:-33.4997606;151.3274231
X-APPLE-STRUCTURED-LOCATION;VALUE=URI;X-ADDRESS=St Matthews Lutheran Church 8 Jumbuck Cres Woy Woy NSW 2257 Australia;X-APPLE-RADIUS=500;X-TITLE=8 Jumbuck Cres:geo:151.3274231,-33.4997606
END:VEVENT
BEGIN:VEVENT
DTSTART;TZID=Australia/Sydney:20290527T093000
DTEND;TZID=Australia/Sydney:20290527T223000
DTSTAMP:20260420T122207
CREATED:20260313T002855Z
LAST-MODIFIED:20260317T004248Z
UID:10001082-1874568600-1874615400@woywoy.lutheran.org.au
SUMMARY:Worship Service
DESCRIPTION:Please join us at 930am on Sundays for worship at 8 Jumbuck Cres Woy Woy\, NSW 2257
URL:https://woywoy.lutheran.org.au/event/worship-service-2/2029-05-27/
LOCATION:St Matthews Lutheran Church\, 8 Jumbuck Cres\, Woy Woy\, NSW\, 2257\, Australia
GEO:-33.4997606;151.3274231
X-APPLE-STRUCTURED-LOCATION;VALUE=URI;X-ADDRESS=St Matthews Lutheran Church 8 Jumbuck Cres Woy Woy NSW 2257 Australia;X-APPLE-RADIUS=500;X-TITLE=8 Jumbuck Cres:geo:151.3274231,-33.4997606
END:VEVENT
BEGIN:VEVENT
DTSTART;TZID=Australia/Sydney:20290602T110000
DTEND;TZID=Australia/Sydney:20290602T120000
DTSTAMP:20260420T122207
CREATED:20260317T003737Z
LAST-MODIFIED:20260317T003737Z
UID:10001214-1875092400-1875096000@woywoy.lutheran.org.au
SUMMARY:Gottesdienst auf Deutsch / German Worship Service
DESCRIPTION:
URL:https://woywoy.lutheran.org.au/event/gottesdienst-auf-deutsch-german-worship-service/2029-06-02/
LOCATION:NSW
CATEGORIES:Worship
END:VEVENT
BEGIN:VEVENT
DTSTART;TZID=Australia/Sydney:20290603T093000
DTEND;TZID=Australia/Sydney:20290603T223000
DTSTAMP:20260420T122207
CREATED:20260313T002855Z
LAST-MODIFIED:20260317T004248Z
UID:10001083-1875173400-1875220200@woywoy.lutheran.org.au
SUMMARY:Worship Service
DESCRIPTION:Please join us at 930am on Sundays for worship at 8 Jumbuck Cres Woy Woy\, NSW 2257
URL:https://woywoy.lutheran.org.au/event/worship-service-2/2029-06-03/
LOCATION:St Matthews Lutheran Church\, 8 Jumbuck Cres\, Woy Woy\, NSW\, 2257\, Australia
GEO:-33.4997606;151.3274231
X-APPLE-STRUCTURED-LOCATION;VALUE=URI;X-ADDRESS=St Matthews Lutheran Church 8 Jumbuck Cres Woy Woy NSW 2257 Australia;X-APPLE-RADIUS=500;X-TITLE=8 Jumbuck Cres:geo:151.3274231,-33.4997606
END:VEVENT
BEGIN:VEVENT
DTSTART;TZID=Australia/Sydney:20290610T093000
DTEND;TZID=Australia/Sydney:20290610T223000
DTSTAMP:20260420T122207
CREATED:20260313T002855Z
LAST-MODIFIED:20260317T004248Z
UID:10001084-1875778200-1875825000@woywoy.lutheran.org.au
SUMMARY:Worship Service
DESCRIPTION:Please join us at 930am on Sundays for worship at 8 Jumbuck Cres Woy Woy\, NSW 2257
URL:https://woywoy.lutheran.org.au/event/worship-service-2/2029-06-10/
LOCATION:St Matthews Lutheran Church\, 8 Jumbuck Cres\, Woy Woy\, NSW\, 2257\, Australia
GEO:-33.4997606;151.3274231
X-APPLE-STRUCTURED-LOCATION;VALUE=URI;X-ADDRESS=St Matthews Lutheran Church 8 Jumbuck Cres Woy Woy NSW 2257 Australia;X-APPLE-RADIUS=500;X-TITLE=8 Jumbuck Cres:geo:151.3274231,-33.4997606
END:VEVENT
BEGIN:VEVENT
DTSTART;TZID=Australia/Sydney:20290617T093000
DTEND;TZID=Australia/Sydney:20290617T223000
DTSTAMP:20260420T122207
CREATED:20260313T002855Z
LAST-MODIFIED:20260317T004248Z
UID:10001085-1876383000-1876429800@woywoy.lutheran.org.au
SUMMARY:Worship Service
DESCRIPTION:Please join us at 930am on Sundays for worship at 8 Jumbuck Cres Woy Woy\, NSW 2257
URL:https://woywoy.lutheran.org.au/event/worship-service-2/2029-06-17/
LOCATION:St Matthews Lutheran Church\, 8 Jumbuck Cres\, Woy Woy\, NSW\, 2257\, Australia
GEO:-33.4997606;151.3274231
X-APPLE-STRUCTURED-LOCATION;VALUE=URI;X-ADDRESS=St Matthews Lutheran Church 8 Jumbuck Cres Woy Woy NSW 2257 Australia;X-APPLE-RADIUS=500;X-TITLE=8 Jumbuck Cres:geo:151.3274231,-33.4997606
END:VEVENT
BEGIN:VEVENT
DTSTART;TZID=Australia/Sydney:20290624T093000
DTEND;TZID=Australia/Sydney:20290624T223000
DTSTAMP:20260420T122207
CREATED:20260313T002855Z
LAST-MODIFIED:20260317T004248Z
UID:10001086-1876987800-1877034600@woywoy.lutheran.org.au
SUMMARY:Worship Service
DESCRIPTION:Please join us at 930am on Sundays for worship at 8 Jumbuck Cres Woy Woy\, NSW 2257
URL:https://woywoy.lutheran.org.au/event/worship-service-2/2029-06-24/
LOCATION:St Matthews Lutheran Church\, 8 Jumbuck Cres\, Woy Woy\, NSW\, 2257\, Australia
GEO:-33.4997606;151.3274231
X-APPLE-STRUCTURED-LOCATION;VALUE=URI;X-ADDRESS=St Matthews Lutheran Church 8 Jumbuck Cres Woy Woy NSW 2257 Australia;X-APPLE-RADIUS=500;X-TITLE=8 Jumbuck Cres:geo:151.3274231,-33.4997606
END:VEVENT
BEGIN:VEVENT
DTSTART;TZID=Australia/Sydney:20290701T093000
DTEND;TZID=Australia/Sydney:20290701T223000
DTSTAMP:20260420T122207
CREATED:20260313T002855Z
LAST-MODIFIED:20260317T004248Z
UID:10001087-1877592600-1877639400@woywoy.lutheran.org.au
SUMMARY:Worship Service
DESCRIPTION:Please join us at 930am on Sundays for worship at 8 Jumbuck Cres Woy Woy\, NSW 2257
URL:https://woywoy.lutheran.org.au/event/worship-service-2/2029-07-01/
LOCATION:St Matthews Lutheran Church\, 8 Jumbuck Cres\, Woy Woy\, NSW\, 2257\, Australia
GEO:-33.4997606;151.3274231
X-APPLE-STRUCTURED-LOCATION;VALUE=URI;X-ADDRESS=St Matthews Lutheran Church 8 Jumbuck Cres Woy Woy NSW 2257 Australia;X-APPLE-RADIUS=500;X-TITLE=8 Jumbuck Cres:geo:151.3274231,-33.4997606
END:VEVENT
BEGIN:VEVENT
DTSTART;TZID=Australia/Sydney:20290707T110000
DTEND;TZID=Australia/Sydney:20290707T120000
DTSTAMP:20260420T122207
CREATED:20260317T003737Z
LAST-MODIFIED:20260317T003737Z
UID:10001215-1878116400-1878120000@woywoy.lutheran.org.au
SUMMARY:Gottesdienst auf Deutsch / German Worship Service
DESCRIPTION:
URL:https://woywoy.lutheran.org.au/event/gottesdienst-auf-deutsch-german-worship-service/2029-07-07/
LOCATION:NSW
CATEGORIES:Worship
END:VEVENT
BEGIN:VEVENT
DTSTART;TZID=Australia/Sydney:20290708T093000
DTEND;TZID=Australia/Sydney:20290708T223000
DTSTAMP:20260420T122207
CREATED:20260313T002855Z
LAST-MODIFIED:20260317T004248Z
UID:10001088-1878197400-1878244200@woywoy.lutheran.org.au
SUMMARY:Worship Service
DESCRIPTION:Please join us at 930am on Sundays for worship at 8 Jumbuck Cres Woy Woy\, NSW 2257
URL:https://woywoy.lutheran.org.au/event/worship-service-2/2029-07-08/
LOCATION:St Matthews Lutheran Church\, 8 Jumbuck Cres\, Woy Woy\, NSW\, 2257\, Australia
GEO:-33.4997606;151.3274231
X-APPLE-STRUCTURED-LOCATION;VALUE=URI;X-ADDRESS=St Matthews Lutheran Church 8 Jumbuck Cres Woy Woy NSW 2257 Australia;X-APPLE-RADIUS=500;X-TITLE=8 Jumbuck Cres:geo:151.3274231,-33.4997606
END:VEVENT
BEGIN:VEVENT
DTSTART;TZID=Australia/Sydney:20290715T093000
DTEND;TZID=Australia/Sydney:20290715T223000
DTSTAMP:20260420T122207
CREATED:20260313T002855Z
LAST-MODIFIED:20260317T004248Z
UID:10001089-1878802200-1878849000@woywoy.lutheran.org.au
SUMMARY:Worship Service
DESCRIPTION:Please join us at 930am on Sundays for worship at 8 Jumbuck Cres Woy Woy\, NSW 2257
URL:https://woywoy.lutheran.org.au/event/worship-service-2/2029-07-15/
LOCATION:St Matthews Lutheran Church\, 8 Jumbuck Cres\, Woy Woy\, NSW\, 2257\, Australia
GEO:-33.4997606;151.3274231
X-APPLE-STRUCTURED-LOCATION;VALUE=URI;X-ADDRESS=St Matthews Lutheran Church 8 Jumbuck Cres Woy Woy NSW 2257 Australia;X-APPLE-RADIUS=500;X-TITLE=8 Jumbuck Cres:geo:151.3274231,-33.4997606
END:VEVENT
BEGIN:VEVENT
DTSTART;TZID=Australia/Sydney:20290722T093000
DTEND;TZID=Australia/Sydney:20290722T223000
DTSTAMP:20260420T122207
CREATED:20260313T002855Z
LAST-MODIFIED:20260317T004248Z
UID:10001090-1879407000-1879453800@woywoy.lutheran.org.au
SUMMARY:Worship Service
DESCRIPTION:Please join us at 930am on Sundays for worship at 8 Jumbuck Cres Woy Woy\, NSW 2257
URL:https://woywoy.lutheran.org.au/event/worship-service-2/2029-07-22/
LOCATION:St Matthews Lutheran Church\, 8 Jumbuck Cres\, Woy Woy\, NSW\, 2257\, Australia
GEO:-33.4997606;151.3274231
X-APPLE-STRUCTURED-LOCATION;VALUE=URI;X-ADDRESS=St Matthews Lutheran Church 8 Jumbuck Cres Woy Woy NSW 2257 Australia;X-APPLE-RADIUS=500;X-TITLE=8 Jumbuck Cres:geo:151.3274231,-33.4997606
END:VEVENT
BEGIN:VEVENT
DTSTART;TZID=Australia/Sydney:20290729T093000
DTEND;TZID=Australia/Sydney:20290729T223000
DTSTAMP:20260420T122207
CREATED:20260313T002855Z
LAST-MODIFIED:20260317T004248Z
UID:10001091-1880011800-1880058600@woywoy.lutheran.org.au
SUMMARY:Worship Service
DESCRIPTION:Please join us at 930am on Sundays for worship at 8 Jumbuck Cres Woy Woy\, NSW 2257
URL:https://woywoy.lutheran.org.au/event/worship-service-2/2029-07-29/
LOCATION:St Matthews Lutheran Church\, 8 Jumbuck Cres\, Woy Woy\, NSW\, 2257\, Australia
GEO:-33.4997606;151.3274231
X-APPLE-STRUCTURED-LOCATION;VALUE=URI;X-ADDRESS=St Matthews Lutheran Church 8 Jumbuck Cres Woy Woy NSW 2257 Australia;X-APPLE-RADIUS=500;X-TITLE=8 Jumbuck Cres:geo:151.3274231,-33.4997606
END:VEVENT
BEGIN:VEVENT
DTSTART;TZID=Australia/Sydney:20290804T110000
DTEND;TZID=Australia/Sydney:20290804T120000
DTSTAMP:20260420T122207
CREATED:20260317T003737Z
LAST-MODIFIED:20260317T003737Z
UID:10001216-1880535600-1880539200@woywoy.lutheran.org.au
SUMMARY:Gottesdienst auf Deutsch / German Worship Service
DESCRIPTION:
URL:https://woywoy.lutheran.org.au/event/gottesdienst-auf-deutsch-german-worship-service/2029-08-04/
LOCATION:NSW
CATEGORIES:Worship
END:VEVENT
BEGIN:VEVENT
DTSTART;TZID=Australia/Sydney:20290805T093000
DTEND;TZID=Australia/Sydney:20290805T223000
DTSTAMP:20260420T122207
CREATED:20260313T002855Z
LAST-MODIFIED:20260317T004248Z
UID:10001092-1880616600-1880663400@woywoy.lutheran.org.au
SUMMARY:Worship Service
DESCRIPTION:Please join us at 930am on Sundays for worship at 8 Jumbuck Cres Woy Woy\, NSW 2257
URL:https://woywoy.lutheran.org.au/event/worship-service-2/2029-08-05/
LOCATION:St Matthews Lutheran Church\, 8 Jumbuck Cres\, Woy Woy\, NSW\, 2257\, Australia
GEO:-33.4997606;151.3274231
X-APPLE-STRUCTURED-LOCATION;VALUE=URI;X-ADDRESS=St Matthews Lutheran Church 8 Jumbuck Cres Woy Woy NSW 2257 Australia;X-APPLE-RADIUS=500;X-TITLE=8 Jumbuck Cres:geo:151.3274231,-33.4997606
END:VEVENT
BEGIN:VEVENT
DTSTART;TZID=Australia/Sydney:20290812T093000
DTEND;TZID=Australia/Sydney:20290812T223000
DTSTAMP:20260420T122207
CREATED:20260313T002855Z
LAST-MODIFIED:20260317T004248Z
UID:10001093-1881221400-1881268200@woywoy.lutheran.org.au
SUMMARY:Worship Service
DESCRIPTION:Please join us at 930am on Sundays for worship at 8 Jumbuck Cres Woy Woy\, NSW 2257
URL:https://woywoy.lutheran.org.au/event/worship-service-2/2029-08-12/
LOCATION:St Matthews Lutheran Church\, 8 Jumbuck Cres\, Woy Woy\, NSW\, 2257\, Australia
GEO:-33.4997606;151.3274231
X-APPLE-STRUCTURED-LOCATION;VALUE=URI;X-ADDRESS=St Matthews Lutheran Church 8 Jumbuck Cres Woy Woy NSW 2257 Australia;X-APPLE-RADIUS=500;X-TITLE=8 Jumbuck Cres:geo:151.3274231,-33.4997606
END:VEVENT
BEGIN:VEVENT
DTSTART;TZID=Australia/Sydney:20290819T093000
DTEND;TZID=Australia/Sydney:20290819T223000
DTSTAMP:20260420T122207
CREATED:20260313T002855Z
LAST-MODIFIED:20260317T004248Z
UID:10001094-1881826200-1881873000@woywoy.lutheran.org.au
SUMMARY:Worship Service
DESCRIPTION:Please join us at 930am on Sundays for worship at 8 Jumbuck Cres Woy Woy\, NSW 2257
URL:https://woywoy.lutheran.org.au/event/worship-service-2/2029-08-19/
LOCATION:St Matthews Lutheran Church\, 8 Jumbuck Cres\, Woy Woy\, NSW\, 2257\, Australia
GEO:-33.4997606;151.3274231
X-APPLE-STRUCTURED-LOCATION;VALUE=URI;X-ADDRESS=St Matthews Lutheran Church 8 Jumbuck Cres Woy Woy NSW 2257 Australia;X-APPLE-RADIUS=500;X-TITLE=8 Jumbuck Cres:geo:151.3274231,-33.4997606
END:VEVENT
BEGIN:VEVENT
DTSTART;TZID=Australia/Sydney:20290826T093000
DTEND;TZID=Australia/Sydney:20290826T223000
DTSTAMP:20260420T122207
CREATED:20260313T002855Z
LAST-MODIFIED:20260317T004248Z
UID:10001095-1882431000-1882477800@woywoy.lutheran.org.au
SUMMARY:Worship Service
DESCRIPTION:Please join us at 930am on Sundays for worship at 8 Jumbuck Cres Woy Woy\, NSW 2257
URL:https://woywoy.lutheran.org.au/event/worship-service-2/2029-08-26/
LOCATION:St Matthews Lutheran Church\, 8 Jumbuck Cres\, Woy Woy\, NSW\, 2257\, Australia
GEO:-33.4997606;151.3274231
X-APPLE-STRUCTURED-LOCATION;VALUE=URI;X-ADDRESS=St Matthews Lutheran Church 8 Jumbuck Cres Woy Woy NSW 2257 Australia;X-APPLE-RADIUS=500;X-TITLE=8 Jumbuck Cres:geo:151.3274231,-33.4997606
END:VEVENT
BEGIN:VEVENT
DTSTART;TZID=Australia/Sydney:20290901T110000
DTEND;TZID=Australia/Sydney:20290901T120000
DTSTAMP:20260420T122207
CREATED:20260317T003737Z
LAST-MODIFIED:20260317T003737Z
UID:10001217-1882954800-1882958400@woywoy.lutheran.org.au
SUMMARY:Gottesdienst auf Deutsch / German Worship Service
DESCRIPTION:
URL:https://woywoy.lutheran.org.au/event/gottesdienst-auf-deutsch-german-worship-service/2029-09-01/
LOCATION:NSW
CATEGORIES:Worship
END:VEVENT
BEGIN:VEVENT
DTSTART;TZID=Australia/Sydney:20290902T093000
DTEND;TZID=Australia/Sydney:20290902T223000
DTSTAMP:20260420T122207
CREATED:20260313T002855Z
LAST-MODIFIED:20260317T004248Z
UID:10001096-1883035800-1883082600@woywoy.lutheran.org.au
SUMMARY:Worship Service
DESCRIPTION:Please join us at 930am on Sundays for worship at 8 Jumbuck Cres Woy Woy\, NSW 2257
URL:https://woywoy.lutheran.org.au/event/worship-service-2/2029-09-02/
LOCATION:St Matthews Lutheran Church\, 8 Jumbuck Cres\, Woy Woy\, NSW\, 2257\, Australia
GEO:-33.4997606;151.3274231
X-APPLE-STRUCTURED-LOCATION;VALUE=URI;X-ADDRESS=St Matthews Lutheran Church 8 Jumbuck Cres Woy Woy NSW 2257 Australia;X-APPLE-RADIUS=500;X-TITLE=8 Jumbuck Cres:geo:151.3274231,-33.4997606
END:VEVENT
BEGIN:VEVENT
DTSTART;TZID=Australia/Sydney:20290909T093000
DTEND;TZID=Australia/Sydney:20290909T223000
DTSTAMP:20260420T122207
CREATED:20260313T002855Z
LAST-MODIFIED:20260317T004248Z
UID:10001097-1883640600-1883687400@woywoy.lutheran.org.au
SUMMARY:Worship Service
DESCRIPTION:Please join us at 930am on Sundays for worship at 8 Jumbuck Cres Woy Woy\, NSW 2257
URL:https://woywoy.lutheran.org.au/event/worship-service-2/2029-09-09/
LOCATION:St Matthews Lutheran Church\, 8 Jumbuck Cres\, Woy Woy\, NSW\, 2257\, Australia
GEO:-33.4997606;151.3274231
X-APPLE-STRUCTURED-LOCATION;VALUE=URI;X-ADDRESS=St Matthews Lutheran Church 8 Jumbuck Cres Woy Woy NSW 2257 Australia;X-APPLE-RADIUS=500;X-TITLE=8 Jumbuck Cres:geo:151.3274231,-33.4997606
END:VEVENT
BEGIN:VEVENT
DTSTART;TZID=Australia/Sydney:20290916T093000
DTEND;TZID=Australia/Sydney:20290916T223000
DTSTAMP:20260420T122207
CREATED:20260313T002855Z
LAST-MODIFIED:20260317T004248Z
UID:10001098-1884245400-1884292200@woywoy.lutheran.org.au
SUMMARY:Worship Service
DESCRIPTION:Please join us at 930am on Sundays for worship at 8 Jumbuck Cres Woy Woy\, NSW 2257
URL:https://woywoy.lutheran.org.au/event/worship-service-2/2029-09-16/
LOCATION:St Matthews Lutheran Church\, 8 Jumbuck Cres\, Woy Woy\, NSW\, 2257\, Australia
GEO:-33.4997606;151.3274231
X-APPLE-STRUCTURED-LOCATION;VALUE=URI;X-ADDRESS=St Matthews Lutheran Church 8 Jumbuck Cres Woy Woy NSW 2257 Australia;X-APPLE-RADIUS=500;X-TITLE=8 Jumbuck Cres:geo:151.3274231,-33.4997606
END:VEVENT
BEGIN:VEVENT
DTSTART;TZID=Australia/Sydney:20290923T093000
DTEND;TZID=Australia/Sydney:20290923T223000
DTSTAMP:20260420T122207
CREATED:20260313T002855Z
LAST-MODIFIED:20260317T004248Z
UID:10001099-1884850200-1884897000@woywoy.lutheran.org.au
SUMMARY:Worship Service
DESCRIPTION:Please join us at 930am on Sundays for worship at 8 Jumbuck Cres Woy Woy\, NSW 2257
URL:https://woywoy.lutheran.org.au/event/worship-service-2/2029-09-23/
LOCATION:St Matthews Lutheran Church\, 8 Jumbuck Cres\, Woy Woy\, NSW\, 2257\, Australia
GEO:-33.4997606;151.3274231
X-APPLE-STRUCTURED-LOCATION;VALUE=URI;X-ADDRESS=St Matthews Lutheran Church 8 Jumbuck Cres Woy Woy NSW 2257 Australia;X-APPLE-RADIUS=500;X-TITLE=8 Jumbuck Cres:geo:151.3274231,-33.4997606
END:VEVENT
END:VCALENDAR