BEGIN:VCALENDAR
VERSION:2.0
PRODID:-//St Matthew&#039;s Congregation Woy Woy, NSW - ECPv6.8.1//NONSGML v1.0//EN
CALSCALE:GREGORIAN
METHOD:PUBLISH
X-WR-CALNAME:St Matthew&#039;s Congregation Woy Woy, NSW
X-ORIGINAL-URL:https://woywoy.lutheran.org.au
X-WR-CALDESC:Events for St Matthew&#039;s Congregation Woy Woy, NSW
REFRESH-INTERVAL;VALUE=DURATION:PT1H
X-Robots-Tag:noindex
X-PUBLISHED-TTL:PT1H
BEGIN:VTIMEZONE
TZID:UTC
BEGIN:STANDARD
TZOFFSETFROM:+0000
TZOFFSETTO:+0000
TZNAME:UTC
DTSTART:20230101T000000
END:STANDARD
TZID:Australia/Sydney
BEGIN:STANDARD
TZOFFSETFROM:+1100
TZOFFSETTO:+1000
TZNAME:AEST
DTSTART:20230401T160000
END:STANDARD
BEGIN:DAYLIGHT
TZOFFSETFROM:+1000
TZOFFSETTO:+1100
TZNAME:AEDT
DTSTART:20230930T160000
END:DAYLIGHT
END:VTIMEZONE
BEGIN:VEVENT
DTSTART;TZID=UTC:20230521T093000
DTEND;TZID=UTC:20230521T223000
DTSTAMP:20260421T134033
CREATED:20180812T165225Z
LAST-MODIFIED:20200323T030318Z
UID:10000246-1684661400-1684708200@woywoy.lutheran.org.au
SUMMARY:Online Worship Service
DESCRIPTION:As a temporary measure\, while State Government restrictions apply\, Sunday worships will be offered as simple live stream online via Facebook and YouTube.\nIt is possible to view the worships at a later date also.
URL:https://woywoy.lutheran.org.au/event/worship-service/2023-05-21/
LOCATION:St Matthews Lutheran Church\, 8 Jumbuck Cres\, Woy Woy\, NSW\, 2257\, Australia
CATEGORIES:Worship
GEO:-33.4997606;151.3274231
X-APPLE-STRUCTURED-LOCATION;VALUE=URI;X-ADDRESS=St Matthews Lutheran Church 8 Jumbuck Cres Woy Woy NSW 2257 Australia;X-APPLE-RADIUS=500;X-TITLE=8 Jumbuck Cres:geo:151.3274231,-33.4997606
END:VEVENT
BEGIN:VEVENT
DTSTART;TZID=UTC:20230514T093000
DTEND;TZID=UTC:20230514T223000
DTSTAMP:20260421T134033
CREATED:20180812T165225Z
LAST-MODIFIED:20200323T030318Z
UID:10000245-1684056600-1684103400@woywoy.lutheran.org.au
SUMMARY:Online Worship Service
DESCRIPTION:As a temporary measure\, while State Government restrictions apply\, Sunday worships will be offered as simple live stream online via Facebook and YouTube.\nIt is possible to view the worships at a later date also.
URL:https://woywoy.lutheran.org.au/event/worship-service/2023-05-14/
LOCATION:St Matthews Lutheran Church\, 8 Jumbuck Cres\, Woy Woy\, NSW\, 2257\, Australia
CATEGORIES:Worship
GEO:-33.4997606;151.3274231
X-APPLE-STRUCTURED-LOCATION;VALUE=URI;X-ADDRESS=St Matthews Lutheran Church 8 Jumbuck Cres Woy Woy NSW 2257 Australia;X-APPLE-RADIUS=500;X-TITLE=8 Jumbuck Cres:geo:151.3274231,-33.4997606
END:VEVENT
BEGIN:VEVENT
DTSTART;TZID=UTC:20230514T093000
DTEND;TZID=UTC:20230514T223000
DTSTAMP:20260421T134033
CREATED:20180812T165225Z
LAST-MODIFIED:20211108T005628Z
UID:10000695-1684056600-1684103400@woywoy.lutheran.org.au
SUMMARY:Worship Service
DESCRIPTION:As the COVID-19 restrictions have been eased we have been able to return to our church and worship together almost as before. We will also continue our online presence. \nWelcome to St Matthew’s: at 8 Jumbuck Cres\, Facebook or YouTube! \nIt is possible to view the worships at a later date also.
URL:https://woywoy.lutheran.org.au/event/worship-service-2020-05-31/2023-05-14/
LOCATION:St Matthews Lutheran Church\, 8 Jumbuck Cres\, Woy Woy\, NSW\, 2257\, Australia
CATEGORIES:Worship
GEO:-33.4997606;151.3274231
X-APPLE-STRUCTURED-LOCATION;VALUE=URI;X-ADDRESS=St Matthews Lutheran Church 8 Jumbuck Cres Woy Woy NSW 2257 Australia;X-APPLE-RADIUS=500;X-TITLE=8 Jumbuck Cres:geo:151.3274231,-33.4997606
END:VEVENT
BEGIN:VEVENT
DTSTART;TZID=UTC:20230507T093000
DTEND;TZID=UTC:20230507T223000
DTSTAMP:20260421T134033
CREATED:20180812T165225Z
LAST-MODIFIED:20211108T005628Z
UID:10000694-1683451800-1683498600@woywoy.lutheran.org.au
SUMMARY:Worship Service
DESCRIPTION:As the COVID-19 restrictions have been eased we have been able to return to our church and worship together almost as before. We will also continue our online presence. \nWelcome to St Matthew’s: at 8 Jumbuck Cres\, Facebook or YouTube! \nIt is possible to view the worships at a later date also.
URL:https://woywoy.lutheran.org.au/event/worship-service-2020-05-31/2023-05-07/
LOCATION:St Matthews Lutheran Church\, 8 Jumbuck Cres\, Woy Woy\, NSW\, 2257\, Australia
CATEGORIES:Worship
GEO:-33.4997606;151.3274231
X-APPLE-STRUCTURED-LOCATION;VALUE=URI;X-ADDRESS=St Matthews Lutheran Church 8 Jumbuck Cres Woy Woy NSW 2257 Australia;X-APPLE-RADIUS=500;X-TITLE=8 Jumbuck Cres:geo:151.3274231,-33.4997606
END:VEVENT
BEGIN:VEVENT
DTSTART;TZID=UTC:20230507T093000
DTEND;TZID=UTC:20230507T223000
DTSTAMP:20260421T134033
CREATED:20180812T165225Z
LAST-MODIFIED:20200323T030318Z
UID:10000244-1683451800-1683498600@woywoy.lutheran.org.au
SUMMARY:Online Worship Service
DESCRIPTION:As a temporary measure\, while State Government restrictions apply\, Sunday worships will be offered as simple live stream online via Facebook and YouTube.\nIt is possible to view the worships at a later date also.
URL:https://woywoy.lutheran.org.au/event/worship-service/2023-05-07/
LOCATION:St Matthews Lutheran Church\, 8 Jumbuck Cres\, Woy Woy\, NSW\, 2257\, Australia
CATEGORIES:Worship
GEO:-33.4997606;151.3274231
X-APPLE-STRUCTURED-LOCATION;VALUE=URI;X-ADDRESS=St Matthews Lutheran Church 8 Jumbuck Cres Woy Woy NSW 2257 Australia;X-APPLE-RADIUS=500;X-TITLE=8 Jumbuck Cres:geo:151.3274231,-33.4997606
END:VEVENT
BEGIN:VEVENT
DTSTART;TZID=Australia/Sydney:20230506T110000
DTEND;TZID=Australia/Sydney:20230506T120000
DTSTAMP:20260421T134033
CREATED:20190219T020541Z
LAST-MODIFIED:20200309T043803Z
UID:10000884-1683370800-1683374400@woywoy.lutheran.org.au
SUMMARY:Gottesdienst auf Deutsch / German Worship Service
DESCRIPTION:
URL:https://woywoy.lutheran.org.au/event/german-worship-service/2023-05-06/
LOCATION:St Matthews Lutheran Church\, 8 Jumbuck Cres\, Woy Woy\, NSW\, 2257\, Australia
CATEGORIES:Worship
GEO:-33.4997606;151.3274231
X-APPLE-STRUCTURED-LOCATION;VALUE=URI;X-ADDRESS=St Matthews Lutheran Church 8 Jumbuck Cres Woy Woy NSW 2257 Australia;X-APPLE-RADIUS=500;X-TITLE=8 Jumbuck Cres:geo:151.3274231,-33.4997606
END:VEVENT
BEGIN:VEVENT
DTSTART;TZID=Australia/Sydney:20230503T100000
DTEND;TZID=Australia/Sydney:20230503T120000
DTSTAMP:20260421T134033
CREATED:20181010T003801Z
LAST-MODIFIED:20181212T052540Z
UID:10000593-1683108000-1683115200@woywoy.lutheran.org.au
SUMMARY:Lutheran Women's Fellowship group
DESCRIPTION:Join our wonderful women’s fellowship group who meet monthly for devotion\, bible study and prayer\, followed by lunch.
URL:https://woywoy.lutheran.org.au/event/lutheran-womens-fellowship-group-2019-06-05/2023-05-03/
LOCATION:St Matthews Lutheran Church\, 8 Jumbuck Cres\, Woy Woy\, NSW\, 2257\, Australia
CATEGORIES:Women
ATTACH;FMTTYPE=image/jpeg:https://woywoy.lutheran.org.au/wp-content/uploads/sites/146/2018/06/6.-LWNSW-Ladies-group-meeting-at-St-Matthews-NSW.jpg
GEO:-33.4997606;151.3274231
X-APPLE-STRUCTURED-LOCATION;VALUE=URI;X-ADDRESS=St Matthews Lutheran Church 8 Jumbuck Cres Woy Woy NSW 2257 Australia;X-APPLE-RADIUS=500;X-TITLE=8 Jumbuck Cres:geo:151.3274231,-33.4997606
END:VEVENT
BEGIN:VEVENT
DTSTART;TZID=Australia/Sydney:20230503T100000
DTEND;TZID=Australia/Sydney:20230503T120000
DTSTAMP:20260421T134033
CREATED:20181010T003801Z
LAST-MODIFIED:20181212T052539Z
UID:10000530-1683108000-1683115200@woywoy.lutheran.org.au
SUMMARY:Lutheran Women's Fellowship group
DESCRIPTION:Join our wonderful women’s fellowship group who meet monthly for devotion\, bible study and prayer\, followed by lunch.
URL:https://woywoy.lutheran.org.au/event/lutheran-womens-fellowship-group-2019-02-06/2023-05-03/
LOCATION:St Matthews Lutheran Church\, 8 Jumbuck Cres\, Woy Woy\, NSW\, 2257\, Australia
CATEGORIES:Women
ATTACH;FMTTYPE=image/jpeg:https://woywoy.lutheran.org.au/wp-content/uploads/sites/146/2018/06/6.-LWNSW-Ladies-group-meeting-at-St-Matthews-NSW.jpg
GEO:-33.4997606;151.3274231
X-APPLE-STRUCTURED-LOCATION;VALUE=URI;X-ADDRESS=St Matthews Lutheran Church 8 Jumbuck Cres Woy Woy NSW 2257 Australia;X-APPLE-RADIUS=500;X-TITLE=8 Jumbuck Cres:geo:151.3274231,-33.4997606
END:VEVENT
BEGIN:VEVENT
DTSTART;TZID=UTC:20230430T093000
DTEND;TZID=UTC:20230430T223000
DTSTAMP:20260421T134033
CREATED:20180812T165225Z
LAST-MODIFIED:20200323T030318Z
UID:10000243-1682847000-1682893800@woywoy.lutheran.org.au
SUMMARY:Online Worship Service
DESCRIPTION:As a temporary measure\, while State Government restrictions apply\, Sunday worships will be offered as simple live stream online via Facebook and YouTube.\nIt is possible to view the worships at a later date also.
URL:https://woywoy.lutheran.org.au/event/worship-service/2023-04-30/
LOCATION:St Matthews Lutheran Church\, 8 Jumbuck Cres\, Woy Woy\, NSW\, 2257\, Australia
CATEGORIES:Worship
GEO:-33.4997606;151.3274231
X-APPLE-STRUCTURED-LOCATION;VALUE=URI;X-ADDRESS=St Matthews Lutheran Church 8 Jumbuck Cres Woy Woy NSW 2257 Australia;X-APPLE-RADIUS=500;X-TITLE=8 Jumbuck Cres:geo:151.3274231,-33.4997606
END:VEVENT
BEGIN:VEVENT
DTSTART;TZID=UTC:20230430T093000
DTEND;TZID=UTC:20230430T223000
DTSTAMP:20260421T134033
CREATED:20180812T165225Z
LAST-MODIFIED:20211108T005628Z
UID:10000693-1682847000-1682893800@woywoy.lutheran.org.au
SUMMARY:Worship Service
DESCRIPTION:As the COVID-19 restrictions have been eased we have been able to return to our church and worship together almost as before. We will also continue our online presence. \nWelcome to St Matthew’s: at 8 Jumbuck Cres\, Facebook or YouTube! \nIt is possible to view the worships at a later date also.
URL:https://woywoy.lutheran.org.au/event/worship-service-2020-05-31/2023-04-30/
LOCATION:St Matthews Lutheran Church\, 8 Jumbuck Cres\, Woy Woy\, NSW\, 2257\, Australia
CATEGORIES:Worship
GEO:-33.4997606;151.3274231
X-APPLE-STRUCTURED-LOCATION;VALUE=URI;X-ADDRESS=St Matthews Lutheran Church 8 Jumbuck Cres Woy Woy NSW 2257 Australia;X-APPLE-RADIUS=500;X-TITLE=8 Jumbuck Cres:geo:151.3274231,-33.4997606
END:VEVENT
BEGIN:VEVENT
DTSTART;TZID=UTC:20230423T093000
DTEND;TZID=UTC:20230423T223000
DTSTAMP:20260421T134033
CREATED:20180812T165225Z
LAST-MODIFIED:20200323T030318Z
UID:10000242-1682242200-1682289000@woywoy.lutheran.org.au
SUMMARY:Online Worship Service
DESCRIPTION:As a temporary measure\, while State Government restrictions apply\, Sunday worships will be offered as simple live stream online via Facebook and YouTube.\nIt is possible to view the worships at a later date also.
URL:https://woywoy.lutheran.org.au/event/worship-service/2023-04-23/
LOCATION:St Matthews Lutheran Church\, 8 Jumbuck Cres\, Woy Woy\, NSW\, 2257\, Australia
CATEGORIES:Worship
GEO:-33.4997606;151.3274231
X-APPLE-STRUCTURED-LOCATION;VALUE=URI;X-ADDRESS=St Matthews Lutheran Church 8 Jumbuck Cres Woy Woy NSW 2257 Australia;X-APPLE-RADIUS=500;X-TITLE=8 Jumbuck Cres:geo:151.3274231,-33.4997606
END:VEVENT
BEGIN:VEVENT
DTSTART;TZID=UTC:20230423T093000
DTEND;TZID=UTC:20230423T223000
DTSTAMP:20260421T134033
CREATED:20180812T165225Z
LAST-MODIFIED:20211108T005628Z
UID:10000692-1682242200-1682289000@woywoy.lutheran.org.au
SUMMARY:Worship Service
DESCRIPTION:As the COVID-19 restrictions have been eased we have been able to return to our church and worship together almost as before. We will also continue our online presence. \nWelcome to St Matthew’s: at 8 Jumbuck Cres\, Facebook or YouTube! \nIt is possible to view the worships at a later date also.
URL:https://woywoy.lutheran.org.au/event/worship-service-2020-05-31/2023-04-23/
LOCATION:St Matthews Lutheran Church\, 8 Jumbuck Cres\, Woy Woy\, NSW\, 2257\, Australia
CATEGORIES:Worship
GEO:-33.4997606;151.3274231
X-APPLE-STRUCTURED-LOCATION;VALUE=URI;X-ADDRESS=St Matthews Lutheran Church 8 Jumbuck Cres Woy Woy NSW 2257 Australia;X-APPLE-RADIUS=500;X-TITLE=8 Jumbuck Cres:geo:151.3274231,-33.4997606
END:VEVENT
BEGIN:VEVENT
DTSTART;TZID=UTC:20230416T120000
DTEND;TZID=UTC:20230416T133000
DTSTAMP:20260421T134033
CREATED:20180812T165956Z
LAST-MODIFIED:20200309T044009Z
UID:10000450-1681646400-1681651800@woywoy.lutheran.org.au
SUMMARY:Jumalanpalvelus suomeksi Finnish Worship Service
DESCRIPTION:
URL:https://woywoy.lutheran.org.au/event/finnish-worship-services/2023-04-16/
LOCATION:St Matthews Lutheran Church\, 8 Jumbuck Cres\, Woy Woy\, NSW\, 2257\, Australia
CATEGORIES:Worship
GEO:-33.4997606;151.3274231
X-APPLE-STRUCTURED-LOCATION;VALUE=URI;X-ADDRESS=St Matthews Lutheran Church 8 Jumbuck Cres Woy Woy NSW 2257 Australia;X-APPLE-RADIUS=500;X-TITLE=8 Jumbuck Cres:geo:151.3274231,-33.4997606
END:VEVENT
BEGIN:VEVENT
DTSTART;TZID=UTC:20230416T093000
DTEND;TZID=UTC:20230416T223000
DTSTAMP:20260421T134033
CREATED:20180812T165225Z
LAST-MODIFIED:20211108T005628Z
UID:10000691-1681637400-1681684200@woywoy.lutheran.org.au
SUMMARY:Worship Service
DESCRIPTION:As the COVID-19 restrictions have been eased we have been able to return to our church and worship together almost as before. We will also continue our online presence. \nWelcome to St Matthew’s: at 8 Jumbuck Cres\, Facebook or YouTube! \nIt is possible to view the worships at a later date also.
URL:https://woywoy.lutheran.org.au/event/worship-service-2020-05-31/2023-04-16/
LOCATION:St Matthews Lutheran Church\, 8 Jumbuck Cres\, Woy Woy\, NSW\, 2257\, Australia
CATEGORIES:Worship
GEO:-33.4997606;151.3274231
X-APPLE-STRUCTURED-LOCATION;VALUE=URI;X-ADDRESS=St Matthews Lutheran Church 8 Jumbuck Cres Woy Woy NSW 2257 Australia;X-APPLE-RADIUS=500;X-TITLE=8 Jumbuck Cres:geo:151.3274231,-33.4997606
END:VEVENT
BEGIN:VEVENT
DTSTART;TZID=UTC:20230416T093000
DTEND;TZID=UTC:20230416T223000
DTSTAMP:20260421T134033
CREATED:20180812T165225Z
LAST-MODIFIED:20200323T030318Z
UID:10000241-1681637400-1681684200@woywoy.lutheran.org.au
SUMMARY:Online Worship Service
DESCRIPTION:As a temporary measure\, while State Government restrictions apply\, Sunday worships will be offered as simple live stream online via Facebook and YouTube.\nIt is possible to view the worships at a later date also.
URL:https://woywoy.lutheran.org.au/event/worship-service/2023-04-16/
LOCATION:St Matthews Lutheran Church\, 8 Jumbuck Cres\, Woy Woy\, NSW\, 2257\, Australia
CATEGORIES:Worship
GEO:-33.4997606;151.3274231
X-APPLE-STRUCTURED-LOCATION;VALUE=URI;X-ADDRESS=St Matthews Lutheran Church 8 Jumbuck Cres Woy Woy NSW 2257 Australia;X-APPLE-RADIUS=500;X-TITLE=8 Jumbuck Cres:geo:151.3274231,-33.4997606
END:VEVENT
BEGIN:VEVENT
DTSTART;TZID=UTC:20230409T093000
DTEND;TZID=UTC:20230409T223000
DTSTAMP:20260421T134033
CREATED:20180812T165225Z
LAST-MODIFIED:20200323T030318Z
UID:10000240-1681032600-1681079400@woywoy.lutheran.org.au
SUMMARY:Online Worship Service
DESCRIPTION:As a temporary measure\, while State Government restrictions apply\, Sunday worships will be offered as simple live stream online via Facebook and YouTube.\nIt is possible to view the worships at a later date also.
URL:https://woywoy.lutheran.org.au/event/worship-service/2023-04-09/
LOCATION:St Matthews Lutheran Church\, 8 Jumbuck Cres\, Woy Woy\, NSW\, 2257\, Australia
CATEGORIES:Worship
GEO:-33.4997606;151.3274231
X-APPLE-STRUCTURED-LOCATION;VALUE=URI;X-ADDRESS=St Matthews Lutheran Church 8 Jumbuck Cres Woy Woy NSW 2257 Australia;X-APPLE-RADIUS=500;X-TITLE=8 Jumbuck Cres:geo:151.3274231,-33.4997606
END:VEVENT
BEGIN:VEVENT
DTSTART;TZID=UTC:20230409T093000
DTEND;TZID=UTC:20230409T223000
DTSTAMP:20260421T134033
CREATED:20180812T165225Z
LAST-MODIFIED:20211108T005628Z
UID:10000690-1681032600-1681079400@woywoy.lutheran.org.au
SUMMARY:Worship Service
DESCRIPTION:As the COVID-19 restrictions have been eased we have been able to return to our church and worship together almost as before. We will also continue our online presence. \nWelcome to St Matthew’s: at 8 Jumbuck Cres\, Facebook or YouTube! \nIt is possible to view the worships at a later date also.
URL:https://woywoy.lutheran.org.au/event/worship-service-2020-05-31/2023-04-09/
LOCATION:St Matthews Lutheran Church\, 8 Jumbuck Cres\, Woy Woy\, NSW\, 2257\, Australia
CATEGORIES:Worship
GEO:-33.4997606;151.3274231
X-APPLE-STRUCTURED-LOCATION;VALUE=URI;X-ADDRESS=St Matthews Lutheran Church 8 Jumbuck Cres Woy Woy NSW 2257 Australia;X-APPLE-RADIUS=500;X-TITLE=8 Jumbuck Cres:geo:151.3274231,-33.4997606
END:VEVENT
BEGIN:VEVENT
DTSTART;TZID=Australia/Sydney:20230405T100000
DTEND;TZID=Australia/Sydney:20230405T120000
DTSTAMP:20260421T134033
CREATED:20181010T003801Z
LAST-MODIFIED:20181212T052539Z
UID:10000529-1680688800-1680696000@woywoy.lutheran.org.au
SUMMARY:Lutheran Women's Fellowship group
DESCRIPTION:Join our wonderful women’s fellowship group who meet monthly for devotion\, bible study and prayer\, followed by lunch.
URL:https://woywoy.lutheran.org.au/event/lutheran-womens-fellowship-group-2019-02-06/2023-04-05/
LOCATION:St Matthews Lutheran Church\, 8 Jumbuck Cres\, Woy Woy\, NSW\, 2257\, Australia
CATEGORIES:Women
ATTACH;FMTTYPE=image/jpeg:https://woywoy.lutheran.org.au/wp-content/uploads/sites/146/2018/06/6.-LWNSW-Ladies-group-meeting-at-St-Matthews-NSW.jpg
GEO:-33.4997606;151.3274231
X-APPLE-STRUCTURED-LOCATION;VALUE=URI;X-ADDRESS=St Matthews Lutheran Church 8 Jumbuck Cres Woy Woy NSW 2257 Australia;X-APPLE-RADIUS=500;X-TITLE=8 Jumbuck Cres:geo:151.3274231,-33.4997606
END:VEVENT
BEGIN:VEVENT
DTSTART;TZID=Australia/Sydney:20230405T100000
DTEND;TZID=Australia/Sydney:20230405T120000
DTSTAMP:20260421T134033
CREATED:20181010T003801Z
LAST-MODIFIED:20181212T052540Z
UID:10000592-1680688800-1680696000@woywoy.lutheran.org.au
SUMMARY:Lutheran Women's Fellowship group
DESCRIPTION:Join our wonderful women’s fellowship group who meet monthly for devotion\, bible study and prayer\, followed by lunch.
URL:https://woywoy.lutheran.org.au/event/lutheran-womens-fellowship-group-2019-06-05/2023-04-05/
LOCATION:St Matthews Lutheran Church\, 8 Jumbuck Cres\, Woy Woy\, NSW\, 2257\, Australia
CATEGORIES:Women
ATTACH;FMTTYPE=image/jpeg:https://woywoy.lutheran.org.au/wp-content/uploads/sites/146/2018/06/6.-LWNSW-Ladies-group-meeting-at-St-Matthews-NSW.jpg
GEO:-33.4997606;151.3274231
X-APPLE-STRUCTURED-LOCATION;VALUE=URI;X-ADDRESS=St Matthews Lutheran Church 8 Jumbuck Cres Woy Woy NSW 2257 Australia;X-APPLE-RADIUS=500;X-TITLE=8 Jumbuck Cres:geo:151.3274231,-33.4997606
END:VEVENT
BEGIN:VEVENT
DTSTART;TZID=UTC:20230402T093000
DTEND;TZID=UTC:20230402T223000
DTSTAMP:20260421T134033
CREATED:20180812T165225Z
LAST-MODIFIED:20211108T005628Z
UID:10000689-1680427800-1680474600@woywoy.lutheran.org.au
SUMMARY:Worship Service
DESCRIPTION:As the COVID-19 restrictions have been eased we have been able to return to our church and worship together almost as before. We will also continue our online presence. \nWelcome to St Matthew’s: at 8 Jumbuck Cres\, Facebook or YouTube! \nIt is possible to view the worships at a later date also.
URL:https://woywoy.lutheran.org.au/event/worship-service-2020-05-31/2023-04-02/
LOCATION:St Matthews Lutheran Church\, 8 Jumbuck Cres\, Woy Woy\, NSW\, 2257\, Australia
CATEGORIES:Worship
GEO:-33.4997606;151.3274231
X-APPLE-STRUCTURED-LOCATION;VALUE=URI;X-ADDRESS=St Matthews Lutheran Church 8 Jumbuck Cres Woy Woy NSW 2257 Australia;X-APPLE-RADIUS=500;X-TITLE=8 Jumbuck Cres:geo:151.3274231,-33.4997606
END:VEVENT
BEGIN:VEVENT
DTSTART;TZID=UTC:20230402T093000
DTEND;TZID=UTC:20230402T223000
DTSTAMP:20260421T134033
CREATED:20180812T165225Z
LAST-MODIFIED:20200323T030318Z
UID:10000239-1680427800-1680474600@woywoy.lutheran.org.au
SUMMARY:Online Worship Service
DESCRIPTION:As a temporary measure\, while State Government restrictions apply\, Sunday worships will be offered as simple live stream online via Facebook and YouTube.\nIt is possible to view the worships at a later date also.
URL:https://woywoy.lutheran.org.au/event/worship-service/2023-04-02/
LOCATION:St Matthews Lutheran Church\, 8 Jumbuck Cres\, Woy Woy\, NSW\, 2257\, Australia
CATEGORIES:Worship
GEO:-33.4997606;151.3274231
X-APPLE-STRUCTURED-LOCATION;VALUE=URI;X-ADDRESS=St Matthews Lutheran Church 8 Jumbuck Cres Woy Woy NSW 2257 Australia;X-APPLE-RADIUS=500;X-TITLE=8 Jumbuck Cres:geo:151.3274231,-33.4997606
END:VEVENT
BEGIN:VEVENT
DTSTART;TZID=UTC:20230402T093000
DTEND;TZID=UTC:20230402T223000
DTSTAMP:20260421T134033
CREATED:20180812T165225Z
LAST-MODIFIED:20230325T021629Z
UID:10000614-1680427800-1680474600@woywoy.lutheran.org.au
SUMMARY:Palm Sunday
DESCRIPTION:
URL:https://woywoy.lutheran.org.au/event/worship-service-2020-04-05/
LOCATION:St Matthews Lutheran Church\, 8 Jumbuck Cres\, Woy Woy\, NSW\, 2257\, Australia
CATEGORIES:Worship
GEO:-33.4997606;151.3274231
X-APPLE-STRUCTURED-LOCATION;VALUE=URI;X-ADDRESS=St Matthews Lutheran Church 8 Jumbuck Cres Woy Woy NSW 2257 Australia;X-APPLE-RADIUS=500;X-TITLE=8 Jumbuck Cres:geo:151.3274231,-33.4997606
END:VEVENT
BEGIN:VEVENT
DTSTART;TZID=Australia/Sydney:20230401T110000
DTEND;TZID=Australia/Sydney:20230401T120000
DTSTAMP:20260421T134033
CREATED:20190219T020541Z
LAST-MODIFIED:20200309T043803Z
UID:10000883-1680346800-1680350400@woywoy.lutheran.org.au
SUMMARY:Gottesdienst auf Deutsch / German Worship Service
DESCRIPTION:
URL:https://woywoy.lutheran.org.au/event/german-worship-service/2023-04-01/
LOCATION:St Matthews Lutheran Church\, 8 Jumbuck Cres\, Woy Woy\, NSW\, 2257\, Australia
CATEGORIES:Worship
GEO:-33.4997606;151.3274231
X-APPLE-STRUCTURED-LOCATION;VALUE=URI;X-ADDRESS=St Matthews Lutheran Church 8 Jumbuck Cres Woy Woy NSW 2257 Australia;X-APPLE-RADIUS=500;X-TITLE=8 Jumbuck Cres:geo:151.3274231,-33.4997606
END:VEVENT
BEGIN:VEVENT
DTSTART;TZID=UTC:20230326T093000
DTEND;TZID=UTC:20230326T223000
DTSTAMP:20260421T134033
CREATED:20180812T165225Z
LAST-MODIFIED:20200323T030318Z
UID:10000238-1679823000-1679869800@woywoy.lutheran.org.au
SUMMARY:Online Worship Service
DESCRIPTION:As a temporary measure\, while State Government restrictions apply\, Sunday worships will be offered as simple live stream online via Facebook and YouTube.\nIt is possible to view the worships at a later date also.
URL:https://woywoy.lutheran.org.au/event/worship-service/2023-03-26/
LOCATION:St Matthews Lutheran Church\, 8 Jumbuck Cres\, Woy Woy\, NSW\, 2257\, Australia
CATEGORIES:Worship
GEO:-33.4997606;151.3274231
X-APPLE-STRUCTURED-LOCATION;VALUE=URI;X-ADDRESS=St Matthews Lutheran Church 8 Jumbuck Cres Woy Woy NSW 2257 Australia;X-APPLE-RADIUS=500;X-TITLE=8 Jumbuck Cres:geo:151.3274231,-33.4997606
END:VEVENT
BEGIN:VEVENT
DTSTART;TZID=UTC:20230326T093000
DTEND;TZID=UTC:20230326T223000
DTSTAMP:20260421T134033
CREATED:20180812T165225Z
LAST-MODIFIED:20211108T005628Z
UID:10000688-1679823000-1679869800@woywoy.lutheran.org.au
SUMMARY:Worship Service
DESCRIPTION:As the COVID-19 restrictions have been eased we have been able to return to our church and worship together almost as before. We will also continue our online presence. \nWelcome to St Matthew’s: at 8 Jumbuck Cres\, Facebook or YouTube! \nIt is possible to view the worships at a later date also.
URL:https://woywoy.lutheran.org.au/event/worship-service-2020-05-31/2023-03-26/
LOCATION:St Matthews Lutheran Church\, 8 Jumbuck Cres\, Woy Woy\, NSW\, 2257\, Australia
CATEGORIES:Worship
GEO:-33.4997606;151.3274231
X-APPLE-STRUCTURED-LOCATION;VALUE=URI;X-ADDRESS=St Matthews Lutheran Church 8 Jumbuck Cres Woy Woy NSW 2257 Australia;X-APPLE-RADIUS=500;X-TITLE=8 Jumbuck Cres:geo:151.3274231,-33.4997606
END:VEVENT
BEGIN:VEVENT
DTSTART;TZID=UTC:20230319T120000
DTEND;TZID=UTC:20230319T133000
DTSTAMP:20260421T134033
CREATED:20180812T165956Z
LAST-MODIFIED:20200309T044009Z
UID:10000449-1679227200-1679232600@woywoy.lutheran.org.au
SUMMARY:Jumalanpalvelus suomeksi Finnish Worship Service
DESCRIPTION:
URL:https://woywoy.lutheran.org.au/event/finnish-worship-services/2023-03-19/
LOCATION:St Matthews Lutheran Church\, 8 Jumbuck Cres\, Woy Woy\, NSW\, 2257\, Australia
CATEGORIES:Worship
GEO:-33.4997606;151.3274231
X-APPLE-STRUCTURED-LOCATION;VALUE=URI;X-ADDRESS=St Matthews Lutheran Church 8 Jumbuck Cres Woy Woy NSW 2257 Australia;X-APPLE-RADIUS=500;X-TITLE=8 Jumbuck Cres:geo:151.3274231,-33.4997606
END:VEVENT
BEGIN:VEVENT
DTSTART;TZID=UTC:20230319T093000
DTEND;TZID=UTC:20230319T223000
DTSTAMP:20260421T134033
CREATED:20180812T165225Z
LAST-MODIFIED:20211108T005628Z
UID:10000687-1679218200-1679265000@woywoy.lutheran.org.au
SUMMARY:Worship Service
DESCRIPTION:As the COVID-19 restrictions have been eased we have been able to return to our church and worship together almost as before. We will also continue our online presence. \nWelcome to St Matthew’s: at 8 Jumbuck Cres\, Facebook or YouTube! \nIt is possible to view the worships at a later date also.
URL:https://woywoy.lutheran.org.au/event/worship-service-2020-05-31/2023-03-19/
LOCATION:St Matthews Lutheran Church\, 8 Jumbuck Cres\, Woy Woy\, NSW\, 2257\, Australia
CATEGORIES:Worship
GEO:-33.4997606;151.3274231
X-APPLE-STRUCTURED-LOCATION;VALUE=URI;X-ADDRESS=St Matthews Lutheran Church 8 Jumbuck Cres Woy Woy NSW 2257 Australia;X-APPLE-RADIUS=500;X-TITLE=8 Jumbuck Cres:geo:151.3274231,-33.4997606
END:VEVENT
BEGIN:VEVENT
DTSTART;TZID=UTC:20230319T093000
DTEND;TZID=UTC:20230319T223000
DTSTAMP:20260421T134033
CREATED:20180812T165225Z
LAST-MODIFIED:20200323T030318Z
UID:10000237-1679218200-1679265000@woywoy.lutheran.org.au
SUMMARY:Online Worship Service
DESCRIPTION:As a temporary measure\, while State Government restrictions apply\, Sunday worships will be offered as simple live stream online via Facebook and YouTube.\nIt is possible to view the worships at a later date also.
URL:https://woywoy.lutheran.org.au/event/worship-service/2023-03-19/
LOCATION:St Matthews Lutheran Church\, 8 Jumbuck Cres\, Woy Woy\, NSW\, 2257\, Australia
CATEGORIES:Worship
GEO:-33.4997606;151.3274231
X-APPLE-STRUCTURED-LOCATION;VALUE=URI;X-ADDRESS=St Matthews Lutheran Church 8 Jumbuck Cres Woy Woy NSW 2257 Australia;X-APPLE-RADIUS=500;X-TITLE=8 Jumbuck Cres:geo:151.3274231,-33.4997606
END:VEVENT
BEGIN:VEVENT
DTSTART;TZID=UTC:20230312T093000
DTEND;TZID=UTC:20230312T223000
DTSTAMP:20260421T134033
CREATED:20180812T165225Z
LAST-MODIFIED:20211108T005628Z
UID:10000686-1678613400-1678660200@woywoy.lutheran.org.au
SUMMARY:Worship Service
DESCRIPTION:As the COVID-19 restrictions have been eased we have been able to return to our church and worship together almost as before. We will also continue our online presence. \nWelcome to St Matthew’s: at 8 Jumbuck Cres\, Facebook or YouTube! \nIt is possible to view the worships at a later date also.
URL:https://woywoy.lutheran.org.au/event/worship-service-2020-05-31/2023-03-12/
LOCATION:St Matthews Lutheran Church\, 8 Jumbuck Cres\, Woy Woy\, NSW\, 2257\, Australia
CATEGORIES:Worship
GEO:-33.4997606;151.3274231
X-APPLE-STRUCTURED-LOCATION;VALUE=URI;X-ADDRESS=St Matthews Lutheran Church 8 Jumbuck Cres Woy Woy NSW 2257 Australia;X-APPLE-RADIUS=500;X-TITLE=8 Jumbuck Cres:geo:151.3274231,-33.4997606
END:VEVENT
BEGIN:VEVENT
DTSTART;TZID=UTC:20230312T093000
DTEND;TZID=UTC:20230312T223000
DTSTAMP:20260421T134033
CREATED:20180812T165225Z
LAST-MODIFIED:20200323T030318Z
UID:10000236-1678613400-1678660200@woywoy.lutheran.org.au
SUMMARY:Online Worship Service
DESCRIPTION:As a temporary measure\, while State Government restrictions apply\, Sunday worships will be offered as simple live stream online via Facebook and YouTube.\nIt is possible to view the worships at a later date also.
URL:https://woywoy.lutheran.org.au/event/worship-service/2023-03-12/
LOCATION:St Matthews Lutheran Church\, 8 Jumbuck Cres\, Woy Woy\, NSW\, 2257\, Australia
CATEGORIES:Worship
GEO:-33.4997606;151.3274231
X-APPLE-STRUCTURED-LOCATION;VALUE=URI;X-ADDRESS=St Matthews Lutheran Church 8 Jumbuck Cres Woy Woy NSW 2257 Australia;X-APPLE-RADIUS=500;X-TITLE=8 Jumbuck Cres:geo:151.3274231,-33.4997606
END:VEVENT
END:VCALENDAR