BEGIN:VCALENDAR
VERSION:2.0
PRODID:-//St Matthew&#039;s Congregation Woy Woy, NSW - ECPv6.8.1//NONSGML v1.0//EN
CALSCALE:GREGORIAN
METHOD:PUBLISH
X-WR-CALNAME:St Matthew&#039;s Congregation Woy Woy, NSW
X-ORIGINAL-URL:https://woywoy.lutheran.org.au
X-WR-CALDESC:Events for St Matthew&#039;s Congregation Woy Woy, NSW
REFRESH-INTERVAL;VALUE=DURATION:PT1H
X-Robots-Tag:noindex
X-PUBLISHED-TTL:PT1H
BEGIN:VTIMEZONE
TZID:Australia/Sydney
BEGIN:STANDARD
TZOFFSETFROM:+1100
TZOFFSETTO:+1000
TZNAME:AEST
DTSTART:20300406T160000
END:STANDARD
BEGIN:DAYLIGHT
TZOFFSETFROM:+1000
TZOFFSETTO:+1100
TZNAME:AEDT
DTSTART:20301005T160000
END:DAYLIGHT
BEGIN:STANDARD
TZOFFSETFROM:+1100
TZOFFSETTO:+1000
TZNAME:AEST
DTSTART:20310405T160000
END:STANDARD
BEGIN:DAYLIGHT
TZOFFSETFROM:+1000
TZOFFSETTO:+1100
TZNAME:AEDT
DTSTART:20311004T160000
END:DAYLIGHT
END:VTIMEZONE
BEGIN:VEVENT
DTSTART;TZID=Australia/Sydney:20301013T093000
DTEND;TZID=Australia/Sydney:20301013T223000
DTSTAMP:20260421T155531
CREATED:20260313T002855Z
LAST-MODIFIED:20260317T004248Z
UID:10001154-1918114200-1918161000@woywoy.lutheran.org.au
SUMMARY:Worship Service
DESCRIPTION:Please join us at 930am on Sundays for worship at 8 Jumbuck Cres Woy Woy\, NSW 2257
URL:https://woywoy.lutheran.org.au/event/worship-service-2/2030-10-13/
LOCATION:St Matthews Lutheran Church\, 8 Jumbuck Cres\, Woy Woy\, NSW\, 2257\, Australia
GEO:-33.4997606;151.3274231
X-APPLE-STRUCTURED-LOCATION;VALUE=URI;X-ADDRESS=St Matthews Lutheran Church 8 Jumbuck Cres Woy Woy NSW 2257 Australia;X-APPLE-RADIUS=500;X-TITLE=8 Jumbuck Cres:geo:151.3274231,-33.4997606
END:VEVENT
BEGIN:VEVENT
DTSTART;TZID=Australia/Sydney:20301020T093000
DTEND;TZID=Australia/Sydney:20301020T223000
DTSTAMP:20260421T155531
CREATED:20260313T002855Z
LAST-MODIFIED:20260317T004248Z
UID:10001155-1918719000-1918765800@woywoy.lutheran.org.au
SUMMARY:Worship Service
DESCRIPTION:Please join us at 930am on Sundays for worship at 8 Jumbuck Cres Woy Woy\, NSW 2257
URL:https://woywoy.lutheran.org.au/event/worship-service-2/2030-10-20/
LOCATION:St Matthews Lutheran Church\, 8 Jumbuck Cres\, Woy Woy\, NSW\, 2257\, Australia
GEO:-33.4997606;151.3274231
X-APPLE-STRUCTURED-LOCATION;VALUE=URI;X-ADDRESS=St Matthews Lutheran Church 8 Jumbuck Cres Woy Woy NSW 2257 Australia;X-APPLE-RADIUS=500;X-TITLE=8 Jumbuck Cres:geo:151.3274231,-33.4997606
END:VEVENT
BEGIN:VEVENT
DTSTART;TZID=Australia/Sydney:20301027T093000
DTEND;TZID=Australia/Sydney:20301027T223000
DTSTAMP:20260421T155531
CREATED:20260313T002855Z
LAST-MODIFIED:20260317T004248Z
UID:10001156-1919323800-1919370600@woywoy.lutheran.org.au
SUMMARY:Worship Service
DESCRIPTION:Please join us at 930am on Sundays for worship at 8 Jumbuck Cres Woy Woy\, NSW 2257
URL:https://woywoy.lutheran.org.au/event/worship-service-2/2030-10-27/
LOCATION:St Matthews Lutheran Church\, 8 Jumbuck Cres\, Woy Woy\, NSW\, 2257\, Australia
GEO:-33.4997606;151.3274231
X-APPLE-STRUCTURED-LOCATION;VALUE=URI;X-ADDRESS=St Matthews Lutheran Church 8 Jumbuck Cres Woy Woy NSW 2257 Australia;X-APPLE-RADIUS=500;X-TITLE=8 Jumbuck Cres:geo:151.3274231,-33.4997606
END:VEVENT
BEGIN:VEVENT
DTSTART;TZID=Australia/Sydney:20301102T110000
DTEND;TZID=Australia/Sydney:20301102T120000
DTSTAMP:20260421T155531
CREATED:20260317T003737Z
LAST-MODIFIED:20260317T003737Z
UID:10001231-1919847600-1919851200@woywoy.lutheran.org.au
SUMMARY:Gottesdienst auf Deutsch / German Worship Service
DESCRIPTION:
URL:https://woywoy.lutheran.org.au/event/gottesdienst-auf-deutsch-german-worship-service/2030-11-02/
LOCATION:NSW
CATEGORIES:Worship
END:VEVENT
BEGIN:VEVENT
DTSTART;TZID=Australia/Sydney:20301103T093000
DTEND;TZID=Australia/Sydney:20301103T223000
DTSTAMP:20260421T155531
CREATED:20260313T002855Z
LAST-MODIFIED:20260317T004248Z
UID:10001157-1919928600-1919975400@woywoy.lutheran.org.au
SUMMARY:Worship Service
DESCRIPTION:Please join us at 930am on Sundays for worship at 8 Jumbuck Cres Woy Woy\, NSW 2257
URL:https://woywoy.lutheran.org.au/event/worship-service-2/2030-11-03/
LOCATION:St Matthews Lutheran Church\, 8 Jumbuck Cres\, Woy Woy\, NSW\, 2257\, Australia
GEO:-33.4997606;151.3274231
X-APPLE-STRUCTURED-LOCATION;VALUE=URI;X-ADDRESS=St Matthews Lutheran Church 8 Jumbuck Cres Woy Woy NSW 2257 Australia;X-APPLE-RADIUS=500;X-TITLE=8 Jumbuck Cres:geo:151.3274231,-33.4997606
END:VEVENT
BEGIN:VEVENT
DTSTART;TZID=Australia/Sydney:20301110T093000
DTEND;TZID=Australia/Sydney:20301110T223000
DTSTAMP:20260421T155531
CREATED:20260313T002855Z
LAST-MODIFIED:20260317T004248Z
UID:10001158-1920533400-1920580200@woywoy.lutheran.org.au
SUMMARY:Worship Service
DESCRIPTION:Please join us at 930am on Sundays for worship at 8 Jumbuck Cres Woy Woy\, NSW 2257
URL:https://woywoy.lutheran.org.au/event/worship-service-2/2030-11-10/
LOCATION:St Matthews Lutheran Church\, 8 Jumbuck Cres\, Woy Woy\, NSW\, 2257\, Australia
GEO:-33.4997606;151.3274231
X-APPLE-STRUCTURED-LOCATION;VALUE=URI;X-ADDRESS=St Matthews Lutheran Church 8 Jumbuck Cres Woy Woy NSW 2257 Australia;X-APPLE-RADIUS=500;X-TITLE=8 Jumbuck Cres:geo:151.3274231,-33.4997606
END:VEVENT
BEGIN:VEVENT
DTSTART;TZID=Australia/Sydney:20301117T093000
DTEND;TZID=Australia/Sydney:20301117T223000
DTSTAMP:20260421T155531
CREATED:20260313T002855Z
LAST-MODIFIED:20260317T004248Z
UID:10001159-1921138200-1921185000@woywoy.lutheran.org.au
SUMMARY:Worship Service
DESCRIPTION:Please join us at 930am on Sundays for worship at 8 Jumbuck Cres Woy Woy\, NSW 2257
URL:https://woywoy.lutheran.org.au/event/worship-service-2/2030-11-17/
LOCATION:St Matthews Lutheran Church\, 8 Jumbuck Cres\, Woy Woy\, NSW\, 2257\, Australia
GEO:-33.4997606;151.3274231
X-APPLE-STRUCTURED-LOCATION;VALUE=URI;X-ADDRESS=St Matthews Lutheran Church 8 Jumbuck Cres Woy Woy NSW 2257 Australia;X-APPLE-RADIUS=500;X-TITLE=8 Jumbuck Cres:geo:151.3274231,-33.4997606
END:VEVENT
BEGIN:VEVENT
DTSTART;TZID=Australia/Sydney:20301124T093000
DTEND;TZID=Australia/Sydney:20301124T223000
DTSTAMP:20260421T155531
CREATED:20260313T002855Z
LAST-MODIFIED:20260317T004248Z
UID:10001160-1921743000-1921789800@woywoy.lutheran.org.au
SUMMARY:Worship Service
DESCRIPTION:Please join us at 930am on Sundays for worship at 8 Jumbuck Cres Woy Woy\, NSW 2257
URL:https://woywoy.lutheran.org.au/event/worship-service-2/2030-11-24/
LOCATION:St Matthews Lutheran Church\, 8 Jumbuck Cres\, Woy Woy\, NSW\, 2257\, Australia
GEO:-33.4997606;151.3274231
X-APPLE-STRUCTURED-LOCATION;VALUE=URI;X-ADDRESS=St Matthews Lutheran Church 8 Jumbuck Cres Woy Woy NSW 2257 Australia;X-APPLE-RADIUS=500;X-TITLE=8 Jumbuck Cres:geo:151.3274231,-33.4997606
END:VEVENT
BEGIN:VEVENT
DTSTART;TZID=Australia/Sydney:20301201T093000
DTEND;TZID=Australia/Sydney:20301201T223000
DTSTAMP:20260421T155531
CREATED:20260313T002855Z
LAST-MODIFIED:20260317T004248Z
UID:10001161-1922347800-1922394600@woywoy.lutheran.org.au
SUMMARY:Worship Service
DESCRIPTION:Please join us at 930am on Sundays for worship at 8 Jumbuck Cres Woy Woy\, NSW 2257
URL:https://woywoy.lutheran.org.au/event/worship-service-2/2030-12-01/
LOCATION:St Matthews Lutheran Church\, 8 Jumbuck Cres\, Woy Woy\, NSW\, 2257\, Australia
GEO:-33.4997606;151.3274231
X-APPLE-STRUCTURED-LOCATION;VALUE=URI;X-ADDRESS=St Matthews Lutheran Church 8 Jumbuck Cres Woy Woy NSW 2257 Australia;X-APPLE-RADIUS=500;X-TITLE=8 Jumbuck Cres:geo:151.3274231,-33.4997606
END:VEVENT
BEGIN:VEVENT
DTSTART;TZID=Australia/Sydney:20301207T110000
DTEND;TZID=Australia/Sydney:20301207T120000
DTSTAMP:20260421T155531
CREATED:20260317T003737Z
LAST-MODIFIED:20260317T003737Z
UID:10001232-1922871600-1922875200@woywoy.lutheran.org.au
SUMMARY:Gottesdienst auf Deutsch / German Worship Service
DESCRIPTION:
URL:https://woywoy.lutheran.org.au/event/gottesdienst-auf-deutsch-german-worship-service/2030-12-07/
LOCATION:NSW
CATEGORIES:Worship
END:VEVENT
BEGIN:VEVENT
DTSTART;TZID=Australia/Sydney:20301208T093000
DTEND;TZID=Australia/Sydney:20301208T223000
DTSTAMP:20260421T155531
CREATED:20260313T002855Z
LAST-MODIFIED:20260317T004248Z
UID:10001162-1922952600-1922999400@woywoy.lutheran.org.au
SUMMARY:Worship Service
DESCRIPTION:Please join us at 930am on Sundays for worship at 8 Jumbuck Cres Woy Woy\, NSW 2257
URL:https://woywoy.lutheran.org.au/event/worship-service-2/2030-12-08/
LOCATION:St Matthews Lutheran Church\, 8 Jumbuck Cres\, Woy Woy\, NSW\, 2257\, Australia
GEO:-33.4997606;151.3274231
X-APPLE-STRUCTURED-LOCATION;VALUE=URI;X-ADDRESS=St Matthews Lutheran Church 8 Jumbuck Cres Woy Woy NSW 2257 Australia;X-APPLE-RADIUS=500;X-TITLE=8 Jumbuck Cres:geo:151.3274231,-33.4997606
END:VEVENT
BEGIN:VEVENT
DTSTART;TZID=Australia/Sydney:20301215T093000
DTEND;TZID=Australia/Sydney:20301215T223000
DTSTAMP:20260421T155531
CREATED:20260313T002855Z
LAST-MODIFIED:20260317T004248Z
UID:10001163-1923557400-1923604200@woywoy.lutheran.org.au
SUMMARY:Worship Service
DESCRIPTION:Please join us at 930am on Sundays for worship at 8 Jumbuck Cres Woy Woy\, NSW 2257
URL:https://woywoy.lutheran.org.au/event/worship-service-2/2030-12-15/
LOCATION:St Matthews Lutheran Church\, 8 Jumbuck Cres\, Woy Woy\, NSW\, 2257\, Australia
GEO:-33.4997606;151.3274231
X-APPLE-STRUCTURED-LOCATION;VALUE=URI;X-ADDRESS=St Matthews Lutheran Church 8 Jumbuck Cres Woy Woy NSW 2257 Australia;X-APPLE-RADIUS=500;X-TITLE=8 Jumbuck Cres:geo:151.3274231,-33.4997606
END:VEVENT
BEGIN:VEVENT
DTSTART;TZID=Australia/Sydney:20301222T093000
DTEND;TZID=Australia/Sydney:20301222T223000
DTSTAMP:20260421T155531
CREATED:20260313T002855Z
LAST-MODIFIED:20260317T004248Z
UID:10001164-1924162200-1924209000@woywoy.lutheran.org.au
SUMMARY:Worship Service
DESCRIPTION:Please join us at 930am on Sundays for worship at 8 Jumbuck Cres Woy Woy\, NSW 2257
URL:https://woywoy.lutheran.org.au/event/worship-service-2/2030-12-22/
LOCATION:St Matthews Lutheran Church\, 8 Jumbuck Cres\, Woy Woy\, NSW\, 2257\, Australia
GEO:-33.4997606;151.3274231
X-APPLE-STRUCTURED-LOCATION;VALUE=URI;X-ADDRESS=St Matthews Lutheran Church 8 Jumbuck Cres Woy Woy NSW 2257 Australia;X-APPLE-RADIUS=500;X-TITLE=8 Jumbuck Cres:geo:151.3274231,-33.4997606
END:VEVENT
BEGIN:VEVENT
DTSTART;TZID=Australia/Sydney:20301229T093000
DTEND;TZID=Australia/Sydney:20301229T223000
DTSTAMP:20260421T155531
CREATED:20260313T002855Z
LAST-MODIFIED:20260317T004248Z
UID:10001165-1924767000-1924813800@woywoy.lutheran.org.au
SUMMARY:Worship Service
DESCRIPTION:Please join us at 930am on Sundays for worship at 8 Jumbuck Cres Woy Woy\, NSW 2257
URL:https://woywoy.lutheran.org.au/event/worship-service-2/2030-12-29/
LOCATION:St Matthews Lutheran Church\, 8 Jumbuck Cres\, Woy Woy\, NSW\, 2257\, Australia
GEO:-33.4997606;151.3274231
X-APPLE-STRUCTURED-LOCATION;VALUE=URI;X-ADDRESS=St Matthews Lutheran Church 8 Jumbuck Cres Woy Woy NSW 2257 Australia;X-APPLE-RADIUS=500;X-TITLE=8 Jumbuck Cres:geo:151.3274231,-33.4997606
END:VEVENT
BEGIN:VEVENT
DTSTART;TZID=Australia/Sydney:20310104T110000
DTEND;TZID=Australia/Sydney:20310104T120000
DTSTAMP:20260421T155531
CREATED:20260317T003737Z
LAST-MODIFIED:20260317T003737Z
UID:10001233-1925290800-1925294400@woywoy.lutheran.org.au
SUMMARY:Gottesdienst auf Deutsch / German Worship Service
DESCRIPTION:
URL:https://woywoy.lutheran.org.au/event/gottesdienst-auf-deutsch-german-worship-service/2031-01-04/
LOCATION:NSW
CATEGORIES:Worship
END:VEVENT
BEGIN:VEVENT
DTSTART;TZID=Australia/Sydney:20310105T093000
DTEND;TZID=Australia/Sydney:20310105T223000
DTSTAMP:20260421T155531
CREATED:20260313T002855Z
LAST-MODIFIED:20260317T004248Z
UID:10001166-1925371800-1925418600@woywoy.lutheran.org.au
SUMMARY:Worship Service
DESCRIPTION:Please join us at 930am on Sundays for worship at 8 Jumbuck Cres Woy Woy\, NSW 2257
URL:https://woywoy.lutheran.org.au/event/worship-service-2/2031-01-05/
LOCATION:St Matthews Lutheran Church\, 8 Jumbuck Cres\, Woy Woy\, NSW\, 2257\, Australia
GEO:-33.4997606;151.3274231
X-APPLE-STRUCTURED-LOCATION;VALUE=URI;X-ADDRESS=St Matthews Lutheran Church 8 Jumbuck Cres Woy Woy NSW 2257 Australia;X-APPLE-RADIUS=500;X-TITLE=8 Jumbuck Cres:geo:151.3274231,-33.4997606
END:VEVENT
BEGIN:VEVENT
DTSTART;TZID=Australia/Sydney:20310112T093000
DTEND;TZID=Australia/Sydney:20310112T223000
DTSTAMP:20260421T155531
CREATED:20260313T002855Z
LAST-MODIFIED:20260317T004248Z
UID:10001167-1925976600-1926023400@woywoy.lutheran.org.au
SUMMARY:Worship Service
DESCRIPTION:Please join us at 930am on Sundays for worship at 8 Jumbuck Cres Woy Woy\, NSW 2257
URL:https://woywoy.lutheran.org.au/event/worship-service-2/2031-01-12/
LOCATION:St Matthews Lutheran Church\, 8 Jumbuck Cres\, Woy Woy\, NSW\, 2257\, Australia
GEO:-33.4997606;151.3274231
X-APPLE-STRUCTURED-LOCATION;VALUE=URI;X-ADDRESS=St Matthews Lutheran Church 8 Jumbuck Cres Woy Woy NSW 2257 Australia;X-APPLE-RADIUS=500;X-TITLE=8 Jumbuck Cres:geo:151.3274231,-33.4997606
END:VEVENT
BEGIN:VEVENT
DTSTART;TZID=Australia/Sydney:20310119T093000
DTEND;TZID=Australia/Sydney:20310119T223000
DTSTAMP:20260421T155531
CREATED:20260313T002855Z
LAST-MODIFIED:20260317T004248Z
UID:10001168-1926581400-1926628200@woywoy.lutheran.org.au
SUMMARY:Worship Service
DESCRIPTION:Please join us at 930am on Sundays for worship at 8 Jumbuck Cres Woy Woy\, NSW 2257
URL:https://woywoy.lutheran.org.au/event/worship-service-2/2031-01-19/
LOCATION:St Matthews Lutheran Church\, 8 Jumbuck Cres\, Woy Woy\, NSW\, 2257\, Australia
GEO:-33.4997606;151.3274231
X-APPLE-STRUCTURED-LOCATION;VALUE=URI;X-ADDRESS=St Matthews Lutheran Church 8 Jumbuck Cres Woy Woy NSW 2257 Australia;X-APPLE-RADIUS=500;X-TITLE=8 Jumbuck Cres:geo:151.3274231,-33.4997606
END:VEVENT
BEGIN:VEVENT
DTSTART;TZID=Australia/Sydney:20310126T093000
DTEND;TZID=Australia/Sydney:20310126T223000
DTSTAMP:20260421T155531
CREATED:20260313T002855Z
LAST-MODIFIED:20260317T004248Z
UID:10001169-1927186200-1927233000@woywoy.lutheran.org.au
SUMMARY:Worship Service
DESCRIPTION:Please join us at 930am on Sundays for worship at 8 Jumbuck Cres Woy Woy\, NSW 2257
URL:https://woywoy.lutheran.org.au/event/worship-service-2/2031-01-26/
LOCATION:St Matthews Lutheran Church\, 8 Jumbuck Cres\, Woy Woy\, NSW\, 2257\, Australia
GEO:-33.4997606;151.3274231
X-APPLE-STRUCTURED-LOCATION;VALUE=URI;X-ADDRESS=St Matthews Lutheran Church 8 Jumbuck Cres Woy Woy NSW 2257 Australia;X-APPLE-RADIUS=500;X-TITLE=8 Jumbuck Cres:geo:151.3274231,-33.4997606
END:VEVENT
BEGIN:VEVENT
DTSTART;TZID=Australia/Sydney:20310201T110000
DTEND;TZID=Australia/Sydney:20310201T120000
DTSTAMP:20260421T155531
CREATED:20260317T003737Z
LAST-MODIFIED:20260317T003737Z
UID:10001234-1927710000-1927713600@woywoy.lutheran.org.au
SUMMARY:Gottesdienst auf Deutsch / German Worship Service
DESCRIPTION:
URL:https://woywoy.lutheran.org.au/event/gottesdienst-auf-deutsch-german-worship-service/2031-02-01/
LOCATION:NSW
CATEGORIES:Worship
END:VEVENT
BEGIN:VEVENT
DTSTART;TZID=Australia/Sydney:20310202T093000
DTEND;TZID=Australia/Sydney:20310202T223000
DTSTAMP:20260421T155531
CREATED:20260313T002855Z
LAST-MODIFIED:20260317T004248Z
UID:10001170-1927791000-1927837800@woywoy.lutheran.org.au
SUMMARY:Worship Service
DESCRIPTION:Please join us at 930am on Sundays for worship at 8 Jumbuck Cres Woy Woy\, NSW 2257
URL:https://woywoy.lutheran.org.au/event/worship-service-2/2031-02-02/
LOCATION:St Matthews Lutheran Church\, 8 Jumbuck Cres\, Woy Woy\, NSW\, 2257\, Australia
GEO:-33.4997606;151.3274231
X-APPLE-STRUCTURED-LOCATION;VALUE=URI;X-ADDRESS=St Matthews Lutheran Church 8 Jumbuck Cres Woy Woy NSW 2257 Australia;X-APPLE-RADIUS=500;X-TITLE=8 Jumbuck Cres:geo:151.3274231,-33.4997606
END:VEVENT
BEGIN:VEVENT
DTSTART;TZID=Australia/Sydney:20310209T093000
DTEND;TZID=Australia/Sydney:20310209T223000
DTSTAMP:20260421T155531
CREATED:20260313T002855Z
LAST-MODIFIED:20260317T004248Z
UID:10001171-1928395800-1928442600@woywoy.lutheran.org.au
SUMMARY:Worship Service
DESCRIPTION:Please join us at 930am on Sundays for worship at 8 Jumbuck Cres Woy Woy\, NSW 2257
URL:https://woywoy.lutheran.org.au/event/worship-service-2/2031-02-09/
LOCATION:St Matthews Lutheran Church\, 8 Jumbuck Cres\, Woy Woy\, NSW\, 2257\, Australia
GEO:-33.4997606;151.3274231
X-APPLE-STRUCTURED-LOCATION;VALUE=URI;X-ADDRESS=St Matthews Lutheran Church 8 Jumbuck Cres Woy Woy NSW 2257 Australia;X-APPLE-RADIUS=500;X-TITLE=8 Jumbuck Cres:geo:151.3274231,-33.4997606
END:VEVENT
BEGIN:VEVENT
DTSTART;TZID=Australia/Sydney:20310216T093000
DTEND;TZID=Australia/Sydney:20310216T223000
DTSTAMP:20260421T155531
CREATED:20260313T002855Z
LAST-MODIFIED:20260317T004248Z
UID:10001172-1929000600-1929047400@woywoy.lutheran.org.au
SUMMARY:Worship Service
DESCRIPTION:Please join us at 930am on Sundays for worship at 8 Jumbuck Cres Woy Woy\, NSW 2257
URL:https://woywoy.lutheran.org.au/event/worship-service-2/2031-02-16/
LOCATION:St Matthews Lutheran Church\, 8 Jumbuck Cres\, Woy Woy\, NSW\, 2257\, Australia
GEO:-33.4997606;151.3274231
X-APPLE-STRUCTURED-LOCATION;VALUE=URI;X-ADDRESS=St Matthews Lutheran Church 8 Jumbuck Cres Woy Woy NSW 2257 Australia;X-APPLE-RADIUS=500;X-TITLE=8 Jumbuck Cres:geo:151.3274231,-33.4997606
END:VEVENT
BEGIN:VEVENT
DTSTART;TZID=Australia/Sydney:20310223T093000
DTEND;TZID=Australia/Sydney:20310223T223000
DTSTAMP:20260421T155531
CREATED:20260313T002855Z
LAST-MODIFIED:20260317T004248Z
UID:10001173-1929605400-1929652200@woywoy.lutheran.org.au
SUMMARY:Worship Service
DESCRIPTION:Please join us at 930am on Sundays for worship at 8 Jumbuck Cres Woy Woy\, NSW 2257
URL:https://woywoy.lutheran.org.au/event/worship-service-2/2031-02-23/
LOCATION:St Matthews Lutheran Church\, 8 Jumbuck Cres\, Woy Woy\, NSW\, 2257\, Australia
GEO:-33.4997606;151.3274231
X-APPLE-STRUCTURED-LOCATION;VALUE=URI;X-ADDRESS=St Matthews Lutheran Church 8 Jumbuck Cres Woy Woy NSW 2257 Australia;X-APPLE-RADIUS=500;X-TITLE=8 Jumbuck Cres:geo:151.3274231,-33.4997606
END:VEVENT
BEGIN:VEVENT
DTSTART;TZID=Australia/Sydney:20310301T110000
DTEND;TZID=Australia/Sydney:20310301T120000
DTSTAMP:20260421T155531
CREATED:20260317T003737Z
LAST-MODIFIED:20260317T003737Z
UID:10001235-1930129200-1930132800@woywoy.lutheran.org.au
SUMMARY:Gottesdienst auf Deutsch / German Worship Service
DESCRIPTION:
URL:https://woywoy.lutheran.org.au/event/gottesdienst-auf-deutsch-german-worship-service/2031-03-01/
LOCATION:NSW
CATEGORIES:Worship
END:VEVENT
BEGIN:VEVENT
DTSTART;TZID=Australia/Sydney:20310302T093000
DTEND;TZID=Australia/Sydney:20310302T223000
DTSTAMP:20260421T155531
CREATED:20260313T002855Z
LAST-MODIFIED:20260317T004248Z
UID:10001174-1930210200-1930257000@woywoy.lutheran.org.au
SUMMARY:Worship Service
DESCRIPTION:Please join us at 930am on Sundays for worship at 8 Jumbuck Cres Woy Woy\, NSW 2257
URL:https://woywoy.lutheran.org.au/event/worship-service-2/2031-03-02/
LOCATION:St Matthews Lutheran Church\, 8 Jumbuck Cres\, Woy Woy\, NSW\, 2257\, Australia
GEO:-33.4997606;151.3274231
X-APPLE-STRUCTURED-LOCATION;VALUE=URI;X-ADDRESS=St Matthews Lutheran Church 8 Jumbuck Cres Woy Woy NSW 2257 Australia;X-APPLE-RADIUS=500;X-TITLE=8 Jumbuck Cres:geo:151.3274231,-33.4997606
END:VEVENT
BEGIN:VEVENT
DTSTART;TZID=Australia/Sydney:20310309T093000
DTEND;TZID=Australia/Sydney:20310309T223000
DTSTAMP:20260421T155531
CREATED:20260313T002855Z
LAST-MODIFIED:20260317T004248Z
UID:10001175-1930815000-1930861800@woywoy.lutheran.org.au
SUMMARY:Worship Service
DESCRIPTION:Please join us at 930am on Sundays for worship at 8 Jumbuck Cres Woy Woy\, NSW 2257
URL:https://woywoy.lutheran.org.au/event/worship-service-2/2031-03-09/
LOCATION:St Matthews Lutheran Church\, 8 Jumbuck Cres\, Woy Woy\, NSW\, 2257\, Australia
GEO:-33.4997606;151.3274231
X-APPLE-STRUCTURED-LOCATION;VALUE=URI;X-ADDRESS=St Matthews Lutheran Church 8 Jumbuck Cres Woy Woy NSW 2257 Australia;X-APPLE-RADIUS=500;X-TITLE=8 Jumbuck Cres:geo:151.3274231,-33.4997606
END:VEVENT
BEGIN:VEVENT
DTSTART;TZID=Australia/Sydney:20310316T093000
DTEND;TZID=Australia/Sydney:20310316T223000
DTSTAMP:20260421T155531
CREATED:20260313T002855Z
LAST-MODIFIED:20260317T004248Z
UID:10001238-1931419800-1931466600@woywoy.lutheran.org.au
SUMMARY:Worship Service
DESCRIPTION:Please join us at 930am on Sundays for worship at 8 Jumbuck Cres Woy Woy\, NSW 2257
URL:https://woywoy.lutheran.org.au/event/worship-service-2/2031-03-16/
LOCATION:St Matthews Lutheran Church\, 8 Jumbuck Cres\, Woy Woy\, NSW\, 2257\, Australia
GEO:-33.4997606;151.3274231
X-APPLE-STRUCTURED-LOCATION;VALUE=URI;X-ADDRESS=St Matthews Lutheran Church 8 Jumbuck Cres Woy Woy NSW 2257 Australia;X-APPLE-RADIUS=500;X-TITLE=8 Jumbuck Cres:geo:151.3274231,-33.4997606
END:VEVENT
END:VCALENDAR