BEGIN:VCALENDAR
VERSION:2.0
PRODID:-//St Matthew&#039;s Congregation Woy Woy, NSW - ECPv6.8.1//NONSGML v1.0//EN
CALSCALE:GREGORIAN
METHOD:PUBLISH
X-WR-CALNAME:St Matthew&#039;s Congregation Woy Woy, NSW
X-ORIGINAL-URL:https://woywoy.lutheran.org.au
X-WR-CALDESC:Events for St Matthew&#039;s Congregation Woy Woy, NSW
REFRESH-INTERVAL;VALUE=DURATION:PT1H
X-Robots-Tag:noindex
X-PUBLISHED-TTL:PT1H
BEGIN:VTIMEZONE
TZID:Australia/Sydney
BEGIN:STANDARD
TZOFFSETFROM:+1100
TZOFFSETTO:+1000
TZNAME:AEST
DTSTART:20220402T160000
END:STANDARD
BEGIN:DAYLIGHT
TZOFFSETFROM:+1000
TZOFFSETTO:+1100
TZNAME:AEDT
DTSTART:20221001T160000
END:DAYLIGHT
TZID:UTC
BEGIN:STANDARD
TZOFFSETFROM:+0000
TZOFFSETTO:+0000
TZNAME:UTC
DTSTART:20220101T000000
END:STANDARD
END:VTIMEZONE
BEGIN:VEVENT
DTSTART;TZID=Australia/Sydney:20220907T100000
DTEND;TZID=Australia/Sydney:20220907T120000
DTSTAMP:20260422T041634
CREATED:20181010T003801Z
LAST-MODIFIED:20181212T052539Z
UID:10000522-1662544800-1662552000@woywoy.lutheran.org.au
SUMMARY:Lutheran Women's Fellowship group
DESCRIPTION:Join our wonderful women’s fellowship group who meet monthly for devotion\, bible study and prayer\, followed by lunch.
URL:https://woywoy.lutheran.org.au/event/lutheran-womens-fellowship-group-2019-02-06/2022-09-07/
LOCATION:St Matthews Lutheran Church\, 8 Jumbuck Cres\, Woy Woy\, NSW\, 2257\, Australia
CATEGORIES:Women
ATTACH;FMTTYPE=image/jpeg:https://woywoy.lutheran.org.au/wp-content/uploads/sites/146/2018/06/6.-LWNSW-Ladies-group-meeting-at-St-Matthews-NSW.jpg
GEO:-33.4997606;151.3274231
X-APPLE-STRUCTURED-LOCATION;VALUE=URI;X-ADDRESS=St Matthews Lutheran Church 8 Jumbuck Cres Woy Woy NSW 2257 Australia;X-APPLE-RADIUS=500;X-TITLE=8 Jumbuck Cres:geo:151.3274231,-33.4997606
END:VEVENT
BEGIN:VEVENT
DTSTART;TZID=UTC:20220904T093000
DTEND;TZID=UTC:20220904T223000
DTSTAMP:20260422T041634
CREATED:20180812T165225Z
LAST-MODIFIED:20200323T030318Z
UID:10000209-1662283800-1662330600@woywoy.lutheran.org.au
SUMMARY:Online Worship Service
DESCRIPTION:As a temporary measure\, while State Government restrictions apply\, Sunday worships will be offered as simple live stream online via Facebook and YouTube.\nIt is possible to view the worships at a later date also.
URL:https://woywoy.lutheran.org.au/event/worship-service/2022-09-04/
LOCATION:St Matthews Lutheran Church\, 8 Jumbuck Cres\, Woy Woy\, NSW\, 2257\, Australia
CATEGORIES:Worship
GEO:-33.4997606;151.3274231
X-APPLE-STRUCTURED-LOCATION;VALUE=URI;X-ADDRESS=St Matthews Lutheran Church 8 Jumbuck Cres Woy Woy NSW 2257 Australia;X-APPLE-RADIUS=500;X-TITLE=8 Jumbuck Cres:geo:151.3274231,-33.4997606
END:VEVENT
BEGIN:VEVENT
DTSTART;TZID=UTC:20220904T093000
DTEND;TZID=UTC:20220904T223000
DTSTAMP:20260422T041634
CREATED:20180812T165225Z
LAST-MODIFIED:20211108T005628Z
UID:10000659-1662283800-1662330600@woywoy.lutheran.org.au
SUMMARY:Worship Service
DESCRIPTION:As the COVID-19 restrictions have been eased we have been able to return to our church and worship together almost as before. We will also continue our online presence. \nWelcome to St Matthew’s: at 8 Jumbuck Cres\, Facebook or YouTube! \nIt is possible to view the worships at a later date also.
URL:https://woywoy.lutheran.org.au/event/worship-service-2020-05-31/2022-09-04/
LOCATION:St Matthews Lutheran Church\, 8 Jumbuck Cres\, Woy Woy\, NSW\, 2257\, Australia
CATEGORIES:Worship
GEO:-33.4997606;151.3274231
X-APPLE-STRUCTURED-LOCATION;VALUE=URI;X-ADDRESS=St Matthews Lutheran Church 8 Jumbuck Cres Woy Woy NSW 2257 Australia;X-APPLE-RADIUS=500;X-TITLE=8 Jumbuck Cres:geo:151.3274231,-33.4997606
END:VEVENT
BEGIN:VEVENT
DTSTART;TZID=Australia/Sydney:20220903T110000
DTEND;TZID=Australia/Sydney:20220903T120000
DTSTAMP:20260422T041634
CREATED:20190219T020541Z
LAST-MODIFIED:20200309T043803Z
UID:10000876-1662202800-1662206400@woywoy.lutheran.org.au
SUMMARY:Gottesdienst auf Deutsch / German Worship Service
DESCRIPTION:
URL:https://woywoy.lutheran.org.au/event/german-worship-service/2022-09-03/
LOCATION:St Matthews Lutheran Church\, 8 Jumbuck Cres\, Woy Woy\, NSW\, 2257\, Australia
CATEGORIES:Worship
GEO:-33.4997606;151.3274231
X-APPLE-STRUCTURED-LOCATION;VALUE=URI;X-ADDRESS=St Matthews Lutheran Church 8 Jumbuck Cres Woy Woy NSW 2257 Australia;X-APPLE-RADIUS=500;X-TITLE=8 Jumbuck Cres:geo:151.3274231,-33.4997606
END:VEVENT
BEGIN:VEVENT
DTSTART;TZID=UTC:20220828T093000
DTEND;TZID=UTC:20220828T223000
DTSTAMP:20260422T041634
CREATED:20180812T165225Z
LAST-MODIFIED:20211108T005628Z
UID:10000658-1661679000-1661725800@woywoy.lutheran.org.au
SUMMARY:Worship Service
DESCRIPTION:As the COVID-19 restrictions have been eased we have been able to return to our church and worship together almost as before. We will also continue our online presence. \nWelcome to St Matthew’s: at 8 Jumbuck Cres\, Facebook or YouTube! \nIt is possible to view the worships at a later date also.
URL:https://woywoy.lutheran.org.au/event/worship-service-2020-05-31/2022-08-28/
LOCATION:St Matthews Lutheran Church\, 8 Jumbuck Cres\, Woy Woy\, NSW\, 2257\, Australia
CATEGORIES:Worship
GEO:-33.4997606;151.3274231
X-APPLE-STRUCTURED-LOCATION;VALUE=URI;X-ADDRESS=St Matthews Lutheran Church 8 Jumbuck Cres Woy Woy NSW 2257 Australia;X-APPLE-RADIUS=500;X-TITLE=8 Jumbuck Cres:geo:151.3274231,-33.4997606
END:VEVENT
BEGIN:VEVENT
DTSTART;TZID=UTC:20220828T093000
DTEND;TZID=UTC:20220828T223000
DTSTAMP:20260422T041634
CREATED:20180812T165225Z
LAST-MODIFIED:20200323T030318Z
UID:10000208-1661679000-1661725800@woywoy.lutheran.org.au
SUMMARY:Online Worship Service
DESCRIPTION:As a temporary measure\, while State Government restrictions apply\, Sunday worships will be offered as simple live stream online via Facebook and YouTube.\nIt is possible to view the worships at a later date also.
URL:https://woywoy.lutheran.org.au/event/worship-service/2022-08-28/
LOCATION:St Matthews Lutheran Church\, 8 Jumbuck Cres\, Woy Woy\, NSW\, 2257\, Australia
CATEGORIES:Worship
GEO:-33.4997606;151.3274231
X-APPLE-STRUCTURED-LOCATION;VALUE=URI;X-ADDRESS=St Matthews Lutheran Church 8 Jumbuck Cres Woy Woy NSW 2257 Australia;X-APPLE-RADIUS=500;X-TITLE=8 Jumbuck Cres:geo:151.3274231,-33.4997606
END:VEVENT
BEGIN:VEVENT
DTSTART;TZID=UTC:20220821T120000
DTEND;TZID=UTC:20220821T133000
DTSTAMP:20260422T041634
CREATED:20180812T165956Z
LAST-MODIFIED:20200309T044009Z
UID:10000442-1661083200-1661088600@woywoy.lutheran.org.au
SUMMARY:Jumalanpalvelus suomeksi Finnish Worship Service
DESCRIPTION:
URL:https://woywoy.lutheran.org.au/event/finnish-worship-services/2022-08-21/
LOCATION:St Matthews Lutheran Church\, 8 Jumbuck Cres\, Woy Woy\, NSW\, 2257\, Australia
CATEGORIES:Worship
GEO:-33.4997606;151.3274231
X-APPLE-STRUCTURED-LOCATION;VALUE=URI;X-ADDRESS=St Matthews Lutheran Church 8 Jumbuck Cres Woy Woy NSW 2257 Australia;X-APPLE-RADIUS=500;X-TITLE=8 Jumbuck Cres:geo:151.3274231,-33.4997606
END:VEVENT
BEGIN:VEVENT
DTSTART;TZID=UTC:20220821T093000
DTEND;TZID=UTC:20220821T223000
DTSTAMP:20260422T041634
CREATED:20180812T165225Z
LAST-MODIFIED:20200323T030318Z
UID:10000207-1661074200-1661121000@woywoy.lutheran.org.au
SUMMARY:Online Worship Service
DESCRIPTION:As a temporary measure\, while State Government restrictions apply\, Sunday worships will be offered as simple live stream online via Facebook and YouTube.\nIt is possible to view the worships at a later date also.
URL:https://woywoy.lutheran.org.au/event/worship-service/2022-08-21/
LOCATION:St Matthews Lutheran Church\, 8 Jumbuck Cres\, Woy Woy\, NSW\, 2257\, Australia
CATEGORIES:Worship
GEO:-33.4997606;151.3274231
X-APPLE-STRUCTURED-LOCATION;VALUE=URI;X-ADDRESS=St Matthews Lutheran Church 8 Jumbuck Cres Woy Woy NSW 2257 Australia;X-APPLE-RADIUS=500;X-TITLE=8 Jumbuck Cres:geo:151.3274231,-33.4997606
END:VEVENT
BEGIN:VEVENT
DTSTART;TZID=UTC:20220821T093000
DTEND;TZID=UTC:20220821T223000
DTSTAMP:20260422T041634
CREATED:20180812T165225Z
LAST-MODIFIED:20211108T005628Z
UID:10000657-1661074200-1661121000@woywoy.lutheran.org.au
SUMMARY:Worship Service
DESCRIPTION:As the COVID-19 restrictions have been eased we have been able to return to our church and worship together almost as before. We will also continue our online presence. \nWelcome to St Matthew’s: at 8 Jumbuck Cres\, Facebook or YouTube! \nIt is possible to view the worships at a later date also.
URL:https://woywoy.lutheran.org.au/event/worship-service-2020-05-31/2022-08-21/
LOCATION:St Matthews Lutheran Church\, 8 Jumbuck Cres\, Woy Woy\, NSW\, 2257\, Australia
CATEGORIES:Worship
GEO:-33.4997606;151.3274231
X-APPLE-STRUCTURED-LOCATION;VALUE=URI;X-ADDRESS=St Matthews Lutheran Church 8 Jumbuck Cres Woy Woy NSW 2257 Australia;X-APPLE-RADIUS=500;X-TITLE=8 Jumbuck Cres:geo:151.3274231,-33.4997606
END:VEVENT
BEGIN:VEVENT
DTSTART;TZID=UTC:20220814T093000
DTEND;TZID=UTC:20220814T223000
DTSTAMP:20260422T041634
CREATED:20180812T165225Z
LAST-MODIFIED:20200323T030318Z
UID:10000206-1660469400-1660516200@woywoy.lutheran.org.au
SUMMARY:Online Worship Service
DESCRIPTION:As a temporary measure\, while State Government restrictions apply\, Sunday worships will be offered as simple live stream online via Facebook and YouTube.\nIt is possible to view the worships at a later date also.
URL:https://woywoy.lutheran.org.au/event/worship-service/2022-08-14/
LOCATION:St Matthews Lutheran Church\, 8 Jumbuck Cres\, Woy Woy\, NSW\, 2257\, Australia
CATEGORIES:Worship
GEO:-33.4997606;151.3274231
X-APPLE-STRUCTURED-LOCATION;VALUE=URI;X-ADDRESS=St Matthews Lutheran Church 8 Jumbuck Cres Woy Woy NSW 2257 Australia;X-APPLE-RADIUS=500;X-TITLE=8 Jumbuck Cres:geo:151.3274231,-33.4997606
END:VEVENT
BEGIN:VEVENT
DTSTART;TZID=UTC:20220814T093000
DTEND;TZID=UTC:20220814T223000
DTSTAMP:20260422T041634
CREATED:20180812T165225Z
LAST-MODIFIED:20211108T005628Z
UID:10000656-1660469400-1660516200@woywoy.lutheran.org.au
SUMMARY:Worship Service
DESCRIPTION:As the COVID-19 restrictions have been eased we have been able to return to our church and worship together almost as before. We will also continue our online presence. \nWelcome to St Matthew’s: at 8 Jumbuck Cres\, Facebook or YouTube! \nIt is possible to view the worships at a later date also.
URL:https://woywoy.lutheran.org.au/event/worship-service-2020-05-31/2022-08-14/
LOCATION:St Matthews Lutheran Church\, 8 Jumbuck Cres\, Woy Woy\, NSW\, 2257\, Australia
CATEGORIES:Worship
GEO:-33.4997606;151.3274231
X-APPLE-STRUCTURED-LOCATION;VALUE=URI;X-ADDRESS=St Matthews Lutheran Church 8 Jumbuck Cres Woy Woy NSW 2257 Australia;X-APPLE-RADIUS=500;X-TITLE=8 Jumbuck Cres:geo:151.3274231,-33.4997606
END:VEVENT
BEGIN:VEVENT
DTSTART;TZID=UTC:20220807T093000
DTEND;TZID=UTC:20220807T223000
DTSTAMP:20260422T041634
CREATED:20180812T165225Z
LAST-MODIFIED:20211108T005628Z
UID:10000655-1659864600-1659911400@woywoy.lutheran.org.au
SUMMARY:Worship Service
DESCRIPTION:As the COVID-19 restrictions have been eased we have been able to return to our church and worship together almost as before. We will also continue our online presence. \nWelcome to St Matthew’s: at 8 Jumbuck Cres\, Facebook or YouTube! \nIt is possible to view the worships at a later date also.
URL:https://woywoy.lutheran.org.au/event/worship-service-2020-05-31/2022-08-07/
LOCATION:St Matthews Lutheran Church\, 8 Jumbuck Cres\, Woy Woy\, NSW\, 2257\, Australia
CATEGORIES:Worship
GEO:-33.4997606;151.3274231
X-APPLE-STRUCTURED-LOCATION;VALUE=URI;X-ADDRESS=St Matthews Lutheran Church 8 Jumbuck Cres Woy Woy NSW 2257 Australia;X-APPLE-RADIUS=500;X-TITLE=8 Jumbuck Cres:geo:151.3274231,-33.4997606
END:VEVENT
BEGIN:VEVENT
DTSTART;TZID=UTC:20220807T093000
DTEND;TZID=UTC:20220807T223000
DTSTAMP:20260422T041634
CREATED:20180812T165225Z
LAST-MODIFIED:20200323T030318Z
UID:10000205-1659864600-1659911400@woywoy.lutheran.org.au
SUMMARY:Online Worship Service
DESCRIPTION:As a temporary measure\, while State Government restrictions apply\, Sunday worships will be offered as simple live stream online via Facebook and YouTube.\nIt is possible to view the worships at a later date also.
URL:https://woywoy.lutheran.org.au/event/worship-service/2022-08-07/
LOCATION:St Matthews Lutheran Church\, 8 Jumbuck Cres\, Woy Woy\, NSW\, 2257\, Australia
CATEGORIES:Worship
GEO:-33.4997606;151.3274231
X-APPLE-STRUCTURED-LOCATION;VALUE=URI;X-ADDRESS=St Matthews Lutheran Church 8 Jumbuck Cres Woy Woy NSW 2257 Australia;X-APPLE-RADIUS=500;X-TITLE=8 Jumbuck Cres:geo:151.3274231,-33.4997606
END:VEVENT
BEGIN:VEVENT
DTSTART;TZID=Australia/Sydney:20220806T110000
DTEND;TZID=Australia/Sydney:20220806T120000
DTSTAMP:20260422T041634
CREATED:20190219T020541Z
LAST-MODIFIED:20200309T043803Z
UID:10000875-1659783600-1659787200@woywoy.lutheran.org.au
SUMMARY:Gottesdienst auf Deutsch / German Worship Service
DESCRIPTION:
URL:https://woywoy.lutheran.org.au/event/german-worship-service/2022-08-06/
LOCATION:St Matthews Lutheran Church\, 8 Jumbuck Cres\, Woy Woy\, NSW\, 2257\, Australia
CATEGORIES:Worship
GEO:-33.4997606;151.3274231
X-APPLE-STRUCTURED-LOCATION;VALUE=URI;X-ADDRESS=St Matthews Lutheran Church 8 Jumbuck Cres Woy Woy NSW 2257 Australia;X-APPLE-RADIUS=500;X-TITLE=8 Jumbuck Cres:geo:151.3274231,-33.4997606
END:VEVENT
BEGIN:VEVENT
DTSTART;TZID=Australia/Sydney:20220803T100000
DTEND;TZID=Australia/Sydney:20220803T120000
DTSTAMP:20260422T041634
CREATED:20181010T003801Z
LAST-MODIFIED:20181212T052540Z
UID:10000584-1659520800-1659528000@woywoy.lutheran.org.au
SUMMARY:Lutheran Women's Fellowship group
DESCRIPTION:Join our wonderful women’s fellowship group who meet monthly for devotion\, bible study and prayer\, followed by lunch.
URL:https://woywoy.lutheran.org.au/event/lutheran-womens-fellowship-group-2019-06-05/2022-08-03/
LOCATION:St Matthews Lutheran Church\, 8 Jumbuck Cres\, Woy Woy\, NSW\, 2257\, Australia
CATEGORIES:Women
ATTACH;FMTTYPE=image/jpeg:https://woywoy.lutheran.org.au/wp-content/uploads/sites/146/2018/06/6.-LWNSW-Ladies-group-meeting-at-St-Matthews-NSW.jpg
GEO:-33.4997606;151.3274231
X-APPLE-STRUCTURED-LOCATION;VALUE=URI;X-ADDRESS=St Matthews Lutheran Church 8 Jumbuck Cres Woy Woy NSW 2257 Australia;X-APPLE-RADIUS=500;X-TITLE=8 Jumbuck Cres:geo:151.3274231,-33.4997606
END:VEVENT
BEGIN:VEVENT
DTSTART;TZID=Australia/Sydney:20220803T100000
DTEND;TZID=Australia/Sydney:20220803T120000
DTSTAMP:20260422T041634
CREATED:20181010T003801Z
LAST-MODIFIED:20181212T052539Z
UID:10000521-1659520800-1659528000@woywoy.lutheran.org.au
SUMMARY:Lutheran Women's Fellowship group
DESCRIPTION:Join our wonderful women’s fellowship group who meet monthly for devotion\, bible study and prayer\, followed by lunch.
URL:https://woywoy.lutheran.org.au/event/lutheran-womens-fellowship-group-2019-02-06/2022-08-03/
LOCATION:St Matthews Lutheran Church\, 8 Jumbuck Cres\, Woy Woy\, NSW\, 2257\, Australia
CATEGORIES:Women
ATTACH;FMTTYPE=image/jpeg:https://woywoy.lutheran.org.au/wp-content/uploads/sites/146/2018/06/6.-LWNSW-Ladies-group-meeting-at-St-Matthews-NSW.jpg
GEO:-33.4997606;151.3274231
X-APPLE-STRUCTURED-LOCATION;VALUE=URI;X-ADDRESS=St Matthews Lutheran Church 8 Jumbuck Cres Woy Woy NSW 2257 Australia;X-APPLE-RADIUS=500;X-TITLE=8 Jumbuck Cres:geo:151.3274231,-33.4997606
END:VEVENT
BEGIN:VEVENT
DTSTART;TZID=UTC:20220731T093000
DTEND;TZID=UTC:20220731T223000
DTSTAMP:20260422T041634
CREATED:20180812T165225Z
LAST-MODIFIED:20200323T030318Z
UID:10000204-1659259800-1659306600@woywoy.lutheran.org.au
SUMMARY:Online Worship Service
DESCRIPTION:As a temporary measure\, while State Government restrictions apply\, Sunday worships will be offered as simple live stream online via Facebook and YouTube.\nIt is possible to view the worships at a later date also.
URL:https://woywoy.lutheran.org.au/event/worship-service/2022-07-31/
LOCATION:St Matthews Lutheran Church\, 8 Jumbuck Cres\, Woy Woy\, NSW\, 2257\, Australia
CATEGORIES:Worship
GEO:-33.4997606;151.3274231
X-APPLE-STRUCTURED-LOCATION;VALUE=URI;X-ADDRESS=St Matthews Lutheran Church 8 Jumbuck Cres Woy Woy NSW 2257 Australia;X-APPLE-RADIUS=500;X-TITLE=8 Jumbuck Cres:geo:151.3274231,-33.4997606
END:VEVENT
BEGIN:VEVENT
DTSTART;TZID=UTC:20220731T093000
DTEND;TZID=UTC:20220731T223000
DTSTAMP:20260422T041634
CREATED:20180812T165225Z
LAST-MODIFIED:20211108T005628Z
UID:10000654-1659259800-1659306600@woywoy.lutheran.org.au
SUMMARY:Worship Service
DESCRIPTION:As the COVID-19 restrictions have been eased we have been able to return to our church and worship together almost as before. We will also continue our online presence. \nWelcome to St Matthew’s: at 8 Jumbuck Cres\, Facebook or YouTube! \nIt is possible to view the worships at a later date also.
URL:https://woywoy.lutheran.org.au/event/worship-service-2020-05-31/2022-07-31/
LOCATION:St Matthews Lutheran Church\, 8 Jumbuck Cres\, Woy Woy\, NSW\, 2257\, Australia
CATEGORIES:Worship
GEO:-33.4997606;151.3274231
X-APPLE-STRUCTURED-LOCATION;VALUE=URI;X-ADDRESS=St Matthews Lutheran Church 8 Jumbuck Cres Woy Woy NSW 2257 Australia;X-APPLE-RADIUS=500;X-TITLE=8 Jumbuck Cres:geo:151.3274231,-33.4997606
END:VEVENT
BEGIN:VEVENT
DTSTART;TZID=UTC:20220724T093000
DTEND;TZID=UTC:20220724T223000
DTSTAMP:20260422T041634
CREATED:20180812T165225Z
LAST-MODIFIED:20211108T005628Z
UID:10000653-1658655000-1658701800@woywoy.lutheran.org.au
SUMMARY:Worship Service
DESCRIPTION:As the COVID-19 restrictions have been eased we have been able to return to our church and worship together almost as before. We will also continue our online presence. \nWelcome to St Matthew’s: at 8 Jumbuck Cres\, Facebook or YouTube! \nIt is possible to view the worships at a later date also.
URL:https://woywoy.lutheran.org.au/event/worship-service-2020-05-31/2022-07-24/
LOCATION:St Matthews Lutheran Church\, 8 Jumbuck Cres\, Woy Woy\, NSW\, 2257\, Australia
CATEGORIES:Worship
GEO:-33.4997606;151.3274231
X-APPLE-STRUCTURED-LOCATION;VALUE=URI;X-ADDRESS=St Matthews Lutheran Church 8 Jumbuck Cres Woy Woy NSW 2257 Australia;X-APPLE-RADIUS=500;X-TITLE=8 Jumbuck Cres:geo:151.3274231,-33.4997606
END:VEVENT
BEGIN:VEVENT
DTSTART;TZID=UTC:20220724T093000
DTEND;TZID=UTC:20220724T223000
DTSTAMP:20260422T041634
CREATED:20180812T165225Z
LAST-MODIFIED:20200323T030318Z
UID:10000203-1658655000-1658701800@woywoy.lutheran.org.au
SUMMARY:Online Worship Service
DESCRIPTION:As a temporary measure\, while State Government restrictions apply\, Sunday worships will be offered as simple live stream online via Facebook and YouTube.\nIt is possible to view the worships at a later date also.
URL:https://woywoy.lutheran.org.au/event/worship-service/2022-07-24/
LOCATION:St Matthews Lutheran Church\, 8 Jumbuck Cres\, Woy Woy\, NSW\, 2257\, Australia
CATEGORIES:Worship
GEO:-33.4997606;151.3274231
X-APPLE-STRUCTURED-LOCATION;VALUE=URI;X-ADDRESS=St Matthews Lutheran Church 8 Jumbuck Cres Woy Woy NSW 2257 Australia;X-APPLE-RADIUS=500;X-TITLE=8 Jumbuck Cres:geo:151.3274231,-33.4997606
END:VEVENT
BEGIN:VEVENT
DTSTART;TZID=UTC:20220717T120000
DTEND;TZID=UTC:20220717T133000
DTSTAMP:20260422T041634
CREATED:20180812T165956Z
LAST-MODIFIED:20200309T044009Z
UID:10000441-1658059200-1658064600@woywoy.lutheran.org.au
SUMMARY:Jumalanpalvelus suomeksi Finnish Worship Service
DESCRIPTION:
URL:https://woywoy.lutheran.org.au/event/finnish-worship-services/2022-07-17/
LOCATION:St Matthews Lutheran Church\, 8 Jumbuck Cres\, Woy Woy\, NSW\, 2257\, Australia
CATEGORIES:Worship
GEO:-33.4997606;151.3274231
X-APPLE-STRUCTURED-LOCATION;VALUE=URI;X-ADDRESS=St Matthews Lutheran Church 8 Jumbuck Cres Woy Woy NSW 2257 Australia;X-APPLE-RADIUS=500;X-TITLE=8 Jumbuck Cres:geo:151.3274231,-33.4997606
END:VEVENT
BEGIN:VEVENT
DTSTART;TZID=UTC:20220717T093000
DTEND;TZID=UTC:20220717T223000
DTSTAMP:20260422T041634
CREATED:20180812T165225Z
LAST-MODIFIED:20200323T030318Z
UID:10000202-1658050200-1658097000@woywoy.lutheran.org.au
SUMMARY:Online Worship Service
DESCRIPTION:As a temporary measure\, while State Government restrictions apply\, Sunday worships will be offered as simple live stream online via Facebook and YouTube.\nIt is possible to view the worships at a later date also.
URL:https://woywoy.lutheran.org.au/event/worship-service/2022-07-17/
LOCATION:St Matthews Lutheran Church\, 8 Jumbuck Cres\, Woy Woy\, NSW\, 2257\, Australia
CATEGORIES:Worship
GEO:-33.4997606;151.3274231
X-APPLE-STRUCTURED-LOCATION;VALUE=URI;X-ADDRESS=St Matthews Lutheran Church 8 Jumbuck Cres Woy Woy NSW 2257 Australia;X-APPLE-RADIUS=500;X-TITLE=8 Jumbuck Cres:geo:151.3274231,-33.4997606
END:VEVENT
BEGIN:VEVENT
DTSTART;TZID=UTC:20220717T093000
DTEND;TZID=UTC:20220717T223000
DTSTAMP:20260422T041634
CREATED:20180812T165225Z
LAST-MODIFIED:20211108T005628Z
UID:10000652-1658050200-1658097000@woywoy.lutheran.org.au
SUMMARY:Worship Service
DESCRIPTION:As the COVID-19 restrictions have been eased we have been able to return to our church and worship together almost as before. We will also continue our online presence. \nWelcome to St Matthew’s: at 8 Jumbuck Cres\, Facebook or YouTube! \nIt is possible to view the worships at a later date also.
URL:https://woywoy.lutheran.org.au/event/worship-service-2020-05-31/2022-07-17/
LOCATION:St Matthews Lutheran Church\, 8 Jumbuck Cres\, Woy Woy\, NSW\, 2257\, Australia
CATEGORIES:Worship
GEO:-33.4997606;151.3274231
X-APPLE-STRUCTURED-LOCATION;VALUE=URI;X-ADDRESS=St Matthews Lutheran Church 8 Jumbuck Cres Woy Woy NSW 2257 Australia;X-APPLE-RADIUS=500;X-TITLE=8 Jumbuck Cres:geo:151.3274231,-33.4997606
END:VEVENT
BEGIN:VEVENT
DTSTART;TZID=UTC:20220710T093000
DTEND;TZID=UTC:20220710T223000
DTSTAMP:20260422T041634
CREATED:20180812T165225Z
LAST-MODIFIED:20200323T030318Z
UID:10000201-1657445400-1657492200@woywoy.lutheran.org.au
SUMMARY:Online Worship Service
DESCRIPTION:As a temporary measure\, while State Government restrictions apply\, Sunday worships will be offered as simple live stream online via Facebook and YouTube.\nIt is possible to view the worships at a later date also.
URL:https://woywoy.lutheran.org.au/event/worship-service/2022-07-10/
LOCATION:St Matthews Lutheran Church\, 8 Jumbuck Cres\, Woy Woy\, NSW\, 2257\, Australia
CATEGORIES:Worship
GEO:-33.4997606;151.3274231
X-APPLE-STRUCTURED-LOCATION;VALUE=URI;X-ADDRESS=St Matthews Lutheran Church 8 Jumbuck Cres Woy Woy NSW 2257 Australia;X-APPLE-RADIUS=500;X-TITLE=8 Jumbuck Cres:geo:151.3274231,-33.4997606
END:VEVENT
BEGIN:VEVENT
DTSTART;TZID=UTC:20220710T093000
DTEND;TZID=UTC:20220710T223000
DTSTAMP:20260422T041634
CREATED:20180812T165225Z
LAST-MODIFIED:20211108T005628Z
UID:10000651-1657445400-1657492200@woywoy.lutheran.org.au
SUMMARY:Worship Service
DESCRIPTION:As the COVID-19 restrictions have been eased we have been able to return to our church and worship together almost as before. We will also continue our online presence. \nWelcome to St Matthew’s: at 8 Jumbuck Cres\, Facebook or YouTube! \nIt is possible to view the worships at a later date also.
URL:https://woywoy.lutheran.org.au/event/worship-service-2020-05-31/2022-07-10/
LOCATION:St Matthews Lutheran Church\, 8 Jumbuck Cres\, Woy Woy\, NSW\, 2257\, Australia
CATEGORIES:Worship
GEO:-33.4997606;151.3274231
X-APPLE-STRUCTURED-LOCATION;VALUE=URI;X-ADDRESS=St Matthews Lutheran Church 8 Jumbuck Cres Woy Woy NSW 2257 Australia;X-APPLE-RADIUS=500;X-TITLE=8 Jumbuck Cres:geo:151.3274231,-33.4997606
END:VEVENT
BEGIN:VEVENT
DTSTART;TZID=Australia/Sydney:20220706T100000
DTEND;TZID=Australia/Sydney:20220706T120000
DTSTAMP:20260422T041634
CREATED:20181010T003801Z
LAST-MODIFIED:20181212T052539Z
UID:10000520-1657101600-1657108800@woywoy.lutheran.org.au
SUMMARY:Lutheran Women's Fellowship group
DESCRIPTION:Join our wonderful women’s fellowship group who meet monthly for devotion\, bible study and prayer\, followed by lunch.
URL:https://woywoy.lutheran.org.au/event/lutheran-womens-fellowship-group-2019-02-06/2022-07-06/
LOCATION:St Matthews Lutheran Church\, 8 Jumbuck Cres\, Woy Woy\, NSW\, 2257\, Australia
CATEGORIES:Women
ATTACH;FMTTYPE=image/jpeg:https://woywoy.lutheran.org.au/wp-content/uploads/sites/146/2018/06/6.-LWNSW-Ladies-group-meeting-at-St-Matthews-NSW.jpg
GEO:-33.4997606;151.3274231
X-APPLE-STRUCTURED-LOCATION;VALUE=URI;X-ADDRESS=St Matthews Lutheran Church 8 Jumbuck Cres Woy Woy NSW 2257 Australia;X-APPLE-RADIUS=500;X-TITLE=8 Jumbuck Cres:geo:151.3274231,-33.4997606
END:VEVENT
BEGIN:VEVENT
DTSTART;TZID=Australia/Sydney:20220706T100000
DTEND;TZID=Australia/Sydney:20220706T120000
DTSTAMP:20260422T041634
CREATED:20181010T003801Z
LAST-MODIFIED:20181212T052540Z
UID:10000583-1657101600-1657108800@woywoy.lutheran.org.au
SUMMARY:Lutheran Women's Fellowship group
DESCRIPTION:Join our wonderful women’s fellowship group who meet monthly for devotion\, bible study and prayer\, followed by lunch.
URL:https://woywoy.lutheran.org.au/event/lutheran-womens-fellowship-group-2019-06-05/2022-07-06/
LOCATION:St Matthews Lutheran Church\, 8 Jumbuck Cres\, Woy Woy\, NSW\, 2257\, Australia
CATEGORIES:Women
ATTACH;FMTTYPE=image/jpeg:https://woywoy.lutheran.org.au/wp-content/uploads/sites/146/2018/06/6.-LWNSW-Ladies-group-meeting-at-St-Matthews-NSW.jpg
GEO:-33.4997606;151.3274231
X-APPLE-STRUCTURED-LOCATION;VALUE=URI;X-ADDRESS=St Matthews Lutheran Church 8 Jumbuck Cres Woy Woy NSW 2257 Australia;X-APPLE-RADIUS=500;X-TITLE=8 Jumbuck Cres:geo:151.3274231,-33.4997606
END:VEVENT
BEGIN:VEVENT
DTSTART;TZID=UTC:20220703T093000
DTEND;TZID=UTC:20220703T223000
DTSTAMP:20260422T041634
CREATED:20180812T165225Z
LAST-MODIFIED:20200323T030318Z
UID:10000200-1656840600-1656887400@woywoy.lutheran.org.au
SUMMARY:Online Worship Service
DESCRIPTION:As a temporary measure\, while State Government restrictions apply\, Sunday worships will be offered as simple live stream online via Facebook and YouTube.\nIt is possible to view the worships at a later date also.
URL:https://woywoy.lutheran.org.au/event/worship-service/2022-07-03/
LOCATION:St Matthews Lutheran Church\, 8 Jumbuck Cres\, Woy Woy\, NSW\, 2257\, Australia
CATEGORIES:Worship
GEO:-33.4997606;151.3274231
X-APPLE-STRUCTURED-LOCATION;VALUE=URI;X-ADDRESS=St Matthews Lutheran Church 8 Jumbuck Cres Woy Woy NSW 2257 Australia;X-APPLE-RADIUS=500;X-TITLE=8 Jumbuck Cres:geo:151.3274231,-33.4997606
END:VEVENT
BEGIN:VEVENT
DTSTART;TZID=UTC:20220703T093000
DTEND;TZID=UTC:20220703T223000
DTSTAMP:20260422T041634
CREATED:20180812T165225Z
LAST-MODIFIED:20211108T005628Z
UID:10000650-1656840600-1656887400@woywoy.lutheran.org.au
SUMMARY:Worship Service
DESCRIPTION:As the COVID-19 restrictions have been eased we have been able to return to our church and worship together almost as before. We will also continue our online presence. \nWelcome to St Matthew’s: at 8 Jumbuck Cres\, Facebook or YouTube! \nIt is possible to view the worships at a later date also.
URL:https://woywoy.lutheran.org.au/event/worship-service-2020-05-31/2022-07-03/
LOCATION:St Matthews Lutheran Church\, 8 Jumbuck Cres\, Woy Woy\, NSW\, 2257\, Australia
CATEGORIES:Worship
GEO:-33.4997606;151.3274231
X-APPLE-STRUCTURED-LOCATION;VALUE=URI;X-ADDRESS=St Matthews Lutheran Church 8 Jumbuck Cres Woy Woy NSW 2257 Australia;X-APPLE-RADIUS=500;X-TITLE=8 Jumbuck Cres:geo:151.3274231,-33.4997606
END:VEVENT
BEGIN:VEVENT
DTSTART;TZID=Australia/Sydney:20220702T110000
DTEND;TZID=Australia/Sydney:20220702T120000
DTSTAMP:20260422T041634
CREATED:20190219T020541Z
LAST-MODIFIED:20200309T043803Z
UID:10000874-1656759600-1656763200@woywoy.lutheran.org.au
SUMMARY:Gottesdienst auf Deutsch / German Worship Service
DESCRIPTION:
URL:https://woywoy.lutheran.org.au/event/german-worship-service/2022-07-02/
LOCATION:St Matthews Lutheran Church\, 8 Jumbuck Cres\, Woy Woy\, NSW\, 2257\, Australia
CATEGORIES:Worship
GEO:-33.4997606;151.3274231
X-APPLE-STRUCTURED-LOCATION;VALUE=URI;X-ADDRESS=St Matthews Lutheran Church 8 Jumbuck Cres Woy Woy NSW 2257 Australia;X-APPLE-RADIUS=500;X-TITLE=8 Jumbuck Cres:geo:151.3274231,-33.4997606
END:VEVENT
END:VCALENDAR