BEGIN:VCALENDAR
VERSION:2.0
PRODID:-//St Matthew&#039;s Congregation Woy Woy, NSW - ECPv6.8.1//NONSGML v1.0//EN
CALSCALE:GREGORIAN
METHOD:PUBLISH
X-ORIGINAL-URL:https://woywoy.lutheran.org.au
X-WR-CALDESC:Events for St Matthew&#039;s Congregation Woy Woy, NSW
REFRESH-INTERVAL;VALUE=DURATION:PT1H
X-Robots-Tag:noindex
X-PUBLISHED-TTL:PT1H
BEGIN:VTIMEZONE
TZID:UTC
BEGIN:STANDARD
TZOFFSETFROM:+0000
TZOFFSETTO:+0000
TZNAME:UTC
DTSTART:20220101T000000
END:STANDARD
TZID:Australia/Sydney
BEGIN:STANDARD
TZOFFSETFROM:+1100
TZOFFSETTO:+1000
TZNAME:AEST
DTSTART:20220402T160000
END:STANDARD
BEGIN:DAYLIGHT
TZOFFSETFROM:+1000
TZOFFSETTO:+1100
TZNAME:AEDT
DTSTART:20221001T160000
END:DAYLIGHT
END:VTIMEZONE
BEGIN:VEVENT
DTSTART;TZID=UTC:20220320T120000
DTEND;TZID=UTC:20220320T133000
DTSTAMP:20260422T100016
CREATED:20180812T165956Z
LAST-MODIFIED:20200309T044009Z
UID:10000437-1647777600-1647783000@woywoy.lutheran.org.au
SUMMARY:Jumalanpalvelus suomeksi Finnish Worship Service
DESCRIPTION:
URL:https://woywoy.lutheran.org.au/event/finnish-worship-services/2022-03-20/
LOCATION:St Matthews Lutheran Church\, 8 Jumbuck Cres\, Woy Woy\, NSW\, 2257\, Australia
CATEGORIES:Worship
GEO:-33.4997606;151.3274231
X-APPLE-STRUCTURED-LOCATION;VALUE=URI;X-ADDRESS=St Matthews Lutheran Church 8 Jumbuck Cres Woy Woy NSW 2257 Australia;X-APPLE-RADIUS=500;X-TITLE=8 Jumbuck Cres:geo:151.3274231,-33.4997606
END:VEVENT
BEGIN:VEVENT
DTSTART;TZID=UTC:20220320T093000
DTEND;TZID=UTC:20220320T223000
DTSTAMP:20260422T100016
CREATED:20180812T165225Z
LAST-MODIFIED:20200323T030318Z
UID:10000185-1647768600-1647815400@woywoy.lutheran.org.au
SUMMARY:Online Worship Service
DESCRIPTION:As a temporary measure\, while State Government restrictions apply\, Sunday worships will be offered as simple live stream online via Facebook and YouTube.\nIt is possible to view the worships at a later date also.
URL:https://woywoy.lutheran.org.au/event/worship-service/2022-03-20/
LOCATION:St Matthews Lutheran Church\, 8 Jumbuck Cres\, Woy Woy\, NSW\, 2257\, Australia
CATEGORIES:Worship
GEO:-33.4997606;151.3274231
X-APPLE-STRUCTURED-LOCATION;VALUE=URI;X-ADDRESS=St Matthews Lutheran Church 8 Jumbuck Cres Woy Woy NSW 2257 Australia;X-APPLE-RADIUS=500;X-TITLE=8 Jumbuck Cres:geo:151.3274231,-33.4997606
END:VEVENT
BEGIN:VEVENT
DTSTART;TZID=UTC:20220320T093000
DTEND;TZID=UTC:20220320T223000
DTSTAMP:20260422T100016
CREATED:20180812T165225Z
LAST-MODIFIED:20211108T005628Z
UID:10000635-1647768600-1647815400@woywoy.lutheran.org.au
SUMMARY:Worship Service
DESCRIPTION:As the COVID-19 restrictions have been eased we have been able to return to our church and worship together almost as before. We will also continue our online presence. \nWelcome to St Matthew’s: at 8 Jumbuck Cres\, Facebook or YouTube! \nIt is possible to view the worships at a later date also.
URL:https://woywoy.lutheran.org.au/event/worship-service-2020-05-31/2022-03-20/
LOCATION:St Matthews Lutheran Church\, 8 Jumbuck Cres\, Woy Woy\, NSW\, 2257\, Australia
CATEGORIES:Worship
GEO:-33.4997606;151.3274231
X-APPLE-STRUCTURED-LOCATION;VALUE=URI;X-ADDRESS=St Matthews Lutheran Church 8 Jumbuck Cres Woy Woy NSW 2257 Australia;X-APPLE-RADIUS=500;X-TITLE=8 Jumbuck Cres:geo:151.3274231,-33.4997606
END:VEVENT
BEGIN:VEVENT
DTSTART;TZID=UTC:20220313T093000
DTEND;TZID=UTC:20220313T223000
DTSTAMP:20260422T100016
CREATED:20180812T165225Z
LAST-MODIFIED:20200323T030318Z
UID:10000184-1647163800-1647210600@woywoy.lutheran.org.au
SUMMARY:Online Worship Service
DESCRIPTION:As a temporary measure\, while State Government restrictions apply\, Sunday worships will be offered as simple live stream online via Facebook and YouTube.\nIt is possible to view the worships at a later date also.
URL:https://woywoy.lutheran.org.au/event/worship-service/2022-03-13/
LOCATION:St Matthews Lutheran Church\, 8 Jumbuck Cres\, Woy Woy\, NSW\, 2257\, Australia
CATEGORIES:Worship
GEO:-33.4997606;151.3274231
X-APPLE-STRUCTURED-LOCATION;VALUE=URI;X-ADDRESS=St Matthews Lutheran Church 8 Jumbuck Cres Woy Woy NSW 2257 Australia;X-APPLE-RADIUS=500;X-TITLE=8 Jumbuck Cres:geo:151.3274231,-33.4997606
END:VEVENT
BEGIN:VEVENT
DTSTART;TZID=UTC:20220313T093000
DTEND;TZID=UTC:20220313T223000
DTSTAMP:20260422T100016
CREATED:20180812T165225Z
LAST-MODIFIED:20211108T005628Z
UID:10000634-1647163800-1647210600@woywoy.lutheran.org.au
SUMMARY:Worship Service
DESCRIPTION:As the COVID-19 restrictions have been eased we have been able to return to our church and worship together almost as before. We will also continue our online presence. \nWelcome to St Matthew’s: at 8 Jumbuck Cres\, Facebook or YouTube! \nIt is possible to view the worships at a later date also.
URL:https://woywoy.lutheran.org.au/event/worship-service-2020-05-31/2022-03-13/
LOCATION:St Matthews Lutheran Church\, 8 Jumbuck Cres\, Woy Woy\, NSW\, 2257\, Australia
CATEGORIES:Worship
GEO:-33.4997606;151.3274231
X-APPLE-STRUCTURED-LOCATION;VALUE=URI;X-ADDRESS=St Matthews Lutheran Church 8 Jumbuck Cres Woy Woy NSW 2257 Australia;X-APPLE-RADIUS=500;X-TITLE=8 Jumbuck Cres:geo:151.3274231,-33.4997606
END:VEVENT
BEGIN:VEVENT
DTSTART;TZID=UTC:20220306T093000
DTEND;TZID=UTC:20220306T223000
DTSTAMP:20260422T100016
CREATED:20180812T165225Z
LAST-MODIFIED:20200323T030318Z
UID:10000183-1646559000-1646605800@woywoy.lutheran.org.au
SUMMARY:Online Worship Service
DESCRIPTION:As a temporary measure\, while State Government restrictions apply\, Sunday worships will be offered as simple live stream online via Facebook and YouTube.\nIt is possible to view the worships at a later date also.
URL:https://woywoy.lutheran.org.au/event/worship-service/2022-03-06/
LOCATION:St Matthews Lutheran Church\, 8 Jumbuck Cres\, Woy Woy\, NSW\, 2257\, Australia
CATEGORIES:Worship
GEO:-33.4997606;151.3274231
X-APPLE-STRUCTURED-LOCATION;VALUE=URI;X-ADDRESS=St Matthews Lutheran Church 8 Jumbuck Cres Woy Woy NSW 2257 Australia;X-APPLE-RADIUS=500;X-TITLE=8 Jumbuck Cres:geo:151.3274231,-33.4997606
END:VEVENT
BEGIN:VEVENT
DTSTART;TZID=UTC:20220306T093000
DTEND;TZID=UTC:20220306T223000
DTSTAMP:20260422T100016
CREATED:20180812T165225Z
LAST-MODIFIED:20211108T005628Z
UID:10000633-1646559000-1646605800@woywoy.lutheran.org.au
SUMMARY:Worship Service
DESCRIPTION:As the COVID-19 restrictions have been eased we have been able to return to our church and worship together almost as before. We will also continue our online presence. \nWelcome to St Matthew’s: at 8 Jumbuck Cres\, Facebook or YouTube! \nIt is possible to view the worships at a later date also.
URL:https://woywoy.lutheran.org.au/event/worship-service-2020-05-31/2022-03-06/
LOCATION:St Matthews Lutheran Church\, 8 Jumbuck Cres\, Woy Woy\, NSW\, 2257\, Australia
CATEGORIES:Worship
GEO:-33.4997606;151.3274231
X-APPLE-STRUCTURED-LOCATION;VALUE=URI;X-ADDRESS=St Matthews Lutheran Church 8 Jumbuck Cres Woy Woy NSW 2257 Australia;X-APPLE-RADIUS=500;X-TITLE=8 Jumbuck Cres:geo:151.3274231,-33.4997606
END:VEVENT
BEGIN:VEVENT
DTSTART;TZID=Australia/Sydney:20220305T110000
DTEND;TZID=Australia/Sydney:20220305T120000
DTSTAMP:20260422T100016
CREATED:20190219T020541Z
LAST-MODIFIED:20200309T043803Z
UID:10000870-1646478000-1646481600@woywoy.lutheran.org.au
SUMMARY:Gottesdienst auf Deutsch / German Worship Service
DESCRIPTION:
URL:https://woywoy.lutheran.org.au/event/german-worship-service/2022-03-05/
LOCATION:St Matthews Lutheran Church\, 8 Jumbuck Cres\, Woy Woy\, NSW\, 2257\, Australia
CATEGORIES:Worship
GEO:-33.4997606;151.3274231
X-APPLE-STRUCTURED-LOCATION;VALUE=URI;X-ADDRESS=St Matthews Lutheran Church 8 Jumbuck Cres Woy Woy NSW 2257 Australia;X-APPLE-RADIUS=500;X-TITLE=8 Jumbuck Cres:geo:151.3274231,-33.4997606
END:VEVENT
BEGIN:VEVENT
DTSTART;TZID=Australia/Sydney:20220302T100000
DTEND;TZID=Australia/Sydney:20220302T120000
DTSTAMP:20260422T100016
CREATED:20181010T003801Z
LAST-MODIFIED:20181212T052540Z
UID:10000579-1646215200-1646222400@woywoy.lutheran.org.au
SUMMARY:Lutheran Women's Fellowship group
DESCRIPTION:Join our wonderful women’s fellowship group who meet monthly for devotion\, bible study and prayer\, followed by lunch.
URL:https://woywoy.lutheran.org.au/event/lutheran-womens-fellowship-group-2019-06-05/2022-03-02/
LOCATION:St Matthews Lutheran Church\, 8 Jumbuck Cres\, Woy Woy\, NSW\, 2257\, Australia
CATEGORIES:Women
ATTACH;FMTTYPE=image/jpeg:https://woywoy.lutheran.org.au/wp-content/uploads/sites/146/2018/06/6.-LWNSW-Ladies-group-meeting-at-St-Matthews-NSW.jpg
GEO:-33.4997606;151.3274231
X-APPLE-STRUCTURED-LOCATION;VALUE=URI;X-ADDRESS=St Matthews Lutheran Church 8 Jumbuck Cres Woy Woy NSW 2257 Australia;X-APPLE-RADIUS=500;X-TITLE=8 Jumbuck Cres:geo:151.3274231,-33.4997606
END:VEVENT
BEGIN:VEVENT
DTSTART;TZID=Australia/Sydney:20220302T100000
DTEND;TZID=Australia/Sydney:20220302T120000
DTSTAMP:20260422T100016
CREATED:20181010T003801Z
LAST-MODIFIED:20181212T052539Z
UID:10000516-1646215200-1646222400@woywoy.lutheran.org.au
SUMMARY:Lutheran Women's Fellowship group
DESCRIPTION:Join our wonderful women’s fellowship group who meet monthly for devotion\, bible study and prayer\, followed by lunch.
URL:https://woywoy.lutheran.org.au/event/lutheran-womens-fellowship-group-2019-02-06/2022-03-02/
LOCATION:St Matthews Lutheran Church\, 8 Jumbuck Cres\, Woy Woy\, NSW\, 2257\, Australia
CATEGORIES:Women
ATTACH;FMTTYPE=image/jpeg:https://woywoy.lutheran.org.au/wp-content/uploads/sites/146/2018/06/6.-LWNSW-Ladies-group-meeting-at-St-Matthews-NSW.jpg
GEO:-33.4997606;151.3274231
X-APPLE-STRUCTURED-LOCATION;VALUE=URI;X-ADDRESS=St Matthews Lutheran Church 8 Jumbuck Cres Woy Woy NSW 2257 Australia;X-APPLE-RADIUS=500;X-TITLE=8 Jumbuck Cres:geo:151.3274231,-33.4997606
END:VEVENT
BEGIN:VEVENT
DTSTART;TZID=UTC:20220227T093000
DTEND;TZID=UTC:20220227T223000
DTSTAMP:20260422T100016
CREATED:20180812T165225Z
LAST-MODIFIED:20200323T030318Z
UID:10000182-1645954200-1646001000@woywoy.lutheran.org.au
SUMMARY:Online Worship Service
DESCRIPTION:As a temporary measure\, while State Government restrictions apply\, Sunday worships will be offered as simple live stream online via Facebook and YouTube.\nIt is possible to view the worships at a later date also.
URL:https://woywoy.lutheran.org.au/event/worship-service/2022-02-27/
LOCATION:St Matthews Lutheran Church\, 8 Jumbuck Cres\, Woy Woy\, NSW\, 2257\, Australia
CATEGORIES:Worship
GEO:-33.4997606;151.3274231
X-APPLE-STRUCTURED-LOCATION;VALUE=URI;X-ADDRESS=St Matthews Lutheran Church 8 Jumbuck Cres Woy Woy NSW 2257 Australia;X-APPLE-RADIUS=500;X-TITLE=8 Jumbuck Cres:geo:151.3274231,-33.4997606
END:VEVENT
BEGIN:VEVENT
DTSTART;TZID=UTC:20220227T093000
DTEND;TZID=UTC:20220227T223000
DTSTAMP:20260422T100016
CREATED:20180812T165225Z
LAST-MODIFIED:20211108T005628Z
UID:10000632-1645954200-1646001000@woywoy.lutheran.org.au
SUMMARY:Worship Service
DESCRIPTION:As the COVID-19 restrictions have been eased we have been able to return to our church and worship together almost as before. We will also continue our online presence. \nWelcome to St Matthew’s: at 8 Jumbuck Cres\, Facebook or YouTube! \nIt is possible to view the worships at a later date also.
URL:https://woywoy.lutheran.org.au/event/worship-service-2020-05-31/2022-02-27/
LOCATION:St Matthews Lutheran Church\, 8 Jumbuck Cres\, Woy Woy\, NSW\, 2257\, Australia
CATEGORIES:Worship
GEO:-33.4997606;151.3274231
X-APPLE-STRUCTURED-LOCATION;VALUE=URI;X-ADDRESS=St Matthews Lutheran Church 8 Jumbuck Cres Woy Woy NSW 2257 Australia;X-APPLE-RADIUS=500;X-TITLE=8 Jumbuck Cres:geo:151.3274231,-33.4997606
END:VEVENT
BEGIN:VEVENT
DTSTART;TZID=UTC:20220220T120000
DTEND;TZID=UTC:20220220T133000
DTSTAMP:20260422T100016
CREATED:20180812T165956Z
LAST-MODIFIED:20200309T044009Z
UID:10000436-1645358400-1645363800@woywoy.lutheran.org.au
SUMMARY:Jumalanpalvelus suomeksi Finnish Worship Service
DESCRIPTION:
URL:https://woywoy.lutheran.org.au/event/finnish-worship-services/2022-02-20/
LOCATION:St Matthews Lutheran Church\, 8 Jumbuck Cres\, Woy Woy\, NSW\, 2257\, Australia
CATEGORIES:Worship
GEO:-33.4997606;151.3274231
X-APPLE-STRUCTURED-LOCATION;VALUE=URI;X-ADDRESS=St Matthews Lutheran Church 8 Jumbuck Cres Woy Woy NSW 2257 Australia;X-APPLE-RADIUS=500;X-TITLE=8 Jumbuck Cres:geo:151.3274231,-33.4997606
END:VEVENT
BEGIN:VEVENT
DTSTART;TZID=UTC:20220220T093000
DTEND;TZID=UTC:20220220T223000
DTSTAMP:20260422T100016
CREATED:20180812T165225Z
LAST-MODIFIED:20211108T005628Z
UID:10000631-1645349400-1645396200@woywoy.lutheran.org.au
SUMMARY:Worship Service
DESCRIPTION:As the COVID-19 restrictions have been eased we have been able to return to our church and worship together almost as before. We will also continue our online presence. \nWelcome to St Matthew’s: at 8 Jumbuck Cres\, Facebook or YouTube! \nIt is possible to view the worships at a later date also.
URL:https://woywoy.lutheran.org.au/event/worship-service-2020-05-31/2022-02-20/
LOCATION:St Matthews Lutheran Church\, 8 Jumbuck Cres\, Woy Woy\, NSW\, 2257\, Australia
CATEGORIES:Worship
GEO:-33.4997606;151.3274231
X-APPLE-STRUCTURED-LOCATION;VALUE=URI;X-ADDRESS=St Matthews Lutheran Church 8 Jumbuck Cres Woy Woy NSW 2257 Australia;X-APPLE-RADIUS=500;X-TITLE=8 Jumbuck Cres:geo:151.3274231,-33.4997606
END:VEVENT
BEGIN:VEVENT
DTSTART;TZID=UTC:20220220T093000
DTEND;TZID=UTC:20220220T223000
DTSTAMP:20260422T100016
CREATED:20180812T165225Z
LAST-MODIFIED:20200323T030318Z
UID:10000181-1645349400-1645396200@woywoy.lutheran.org.au
SUMMARY:Online Worship Service
DESCRIPTION:As a temporary measure\, while State Government restrictions apply\, Sunday worships will be offered as simple live stream online via Facebook and YouTube.\nIt is possible to view the worships at a later date also.
URL:https://woywoy.lutheran.org.au/event/worship-service/2022-02-20/
LOCATION:St Matthews Lutheran Church\, 8 Jumbuck Cres\, Woy Woy\, NSW\, 2257\, Australia
CATEGORIES:Worship
GEO:-33.4997606;151.3274231
X-APPLE-STRUCTURED-LOCATION;VALUE=URI;X-ADDRESS=St Matthews Lutheran Church 8 Jumbuck Cres Woy Woy NSW 2257 Australia;X-APPLE-RADIUS=500;X-TITLE=8 Jumbuck Cres:geo:151.3274231,-33.4997606
END:VEVENT
BEGIN:VEVENT
DTSTART;TZID=UTC:20220213T093000
DTEND;TZID=UTC:20220213T223000
DTSTAMP:20260422T100016
CREATED:20180812T165225Z
LAST-MODIFIED:20200323T030318Z
UID:10000180-1644744600-1644791400@woywoy.lutheran.org.au
SUMMARY:Online Worship Service
DESCRIPTION:As a temporary measure\, while State Government restrictions apply\, Sunday worships will be offered as simple live stream online via Facebook and YouTube.\nIt is possible to view the worships at a later date also.
URL:https://woywoy.lutheran.org.au/event/worship-service/2022-02-13/
LOCATION:St Matthews Lutheran Church\, 8 Jumbuck Cres\, Woy Woy\, NSW\, 2257\, Australia
CATEGORIES:Worship
GEO:-33.4997606;151.3274231
X-APPLE-STRUCTURED-LOCATION;VALUE=URI;X-ADDRESS=St Matthews Lutheran Church 8 Jumbuck Cres Woy Woy NSW 2257 Australia;X-APPLE-RADIUS=500;X-TITLE=8 Jumbuck Cres:geo:151.3274231,-33.4997606
END:VEVENT
BEGIN:VEVENT
DTSTART;TZID=UTC:20220213T093000
DTEND;TZID=UTC:20220213T223000
DTSTAMP:20260422T100016
CREATED:20180812T165225Z
LAST-MODIFIED:20211108T005628Z
UID:10000630-1644744600-1644791400@woywoy.lutheran.org.au
SUMMARY:Worship Service
DESCRIPTION:As the COVID-19 restrictions have been eased we have been able to return to our church and worship together almost as before. We will also continue our online presence. \nWelcome to St Matthew’s: at 8 Jumbuck Cres\, Facebook or YouTube! \nIt is possible to view the worships at a later date also.
URL:https://woywoy.lutheran.org.au/event/worship-service-2020-05-31/2022-02-13/
LOCATION:St Matthews Lutheran Church\, 8 Jumbuck Cres\, Woy Woy\, NSW\, 2257\, Australia
CATEGORIES:Worship
GEO:-33.4997606;151.3274231
X-APPLE-STRUCTURED-LOCATION;VALUE=URI;X-ADDRESS=St Matthews Lutheran Church 8 Jumbuck Cres Woy Woy NSW 2257 Australia;X-APPLE-RADIUS=500;X-TITLE=8 Jumbuck Cres:geo:151.3274231,-33.4997606
END:VEVENT
BEGIN:VEVENT
DTSTART;TZID=UTC:20220206T093000
DTEND;TZID=UTC:20220206T223000
DTSTAMP:20260422T100016
CREATED:20180812T165225Z
LAST-MODIFIED:20211108T005628Z
UID:10000629-1644139800-1644186600@woywoy.lutheran.org.au
SUMMARY:Worship Service
DESCRIPTION:As the COVID-19 restrictions have been eased we have been able to return to our church and worship together almost as before. We will also continue our online presence. \nWelcome to St Matthew’s: at 8 Jumbuck Cres\, Facebook or YouTube! \nIt is possible to view the worships at a later date also.
URL:https://woywoy.lutheran.org.au/event/worship-service-2020-05-31/2022-02-06/
LOCATION:St Matthews Lutheran Church\, 8 Jumbuck Cres\, Woy Woy\, NSW\, 2257\, Australia
CATEGORIES:Worship
GEO:-33.4997606;151.3274231
X-APPLE-STRUCTURED-LOCATION;VALUE=URI;X-ADDRESS=St Matthews Lutheran Church 8 Jumbuck Cres Woy Woy NSW 2257 Australia;X-APPLE-RADIUS=500;X-TITLE=8 Jumbuck Cres:geo:151.3274231,-33.4997606
END:VEVENT
BEGIN:VEVENT
DTSTART;TZID=UTC:20220206T093000
DTEND;TZID=UTC:20220206T223000
DTSTAMP:20260422T100016
CREATED:20180812T165225Z
LAST-MODIFIED:20200323T030318Z
UID:10000179-1644139800-1644186600@woywoy.lutheran.org.au
SUMMARY:Online Worship Service
DESCRIPTION:As a temporary measure\, while State Government restrictions apply\, Sunday worships will be offered as simple live stream online via Facebook and YouTube.\nIt is possible to view the worships at a later date also.
URL:https://woywoy.lutheran.org.au/event/worship-service/2022-02-06/
LOCATION:St Matthews Lutheran Church\, 8 Jumbuck Cres\, Woy Woy\, NSW\, 2257\, Australia
CATEGORIES:Worship
GEO:-33.4997606;151.3274231
X-APPLE-STRUCTURED-LOCATION;VALUE=URI;X-ADDRESS=St Matthews Lutheran Church 8 Jumbuck Cres Woy Woy NSW 2257 Australia;X-APPLE-RADIUS=500;X-TITLE=8 Jumbuck Cres:geo:151.3274231,-33.4997606
END:VEVENT
BEGIN:VEVENT
DTSTART;TZID=Australia/Sydney:20220205T110000
DTEND;TZID=Australia/Sydney:20220205T120000
DTSTAMP:20260422T100016
CREATED:20190219T020541Z
LAST-MODIFIED:20200309T043803Z
UID:10000869-1644058800-1644062400@woywoy.lutheran.org.au
SUMMARY:Gottesdienst auf Deutsch / German Worship Service
DESCRIPTION:
URL:https://woywoy.lutheran.org.au/event/german-worship-service/2022-02-05/
LOCATION:St Matthews Lutheran Church\, 8 Jumbuck Cres\, Woy Woy\, NSW\, 2257\, Australia
CATEGORIES:Worship
GEO:-33.4997606;151.3274231
X-APPLE-STRUCTURED-LOCATION;VALUE=URI;X-ADDRESS=St Matthews Lutheran Church 8 Jumbuck Cres Woy Woy NSW 2257 Australia;X-APPLE-RADIUS=500;X-TITLE=8 Jumbuck Cres:geo:151.3274231,-33.4997606
END:VEVENT
BEGIN:VEVENT
DTSTART;TZID=Australia/Sydney:20220202T100000
DTEND;TZID=Australia/Sydney:20220202T120000
DTSTAMP:20260422T100016
CREATED:20181010T003801Z
LAST-MODIFIED:20181212T052539Z
UID:10000515-1643796000-1643803200@woywoy.lutheran.org.au
SUMMARY:Lutheran Women's Fellowship group
DESCRIPTION:Join our wonderful women’s fellowship group who meet monthly for devotion\, bible study and prayer\, followed by lunch.
URL:https://woywoy.lutheran.org.au/event/lutheran-womens-fellowship-group-2019-02-06/2022-02-02/
LOCATION:St Matthews Lutheran Church\, 8 Jumbuck Cres\, Woy Woy\, NSW\, 2257\, Australia
CATEGORIES:Women
ATTACH;FMTTYPE=image/jpeg:https://woywoy.lutheran.org.au/wp-content/uploads/sites/146/2018/06/6.-LWNSW-Ladies-group-meeting-at-St-Matthews-NSW.jpg
GEO:-33.4997606;151.3274231
X-APPLE-STRUCTURED-LOCATION;VALUE=URI;X-ADDRESS=St Matthews Lutheran Church 8 Jumbuck Cres Woy Woy NSW 2257 Australia;X-APPLE-RADIUS=500;X-TITLE=8 Jumbuck Cres:geo:151.3274231,-33.4997606
END:VEVENT
BEGIN:VEVENT
DTSTART;TZID=Australia/Sydney:20220202T100000
DTEND;TZID=Australia/Sydney:20220202T120000
DTSTAMP:20260422T100016
CREATED:20181010T003801Z
LAST-MODIFIED:20181212T052540Z
UID:10000578-1643796000-1643803200@woywoy.lutheran.org.au
SUMMARY:Lutheran Women's Fellowship group
DESCRIPTION:Join our wonderful women’s fellowship group who meet monthly for devotion\, bible study and prayer\, followed by lunch.
URL:https://woywoy.lutheran.org.au/event/lutheran-womens-fellowship-group-2019-06-05/2022-02-02/
LOCATION:St Matthews Lutheran Church\, 8 Jumbuck Cres\, Woy Woy\, NSW\, 2257\, Australia
CATEGORIES:Women
ATTACH;FMTTYPE=image/jpeg:https://woywoy.lutheran.org.au/wp-content/uploads/sites/146/2018/06/6.-LWNSW-Ladies-group-meeting-at-St-Matthews-NSW.jpg
GEO:-33.4997606;151.3274231
X-APPLE-STRUCTURED-LOCATION;VALUE=URI;X-ADDRESS=St Matthews Lutheran Church 8 Jumbuck Cres Woy Woy NSW 2257 Australia;X-APPLE-RADIUS=500;X-TITLE=8 Jumbuck Cres:geo:151.3274231,-33.4997606
END:VEVENT
BEGIN:VEVENT
DTSTART;TZID=UTC:20220130T093000
DTEND;TZID=UTC:20220130T223000
DTSTAMP:20260422T100016
CREATED:20180812T165225Z
LAST-MODIFIED:20200323T030318Z
UID:10000178-1643535000-1643581800@woywoy.lutheran.org.au
SUMMARY:Online Worship Service
DESCRIPTION:As a temporary measure\, while State Government restrictions apply\, Sunday worships will be offered as simple live stream online via Facebook and YouTube.\nIt is possible to view the worships at a later date also.
URL:https://woywoy.lutheran.org.au/event/worship-service/2022-01-30/
LOCATION:St Matthews Lutheran Church\, 8 Jumbuck Cres\, Woy Woy\, NSW\, 2257\, Australia
CATEGORIES:Worship
GEO:-33.4997606;151.3274231
X-APPLE-STRUCTURED-LOCATION;VALUE=URI;X-ADDRESS=St Matthews Lutheran Church 8 Jumbuck Cres Woy Woy NSW 2257 Australia;X-APPLE-RADIUS=500;X-TITLE=8 Jumbuck Cres:geo:151.3274231,-33.4997606
END:VEVENT
BEGIN:VEVENT
DTSTART;TZID=UTC:20220130T093000
DTEND;TZID=UTC:20220130T223000
DTSTAMP:20260422T100016
CREATED:20180812T165225Z
LAST-MODIFIED:20211108T005628Z
UID:10000628-1643535000-1643581800@woywoy.lutheran.org.au
SUMMARY:Worship Service
DESCRIPTION:As the COVID-19 restrictions have been eased we have been able to return to our church and worship together almost as before. We will also continue our online presence. \nWelcome to St Matthew’s: at 8 Jumbuck Cres\, Facebook or YouTube! \nIt is possible to view the worships at a later date also.
URL:https://woywoy.lutheran.org.au/event/worship-service-2020-05-31/2022-01-30/
LOCATION:St Matthews Lutheran Church\, 8 Jumbuck Cres\, Woy Woy\, NSW\, 2257\, Australia
CATEGORIES:Worship
GEO:-33.4997606;151.3274231
X-APPLE-STRUCTURED-LOCATION;VALUE=URI;X-ADDRESS=St Matthews Lutheran Church 8 Jumbuck Cres Woy Woy NSW 2257 Australia;X-APPLE-RADIUS=500;X-TITLE=8 Jumbuck Cres:geo:151.3274231,-33.4997606
END:VEVENT
BEGIN:VEVENT
DTSTART;TZID=UTC:20220123T093000
DTEND;TZID=UTC:20220123T223000
DTSTAMP:20260422T100016
CREATED:20180812T165225Z
LAST-MODIFIED:20200323T030318Z
UID:10000177-1642930200-1642977000@woywoy.lutheran.org.au
SUMMARY:Online Worship Service
DESCRIPTION:As a temporary measure\, while State Government restrictions apply\, Sunday worships will be offered as simple live stream online via Facebook and YouTube.\nIt is possible to view the worships at a later date also.
URL:https://woywoy.lutheran.org.au/event/worship-service/2022-01-23/
LOCATION:St Matthews Lutheran Church\, 8 Jumbuck Cres\, Woy Woy\, NSW\, 2257\, Australia
CATEGORIES:Worship
GEO:-33.4997606;151.3274231
X-APPLE-STRUCTURED-LOCATION;VALUE=URI;X-ADDRESS=St Matthews Lutheran Church 8 Jumbuck Cres Woy Woy NSW 2257 Australia;X-APPLE-RADIUS=500;X-TITLE=8 Jumbuck Cres:geo:151.3274231,-33.4997606
END:VEVENT
BEGIN:VEVENT
DTSTART;TZID=UTC:20220123T093000
DTEND;TZID=UTC:20220123T223000
DTSTAMP:20260422T100016
CREATED:20180812T165225Z
LAST-MODIFIED:20211108T005628Z
UID:10000627-1642930200-1642977000@woywoy.lutheran.org.au
SUMMARY:Worship Service
DESCRIPTION:As the COVID-19 restrictions have been eased we have been able to return to our church and worship together almost as before. We will also continue our online presence. \nWelcome to St Matthew’s: at 8 Jumbuck Cres\, Facebook or YouTube! \nIt is possible to view the worships at a later date also.
URL:https://woywoy.lutheran.org.au/event/worship-service-2020-05-31/2022-01-23/
LOCATION:St Matthews Lutheran Church\, 8 Jumbuck Cres\, Woy Woy\, NSW\, 2257\, Australia
CATEGORIES:Worship
GEO:-33.4997606;151.3274231
X-APPLE-STRUCTURED-LOCATION;VALUE=URI;X-ADDRESS=St Matthews Lutheran Church 8 Jumbuck Cres Woy Woy NSW 2257 Australia;X-APPLE-RADIUS=500;X-TITLE=8 Jumbuck Cres:geo:151.3274231,-33.4997606
END:VEVENT
BEGIN:VEVENT
DTSTART;TZID=UTC:20220116T120000
DTEND;TZID=UTC:20220116T133000
DTSTAMP:20260422T100016
CREATED:20180812T165956Z
LAST-MODIFIED:20200309T044009Z
UID:10000435-1642334400-1642339800@woywoy.lutheran.org.au
SUMMARY:Jumalanpalvelus suomeksi Finnish Worship Service
DESCRIPTION:
URL:https://woywoy.lutheran.org.au/event/finnish-worship-services/2022-01-16/
LOCATION:St Matthews Lutheran Church\, 8 Jumbuck Cres\, Woy Woy\, NSW\, 2257\, Australia
CATEGORIES:Worship
GEO:-33.4997606;151.3274231
X-APPLE-STRUCTURED-LOCATION;VALUE=URI;X-ADDRESS=St Matthews Lutheran Church 8 Jumbuck Cres Woy Woy NSW 2257 Australia;X-APPLE-RADIUS=500;X-TITLE=8 Jumbuck Cres:geo:151.3274231,-33.4997606
END:VEVENT
BEGIN:VEVENT
DTSTART;TZID=UTC:20220116T093000
DTEND;TZID=UTC:20220116T223000
DTSTAMP:20260422T100016
CREATED:20180812T165225Z
LAST-MODIFIED:20211108T005628Z
UID:10000626-1642325400-1642372200@woywoy.lutheran.org.au
SUMMARY:Worship Service
DESCRIPTION:As the COVID-19 restrictions have been eased we have been able to return to our church and worship together almost as before. We will also continue our online presence. \nWelcome to St Matthew’s: at 8 Jumbuck Cres\, Facebook or YouTube! \nIt is possible to view the worships at a later date also.
URL:https://woywoy.lutheran.org.au/event/worship-service-2020-05-31/2022-01-16/
LOCATION:St Matthews Lutheran Church\, 8 Jumbuck Cres\, Woy Woy\, NSW\, 2257\, Australia
CATEGORIES:Worship
GEO:-33.4997606;151.3274231
X-APPLE-STRUCTURED-LOCATION;VALUE=URI;X-ADDRESS=St Matthews Lutheran Church 8 Jumbuck Cres Woy Woy NSW 2257 Australia;X-APPLE-RADIUS=500;X-TITLE=8 Jumbuck Cres:geo:151.3274231,-33.4997606
END:VEVENT
BEGIN:VEVENT
DTSTART;TZID=UTC:20220116T093000
DTEND;TZID=UTC:20220116T223000
DTSTAMP:20260422T100016
CREATED:20180812T165225Z
LAST-MODIFIED:20200323T030318Z
UID:10000176-1642325400-1642372200@woywoy.lutheran.org.au
SUMMARY:Online Worship Service
DESCRIPTION:As a temporary measure\, while State Government restrictions apply\, Sunday worships will be offered as simple live stream online via Facebook and YouTube.\nIt is possible to view the worships at a later date also.
URL:https://woywoy.lutheran.org.au/event/worship-service/2022-01-16/
LOCATION:St Matthews Lutheran Church\, 8 Jumbuck Cres\, Woy Woy\, NSW\, 2257\, Australia
CATEGORIES:Worship
GEO:-33.4997606;151.3274231
X-APPLE-STRUCTURED-LOCATION;VALUE=URI;X-ADDRESS=St Matthews Lutheran Church 8 Jumbuck Cres Woy Woy NSW 2257 Australia;X-APPLE-RADIUS=500;X-TITLE=8 Jumbuck Cres:geo:151.3274231,-33.4997606
END:VEVENT
BEGIN:VEVENT
DTSTART;TZID=UTC:20220109T093000
DTEND;TZID=UTC:20220109T223000
DTSTAMP:20260422T100016
CREATED:20180812T165225Z
LAST-MODIFIED:20200323T030318Z
UID:10000175-1641720600-1641767400@woywoy.lutheran.org.au
SUMMARY:Online Worship Service
DESCRIPTION:As a temporary measure\, while State Government restrictions apply\, Sunday worships will be offered as simple live stream online via Facebook and YouTube.\nIt is possible to view the worships at a later date also.
URL:https://woywoy.lutheran.org.au/event/worship-service/2022-01-09/
LOCATION:St Matthews Lutheran Church\, 8 Jumbuck Cres\, Woy Woy\, NSW\, 2257\, Australia
CATEGORIES:Worship
GEO:-33.4997606;151.3274231
X-APPLE-STRUCTURED-LOCATION;VALUE=URI;X-ADDRESS=St Matthews Lutheran Church 8 Jumbuck Cres Woy Woy NSW 2257 Australia;X-APPLE-RADIUS=500;X-TITLE=8 Jumbuck Cres:geo:151.3274231,-33.4997606
END:VEVENT
END:VCALENDAR