BEGIN:VCALENDAR
VERSION:2.0
PRODID:-//St Matthew&#039;s Congregation Woy Woy, NSW - ECPv6.8.1//NONSGML v1.0//EN
CALSCALE:GREGORIAN
METHOD:PUBLISH
X-WR-CALNAME:St Matthew&#039;s Congregation Woy Woy, NSW
X-ORIGINAL-URL:https://woywoy.lutheran.org.au
X-WR-CALDESC:Events for St Matthew&#039;s Congregation Woy Woy, NSW
REFRESH-INTERVAL;VALUE=DURATION:PT1H
X-Robots-Tag:noindex
X-PUBLISHED-TTL:PT1H
BEGIN:VTIMEZONE
TZID:UTC
BEGIN:STANDARD
TZOFFSETFROM:+0000
TZOFFSETTO:+0000
TZNAME:UTC
DTSTART:20200101T000000
END:STANDARD
TZID:Australia/Sydney
BEGIN:STANDARD
TZOFFSETFROM:+1100
TZOFFSETTO:+1000
TZNAME:AEST
DTSTART:20200404T160000
END:STANDARD
BEGIN:DAYLIGHT
TZOFFSETFROM:+1000
TZOFFSETTO:+1100
TZNAME:AEDT
DTSTART:20201003T160000
END:DAYLIGHT
END:VTIMEZONE
BEGIN:VEVENT
DTSTART;TZID=UTC:20200209T093000
DTEND;TZID=UTC:20200209T223000
DTSTAMP:20260420T230522
CREATED:20180812T165225Z
LAST-MODIFIED:20200323T030318Z
UID:10000079-1581240600-1581287400@woywoy.lutheran.org.au
SUMMARY:Online Worship Service
DESCRIPTION:As a temporary measure\, while State Government restrictions apply\, Sunday worships will be offered as simple live stream online via Facebook and YouTube.\nIt is possible to view the worships at a later date also.
URL:https://woywoy.lutheran.org.au/event/worship-service/2020-02-09/
LOCATION:St Matthews Lutheran Church\, 8 Jumbuck Cres\, Woy Woy\, NSW\, 2257\, Australia
CATEGORIES:Worship
GEO:-33.4997606;151.3274231
X-APPLE-STRUCTURED-LOCATION;VALUE=URI;X-ADDRESS=St Matthews Lutheran Church 8 Jumbuck Cres Woy Woy NSW 2257 Australia;X-APPLE-RADIUS=500;X-TITLE=8 Jumbuck Cres:geo:151.3274231,-33.4997606
END:VEVENT
BEGIN:VEVENT
DTSTART;TZID=UTC:20200216T093000
DTEND;TZID=UTC:20200216T223000
DTSTAMP:20260420T230522
CREATED:20180812T165225Z
LAST-MODIFIED:20200323T030318Z
UID:10000080-1581845400-1581892200@woywoy.lutheran.org.au
SUMMARY:Online Worship Service
DESCRIPTION:As a temporary measure\, while State Government restrictions apply\, Sunday worships will be offered as simple live stream online via Facebook and YouTube.\nIt is possible to view the worships at a later date also.
URL:https://woywoy.lutheran.org.au/event/worship-service/2020-02-16/
LOCATION:St Matthews Lutheran Church\, 8 Jumbuck Cres\, Woy Woy\, NSW\, 2257\, Australia
CATEGORIES:Worship
GEO:-33.4997606;151.3274231
X-APPLE-STRUCTURED-LOCATION;VALUE=URI;X-ADDRESS=St Matthews Lutheran Church 8 Jumbuck Cres Woy Woy NSW 2257 Australia;X-APPLE-RADIUS=500;X-TITLE=8 Jumbuck Cres:geo:151.3274231,-33.4997606
END:VEVENT
BEGIN:VEVENT
DTSTART;TZID=UTC:20200216T120000
DTEND;TZID=UTC:20200216T133000
DTSTAMP:20260420T230522
CREATED:20180812T165956Z
LAST-MODIFIED:20200309T044009Z
UID:10000412-1581854400-1581859800@woywoy.lutheran.org.au
SUMMARY:Jumalanpalvelus suomeksi Finnish Worship Service
DESCRIPTION:
URL:https://woywoy.lutheran.org.au/event/finnish-worship-services/2020-02-16/
LOCATION:St Matthews Lutheran Church\, 8 Jumbuck Cres\, Woy Woy\, NSW\, 2257\, Australia
CATEGORIES:Worship
GEO:-33.4997606;151.3274231
X-APPLE-STRUCTURED-LOCATION;VALUE=URI;X-ADDRESS=St Matthews Lutheran Church 8 Jumbuck Cres Woy Woy NSW 2257 Australia;X-APPLE-RADIUS=500;X-TITLE=8 Jumbuck Cres:geo:151.3274231,-33.4997606
END:VEVENT
BEGIN:VEVENT
DTSTART;TZID=UTC:20200223T093000
DTEND;TZID=UTC:20200223T223000
DTSTAMP:20260420T230523
CREATED:20180812T165225Z
LAST-MODIFIED:20200323T030318Z
UID:10000081-1582450200-1582497000@woywoy.lutheran.org.au
SUMMARY:Online Worship Service
DESCRIPTION:As a temporary measure\, while State Government restrictions apply\, Sunday worships will be offered as simple live stream online via Facebook and YouTube.\nIt is possible to view the worships at a later date also.
URL:https://woywoy.lutheran.org.au/event/worship-service/2020-02-23/
LOCATION:St Matthews Lutheran Church\, 8 Jumbuck Cres\, Woy Woy\, NSW\, 2257\, Australia
CATEGORIES:Worship
GEO:-33.4997606;151.3274231
X-APPLE-STRUCTURED-LOCATION;VALUE=URI;X-ADDRESS=St Matthews Lutheran Church 8 Jumbuck Cres Woy Woy NSW 2257 Australia;X-APPLE-RADIUS=500;X-TITLE=8 Jumbuck Cres:geo:151.3274231,-33.4997606
END:VEVENT
BEGIN:VEVENT
DTSTART;TZID=UTC:20200301T093000
DTEND;TZID=UTC:20200301T223000
DTSTAMP:20260420T230523
CREATED:20180812T165225Z
LAST-MODIFIED:20200323T030318Z
UID:10000082-1583055000-1583101800@woywoy.lutheran.org.au
SUMMARY:Online Worship Service
DESCRIPTION:As a temporary measure\, while State Government restrictions apply\, Sunday worships will be offered as simple live stream online via Facebook and YouTube.\nIt is possible to view the worships at a later date also.
URL:https://woywoy.lutheran.org.au/event/worship-service/2020-03-01/
LOCATION:St Matthews Lutheran Church\, 8 Jumbuck Cres\, Woy Woy\, NSW\, 2257\, Australia
CATEGORIES:Worship
GEO:-33.4997606;151.3274231
X-APPLE-STRUCTURED-LOCATION;VALUE=URI;X-ADDRESS=St Matthews Lutheran Church 8 Jumbuck Cres Woy Woy NSW 2257 Australia;X-APPLE-RADIUS=500;X-TITLE=8 Jumbuck Cres:geo:151.3274231,-33.4997606
END:VEVENT
BEGIN:VEVENT
DTSTART;TZID=Australia/Sydney:20200304T100000
DTEND;TZID=Australia/Sydney:20200304T120000
DTSTAMP:20260420T230523
CREATED:20181010T003801Z
LAST-MODIFIED:20181212T052539Z
UID:10000493-1583316000-1583323200@woywoy.lutheran.org.au
SUMMARY:Lutheran Women's Fellowship group
DESCRIPTION:Join our wonderful women’s fellowship group who meet monthly for devotion\, bible study and prayer\, followed by lunch.
URL:https://woywoy.lutheran.org.au/event/lutheran-womens-fellowship-group-2019-02-06/2020-03-04/
LOCATION:St Matthews Lutheran Church\, 8 Jumbuck Cres\, Woy Woy\, NSW\, 2257\, Australia
CATEGORIES:Women
ATTACH;FMTTYPE=image/jpeg:https://woywoy.lutheran.org.au/wp-content/uploads/sites/146/2018/06/6.-LWNSW-Ladies-group-meeting-at-St-Matthews-NSW.jpg
GEO:-33.4997606;151.3274231
X-APPLE-STRUCTURED-LOCATION;VALUE=URI;X-ADDRESS=St Matthews Lutheran Church 8 Jumbuck Cres Woy Woy NSW 2257 Australia;X-APPLE-RADIUS=500;X-TITLE=8 Jumbuck Cres:geo:151.3274231,-33.4997606
END:VEVENT
BEGIN:VEVENT
DTSTART;TZID=Australia/Sydney:20200304T100000
DTEND;TZID=Australia/Sydney:20200304T120000
DTSTAMP:20260420T230523
CREATED:20181010T003801Z
LAST-MODIFIED:20181212T052540Z
UID:10000557-1583316000-1583323200@woywoy.lutheran.org.au
SUMMARY:Lutheran Women's Fellowship group
DESCRIPTION:Join our wonderful women’s fellowship group who meet monthly for devotion\, bible study and prayer\, followed by lunch.
URL:https://woywoy.lutheran.org.au/event/lutheran-womens-fellowship-group-2019-06-05/2020-03-04/
LOCATION:St Matthews Lutheran Church\, 8 Jumbuck Cres\, Woy Woy\, NSW\, 2257\, Australia
CATEGORIES:Women
ATTACH;FMTTYPE=image/jpeg:https://woywoy.lutheran.org.au/wp-content/uploads/sites/146/2018/06/6.-LWNSW-Ladies-group-meeting-at-St-Matthews-NSW.jpg
GEO:-33.4997606;151.3274231
X-APPLE-STRUCTURED-LOCATION;VALUE=URI;X-ADDRESS=St Matthews Lutheran Church 8 Jumbuck Cres Woy Woy NSW 2257 Australia;X-APPLE-RADIUS=500;X-TITLE=8 Jumbuck Cres:geo:151.3274231,-33.4997606
END:VEVENT
BEGIN:VEVENT
DTSTART;TZID=Australia/Sydney:20200307T110000
DTEND;TZID=Australia/Sydney:20200307T120000
DTSTAMP:20260420T230523
CREATED:20190219T020541Z
LAST-MODIFIED:20200309T043803Z
UID:10000848-1583578800-1583582400@woywoy.lutheran.org.au
SUMMARY:Gottesdienst auf Deutsch / German Worship Service
DESCRIPTION:
URL:https://woywoy.lutheran.org.au/event/german-worship-service/2020-03-07/
LOCATION:St Matthews Lutheran Church\, 8 Jumbuck Cres\, Woy Woy\, NSW\, 2257\, Australia
CATEGORIES:Worship
GEO:-33.4997606;151.3274231
X-APPLE-STRUCTURED-LOCATION;VALUE=URI;X-ADDRESS=St Matthews Lutheran Church 8 Jumbuck Cres Woy Woy NSW 2257 Australia;X-APPLE-RADIUS=500;X-TITLE=8 Jumbuck Cres:geo:151.3274231,-33.4997606
END:VEVENT
BEGIN:VEVENT
DTSTART;TZID=UTC:20200308T093000
DTEND;TZID=UTC:20200308T223000
DTSTAMP:20260420T230523
CREATED:20180812T165225Z
LAST-MODIFIED:20200323T030318Z
UID:10000083-1583659800-1583706600@woywoy.lutheran.org.au
SUMMARY:Online Worship Service
DESCRIPTION:As a temporary measure\, while State Government restrictions apply\, Sunday worships will be offered as simple live stream online via Facebook and YouTube.\nIt is possible to view the worships at a later date also.
URL:https://woywoy.lutheran.org.au/event/worship-service/2020-03-08/
LOCATION:St Matthews Lutheran Church\, 8 Jumbuck Cres\, Woy Woy\, NSW\, 2257\, Australia
CATEGORIES:Worship
GEO:-33.4997606;151.3274231
X-APPLE-STRUCTURED-LOCATION;VALUE=URI;X-ADDRESS=St Matthews Lutheran Church 8 Jumbuck Cres Woy Woy NSW 2257 Australia;X-APPLE-RADIUS=500;X-TITLE=8 Jumbuck Cres:geo:151.3274231,-33.4997606
END:VEVENT
BEGIN:VEVENT
DTSTART;TZID=UTC:20200315T093000
DTEND;TZID=UTC:20200315T223000
DTSTAMP:20260420T230523
CREATED:20180812T165225Z
LAST-MODIFIED:20200323T030318Z
UID:10000084-1584264600-1584311400@woywoy.lutheran.org.au
SUMMARY:Online Worship Service
DESCRIPTION:As a temporary measure\, while State Government restrictions apply\, Sunday worships will be offered as simple live stream online via Facebook and YouTube.\nIt is possible to view the worships at a later date also.
URL:https://woywoy.lutheran.org.au/event/worship-service/2020-03-15/
LOCATION:St Matthews Lutheran Church\, 8 Jumbuck Cres\, Woy Woy\, NSW\, 2257\, Australia
CATEGORIES:Worship
GEO:-33.4997606;151.3274231
X-APPLE-STRUCTURED-LOCATION;VALUE=URI;X-ADDRESS=St Matthews Lutheran Church 8 Jumbuck Cres Woy Woy NSW 2257 Australia;X-APPLE-RADIUS=500;X-TITLE=8 Jumbuck Cres:geo:151.3274231,-33.4997606
END:VEVENT
BEGIN:VEVENT
DTSTART;TZID=UTC:20200315T120000
DTEND;TZID=UTC:20200315T133000
DTSTAMP:20260420T230523
CREATED:20180812T165956Z
LAST-MODIFIED:20200309T044009Z
UID:10000413-1584273600-1584279000@woywoy.lutheran.org.au
SUMMARY:Jumalanpalvelus suomeksi Finnish Worship Service
DESCRIPTION:
URL:https://woywoy.lutheran.org.au/event/finnish-worship-services/2020-03-15/
LOCATION:St Matthews Lutheran Church\, 8 Jumbuck Cres\, Woy Woy\, NSW\, 2257\, Australia
CATEGORIES:Worship
GEO:-33.4997606;151.3274231
X-APPLE-STRUCTURED-LOCATION;VALUE=URI;X-ADDRESS=St Matthews Lutheran Church 8 Jumbuck Cres Woy Woy NSW 2257 Australia;X-APPLE-RADIUS=500;X-TITLE=8 Jumbuck Cres:geo:151.3274231,-33.4997606
END:VEVENT
BEGIN:VEVENT
DTSTART;TZID=UTC:20200322T093000
DTEND;TZID=UTC:20200322T223000
DTSTAMP:20260420T230523
CREATED:20180812T165225Z
LAST-MODIFIED:20200331T021101Z
UID:10000773-1584869400-1584916200@woywoy.lutheran.org.au
SUMMARY:Online Worship Service
DESCRIPTION:As a temporary measure\, while State Government restrictions apply\, Sunday worships will be offered as simple live stream online via Facebook and YouTube.\nIt is possible to view the worship at a later date here:
URL:https://woywoy.lutheran.org.au/event/worship-service-2020-03-22/
LOCATION:St Matthews Lutheran Church\, 8 Jumbuck Cres\, Woy Woy\, NSW\, 2257\, Australia
CATEGORIES:Worship
GEO:-33.4997606;151.3274231
X-APPLE-STRUCTURED-LOCATION;VALUE=URI;X-ADDRESS=St Matthews Lutheran Church 8 Jumbuck Cres Woy Woy NSW 2257 Australia;X-APPLE-RADIUS=500;X-TITLE=8 Jumbuck Cres:geo:151.3274231,-33.4997606
END:VEVENT
BEGIN:VEVENT
DTSTART;TZID=UTC:20200329T093000
DTEND;TZID=UTC:20200329T223000
DTSTAMP:20260420T230523
CREATED:20180812T165225Z
LAST-MODIFIED:20200331T021301Z
UID:10000613-1585474200-1585521000@woywoy.lutheran.org.au
SUMMARY:Online Worship Service
DESCRIPTION:As a temporary measure\, while State Government restrictions apply\, Sunday worships will be offered as simple live stream online via Facebook and YouTube.\nIt is possible to view the worship at a later date here:
URL:https://woywoy.lutheran.org.au/event/worship-service-2020-03-29/
LOCATION:St Matthews Lutheran Church\, 8 Jumbuck Cres\, Woy Woy\, NSW\, 2257\, Australia
CATEGORIES:Worship
GEO:-33.4997606;151.3274231
X-APPLE-STRUCTURED-LOCATION;VALUE=URI;X-ADDRESS=St Matthews Lutheran Church 8 Jumbuck Cres Woy Woy NSW 2257 Australia;X-APPLE-RADIUS=500;X-TITLE=8 Jumbuck Cres:geo:151.3274231,-33.4997606
END:VEVENT
BEGIN:VEVENT
DTSTART;TZID=Australia/Sydney:20200401T100000
DTEND;TZID=Australia/Sydney:20200401T120000
DTSTAMP:20260420T230523
CREATED:20181010T003801Z
LAST-MODIFIED:20181212T052539Z
UID:10000494-1585735200-1585742400@woywoy.lutheran.org.au
SUMMARY:Lutheran Women's Fellowship group
DESCRIPTION:Join our wonderful women’s fellowship group who meet monthly for devotion\, bible study and prayer\, followed by lunch.
URL:https://woywoy.lutheran.org.au/event/lutheran-womens-fellowship-group-2019-02-06/2020-04-01/
LOCATION:St Matthews Lutheran Church\, 8 Jumbuck Cres\, Woy Woy\, NSW\, 2257\, Australia
CATEGORIES:Women
ATTACH;FMTTYPE=image/jpeg:https://woywoy.lutheran.org.au/wp-content/uploads/sites/146/2018/06/6.-LWNSW-Ladies-group-meeting-at-St-Matthews-NSW.jpg
GEO:-33.4997606;151.3274231
X-APPLE-STRUCTURED-LOCATION;VALUE=URI;X-ADDRESS=St Matthews Lutheran Church 8 Jumbuck Cres Woy Woy NSW 2257 Australia;X-APPLE-RADIUS=500;X-TITLE=8 Jumbuck Cres:geo:151.3274231,-33.4997606
END:VEVENT
BEGIN:VEVENT
DTSTART;TZID=Australia/Sydney:20200401T100000
DTEND;TZID=Australia/Sydney:20200401T120000
DTSTAMP:20260420T230523
CREATED:20181010T003801Z
LAST-MODIFIED:20200323T024739Z
UID:10000611-1585735200-1585742400@woywoy.lutheran.org.au
SUMMARY:Lutheran Women's Fellowship meeting is cancelled
DESCRIPTION:Dear Ladies of the St Matthews Lutheran Fellowship group \nAs you are now well aware of the COVID-19 situation – the decision to CANCEL our monthly meeting at St Matthews has been taken with the intention to help keep us all well. As the latest Dept of Health regulations come out it is deemed impossible to meet these – so unfortunately our monthly meeting will not commence until further notice. \nFollowing Bishop John Henderson’s video speech – found here  – he gives us good sound advice and reassurance. \nIt is great that we can still be together for Sunday services with Ps Allan providing us with the opportunity to access either via Facebook or YouTube links that he has given to us in his newsletter sent out via email. \nWe can also access the LCA link here which will give you two choices of live streaming of Lutheran church services held in SA and Qld. \nThis is the link for the Qld service which is very similar to St Matthews liturgy which you might enjoy watching. \nYes it is different times but with heartfelt prayer we can stand strong in our faith and continue to give praise to our Lord and Saviour!! \nPlease pray that the world will soon be rid of this pandemic concern and that we can return together saying \n    ‘God is our refuge and strength\, a very present help in trouble’  Psalm 46:1 NRSV
URL:https://woywoy.lutheran.org.au/event/lutheran-womens-fellowship-group-2020-04-01/
LOCATION:St Matthews Lutheran Church\, 8 Jumbuck Cres\, Woy Woy\, NSW\, 2257\, Australia
CATEGORIES:Women
ATTACH;FMTTYPE=image/jpeg:https://woywoy.lutheran.org.au/wp-content/uploads/sites/146/2018/06/6.-LWNSW-Ladies-group-meeting-at-St-Matthews-NSW.jpg
GEO:-33.4997606;151.3274231
X-APPLE-STRUCTURED-LOCATION;VALUE=URI;X-ADDRESS=St Matthews Lutheran Church 8 Jumbuck Cres Woy Woy NSW 2257 Australia;X-APPLE-RADIUS=500;X-TITLE=8 Jumbuck Cres:geo:151.3274231,-33.4997606
END:VEVENT
BEGIN:VEVENT
DTSTART;TZID=Australia/Sydney:20200410T093000
DTEND;TZID=Australia/Sydney:20200410T103000
DTSTAMP:20260420T230523
CREATED:20200309T043514Z
LAST-MODIFIED:20200323T030046Z
UID:10000908-1586511000-1586514600@woywoy.lutheran.org.au
SUMMARY:Online Good Friday Service
DESCRIPTION:As a temporary measure\, while State Government restrictions apply\, Sunday worships will be offered as simple live stream online via Facebook and YouTube.\nIt is possible to view the worships at a later date also.
URL:https://woywoy.lutheran.org.au/event/good-friday-service/
LOCATION:St Matthews Lutheran Church\, 8 Jumbuck Cres\, Woy Woy\, NSW\, 2257\, Australia
CATEGORIES:Worship
GEO:-33.4997606;151.3274231
X-APPLE-STRUCTURED-LOCATION;VALUE=URI;X-ADDRESS=St Matthews Lutheran Church 8 Jumbuck Cres Woy Woy NSW 2257 Australia;X-APPLE-RADIUS=500;X-TITLE=8 Jumbuck Cres:geo:151.3274231,-33.4997606
END:VEVENT
BEGIN:VEVENT
DTSTART;TZID=Australia/Sydney:20200410T150000
DTEND;TZID=Australia/Sydney:20200410T160000
DTSTAMP:20260420T230523
CREATED:20190219T020541Z
LAST-MODIFIED:20200325T061555Z
UID:10000834-1586530800-1586534400@woywoy.lutheran.org.au
SUMMARY:Karfreitag Gottesdienst / German Good Friday Service is cancelled
DESCRIPTION:Due to the pandemic the service is cancelled.
URL:https://woywoy.lutheran.org.au/event/german-worship-service-2020-04-04/
LOCATION:St Matthews Lutheran Church\, 8 Jumbuck Cres\, Woy Woy\, NSW\, 2257\, Australia
CATEGORIES:Worship
GEO:-33.4997606;151.3274231
X-APPLE-STRUCTURED-LOCATION;VALUE=URI;X-ADDRESS=St Matthews Lutheran Church 8 Jumbuck Cres Woy Woy NSW 2257 Australia;X-APPLE-RADIUS=500;X-TITLE=8 Jumbuck Cres:geo:151.3274231,-33.4997606
END:VEVENT
BEGIN:VEVENT
DTSTART;TZID=UTC:20200412T093000
DTEND;TZID=UTC:20200412T223000
DTSTAMP:20260420T230523
CREATED:20180812T165225Z
LAST-MODIFIED:20200323T030129Z
UID:10000615-1586683800-1586730600@woywoy.lutheran.org.au
SUMMARY:Online Easter Day Worship Service
DESCRIPTION:As a temporary measure\, while State Government restrictions apply\, Sunday worships will be offered as simple live stream online via Facebook and YouTube.\nIt is possible to view the worships at a later date also.
URL:https://woywoy.lutheran.org.au/event/worship-service-2020-04-12/
LOCATION:St Matthews Lutheran Church\, 8 Jumbuck Cres\, Woy Woy\, NSW\, 2257\, Australia
CATEGORIES:Worship
GEO:-33.4997606;151.3274231
X-APPLE-STRUCTURED-LOCATION;VALUE=URI;X-ADDRESS=St Matthews Lutheran Church 8 Jumbuck Cres Woy Woy NSW 2257 Australia;X-APPLE-RADIUS=500;X-TITLE=8 Jumbuck Cres:geo:151.3274231,-33.4997606
END:VEVENT
BEGIN:VEVENT
DTSTART;TZID=UTC:20200419T093000
DTEND;TZID=UTC:20200419T223000
DTSTAMP:20260420T230523
CREATED:20180812T165225Z
LAST-MODIFIED:20200323T030318Z
UID:10000085-1587288600-1587335400@woywoy.lutheran.org.au
SUMMARY:Online Worship Service
DESCRIPTION:As a temporary measure\, while State Government restrictions apply\, Sunday worships will be offered as simple live stream online via Facebook and YouTube.\nIt is possible to view the worships at a later date also.
URL:https://woywoy.lutheran.org.au/event/worship-service/2020-04-19/
LOCATION:St Matthews Lutheran Church\, 8 Jumbuck Cres\, Woy Woy\, NSW\, 2257\, Australia
CATEGORIES:Worship
GEO:-33.4997606;151.3274231
X-APPLE-STRUCTURED-LOCATION;VALUE=URI;X-ADDRESS=St Matthews Lutheran Church 8 Jumbuck Cres Woy Woy NSW 2257 Australia;X-APPLE-RADIUS=500;X-TITLE=8 Jumbuck Cres:geo:151.3274231,-33.4997606
END:VEVENT
BEGIN:VEVENT
DTSTART;TZID=UTC:20200419T120000
DTEND;TZID=UTC:20200419T133000
DTSTAMP:20260420T230523
CREATED:20180812T165956Z
LAST-MODIFIED:20200309T044009Z
UID:10000414-1587297600-1587303000@woywoy.lutheran.org.au
SUMMARY:Jumalanpalvelus suomeksi Finnish Worship Service
DESCRIPTION:
URL:https://woywoy.lutheran.org.au/event/finnish-worship-services/2020-04-19/
LOCATION:St Matthews Lutheran Church\, 8 Jumbuck Cres\, Woy Woy\, NSW\, 2257\, Australia
CATEGORIES:Worship
GEO:-33.4997606;151.3274231
X-APPLE-STRUCTURED-LOCATION;VALUE=URI;X-ADDRESS=St Matthews Lutheran Church 8 Jumbuck Cres Woy Woy NSW 2257 Australia;X-APPLE-RADIUS=500;X-TITLE=8 Jumbuck Cres:geo:151.3274231,-33.4997606
END:VEVENT
BEGIN:VEVENT
DTSTART;TZID=UTC:20200426T093000
DTEND;TZID=UTC:20200426T223000
DTSTAMP:20260420T230523
CREATED:20180812T165225Z
LAST-MODIFIED:20200323T030318Z
UID:10000086-1587893400-1587940200@woywoy.lutheran.org.au
SUMMARY:Online Worship Service
DESCRIPTION:As a temporary measure\, while State Government restrictions apply\, Sunday worships will be offered as simple live stream online via Facebook and YouTube.\nIt is possible to view the worships at a later date also.
URL:https://woywoy.lutheran.org.au/event/worship-service/2020-04-26/
LOCATION:St Matthews Lutheran Church\, 8 Jumbuck Cres\, Woy Woy\, NSW\, 2257\, Australia
CATEGORIES:Worship
GEO:-33.4997606;151.3274231
X-APPLE-STRUCTURED-LOCATION;VALUE=URI;X-ADDRESS=St Matthews Lutheran Church 8 Jumbuck Cres Woy Woy NSW 2257 Australia;X-APPLE-RADIUS=500;X-TITLE=8 Jumbuck Cres:geo:151.3274231,-33.4997606
END:VEVENT
BEGIN:VEVENT
DTSTART;TZID=Australia/Sydney:20200502T110000
DTEND;TZID=Australia/Sydney:20200502T120000
DTSTAMP:20260420T230523
CREATED:20190219T020541Z
LAST-MODIFIED:20200309T043803Z
UID:10000849-1588417200-1588420800@woywoy.lutheran.org.au
SUMMARY:Gottesdienst auf Deutsch / German Worship Service
DESCRIPTION:
URL:https://woywoy.lutheran.org.au/event/german-worship-service/2020-05-02/
LOCATION:St Matthews Lutheran Church\, 8 Jumbuck Cres\, Woy Woy\, NSW\, 2257\, Australia
CATEGORIES:Worship
GEO:-33.4997606;151.3274231
X-APPLE-STRUCTURED-LOCATION;VALUE=URI;X-ADDRESS=St Matthews Lutheran Church 8 Jumbuck Cres Woy Woy NSW 2257 Australia;X-APPLE-RADIUS=500;X-TITLE=8 Jumbuck Cres:geo:151.3274231,-33.4997606
END:VEVENT
BEGIN:VEVENT
DTSTART;TZID=UTC:20200503T093000
DTEND;TZID=UTC:20200503T223000
DTSTAMP:20260420T230523
CREATED:20180812T165225Z
LAST-MODIFIED:20200323T030318Z
UID:10000087-1588498200-1588545000@woywoy.lutheran.org.au
SUMMARY:Online Worship Service
DESCRIPTION:As a temporary measure\, while State Government restrictions apply\, Sunday worships will be offered as simple live stream online via Facebook and YouTube.\nIt is possible to view the worships at a later date also.
URL:https://woywoy.lutheran.org.au/event/worship-service/2020-05-03/
LOCATION:St Matthews Lutheran Church\, 8 Jumbuck Cres\, Woy Woy\, NSW\, 2257\, Australia
CATEGORIES:Worship
GEO:-33.4997606;151.3274231
X-APPLE-STRUCTURED-LOCATION;VALUE=URI;X-ADDRESS=St Matthews Lutheran Church 8 Jumbuck Cres Woy Woy NSW 2257 Australia;X-APPLE-RADIUS=500;X-TITLE=8 Jumbuck Cres:geo:151.3274231,-33.4997606
END:VEVENT
BEGIN:VEVENT
DTSTART;TZID=Australia/Sydney:20200506T100000
DTEND;TZID=Australia/Sydney:20200506T120000
DTSTAMP:20260420T230523
CREATED:20181010T003801Z
LAST-MODIFIED:20181010T004950Z
UID:10000612-1588759200-1588766400@woywoy.lutheran.org.au
SUMMARY:Lutheran Women's Fellowship group
DESCRIPTION:Join our wonderful women’s fellowship group who meet monthly for devotion\, bible study and prayer\, followed by lunch.
URL:https://woywoy.lutheran.org.au/event/lutheran-womens-fellowship-group-2020-05-06/
LOCATION:St Matthews Lutheran Church\, 8 Jumbuck Cres\, Woy Woy\, NSW\, 2257\, Australia
CATEGORIES:Women
ATTACH;FMTTYPE=image/jpeg:https://woywoy.lutheran.org.au/wp-content/uploads/sites/146/2018/06/6.-LWNSW-Ladies-group-meeting-at-St-Matthews-NSW.jpg
GEO:-33.4997606;151.3274231
X-APPLE-STRUCTURED-LOCATION;VALUE=URI;X-ADDRESS=St Matthews Lutheran Church 8 Jumbuck Cres Woy Woy NSW 2257 Australia;X-APPLE-RADIUS=500;X-TITLE=8 Jumbuck Cres:geo:151.3274231,-33.4997606
END:VEVENT
BEGIN:VEVENT
DTSTART;TZID=Australia/Sydney:20200506T100000
DTEND;TZID=Australia/Sydney:20200506T120000
DTSTAMP:20260420T230523
CREATED:20181010T003801Z
LAST-MODIFIED:20181212T052540Z
UID:10000558-1588759200-1588766400@woywoy.lutheran.org.au
SUMMARY:Lutheran Women's Fellowship group
DESCRIPTION:Join our wonderful women’s fellowship group who meet monthly for devotion\, bible study and prayer\, followed by lunch.
URL:https://woywoy.lutheran.org.au/event/lutheran-womens-fellowship-group-2019-06-05/2020-05-06/
LOCATION:St Matthews Lutheran Church\, 8 Jumbuck Cres\, Woy Woy\, NSW\, 2257\, Australia
CATEGORIES:Women
ATTACH;FMTTYPE=image/jpeg:https://woywoy.lutheran.org.au/wp-content/uploads/sites/146/2018/06/6.-LWNSW-Ladies-group-meeting-at-St-Matthews-NSW.jpg
GEO:-33.4997606;151.3274231
X-APPLE-STRUCTURED-LOCATION;VALUE=URI;X-ADDRESS=St Matthews Lutheran Church 8 Jumbuck Cres Woy Woy NSW 2257 Australia;X-APPLE-RADIUS=500;X-TITLE=8 Jumbuck Cres:geo:151.3274231,-33.4997606
END:VEVENT
BEGIN:VEVENT
DTSTART;TZID=Australia/Sydney:20200506T100000
DTEND;TZID=Australia/Sydney:20200506T120000
DTSTAMP:20260420T230523
CREATED:20181010T003801Z
LAST-MODIFIED:20181212T052539Z
UID:10000495-1588759200-1588766400@woywoy.lutheran.org.au
SUMMARY:Lutheran Women's Fellowship group
DESCRIPTION:Join our wonderful women’s fellowship group who meet monthly for devotion\, bible study and prayer\, followed by lunch.
URL:https://woywoy.lutheran.org.au/event/lutheran-womens-fellowship-group-2019-02-06/2020-05-06/
LOCATION:St Matthews Lutheran Church\, 8 Jumbuck Cres\, Woy Woy\, NSW\, 2257\, Australia
CATEGORIES:Women
ATTACH;FMTTYPE=image/jpeg:https://woywoy.lutheran.org.au/wp-content/uploads/sites/146/2018/06/6.-LWNSW-Ladies-group-meeting-at-St-Matthews-NSW.jpg
GEO:-33.4997606;151.3274231
X-APPLE-STRUCTURED-LOCATION;VALUE=URI;X-ADDRESS=St Matthews Lutheran Church 8 Jumbuck Cres Woy Woy NSW 2257 Australia;X-APPLE-RADIUS=500;X-TITLE=8 Jumbuck Cres:geo:151.3274231,-33.4997606
END:VEVENT
BEGIN:VEVENT
DTSTART;TZID=UTC:20200510T093000
DTEND;TZID=UTC:20200510T223000
DTSTAMP:20260420T230523
CREATED:20180812T165225Z
LAST-MODIFIED:20200323T030318Z
UID:10000088-1589103000-1589149800@woywoy.lutheran.org.au
SUMMARY:Online Worship Service
DESCRIPTION:As a temporary measure\, while State Government restrictions apply\, Sunday worships will be offered as simple live stream online via Facebook and YouTube.\nIt is possible to view the worships at a later date also.
URL:https://woywoy.lutheran.org.au/event/worship-service/2020-05-10/
LOCATION:St Matthews Lutheran Church\, 8 Jumbuck Cres\, Woy Woy\, NSW\, 2257\, Australia
CATEGORIES:Worship
GEO:-33.4997606;151.3274231
X-APPLE-STRUCTURED-LOCATION;VALUE=URI;X-ADDRESS=St Matthews Lutheran Church 8 Jumbuck Cres Woy Woy NSW 2257 Australia;X-APPLE-RADIUS=500;X-TITLE=8 Jumbuck Cres:geo:151.3274231,-33.4997606
END:VEVENT
BEGIN:VEVENT
DTSTART;TZID=UTC:20200517T093000
DTEND;TZID=UTC:20200517T223000
DTSTAMP:20260420T230523
CREATED:20180812T165225Z
LAST-MODIFIED:20200323T030318Z
UID:10000089-1589707800-1589754600@woywoy.lutheran.org.au
SUMMARY:Online Worship Service
DESCRIPTION:As a temporary measure\, while State Government restrictions apply\, Sunday worships will be offered as simple live stream online via Facebook and YouTube.\nIt is possible to view the worships at a later date also.
URL:https://woywoy.lutheran.org.au/event/worship-service/2020-05-17/
LOCATION:St Matthews Lutheran Church\, 8 Jumbuck Cres\, Woy Woy\, NSW\, 2257\, Australia
CATEGORIES:Worship
GEO:-33.4997606;151.3274231
X-APPLE-STRUCTURED-LOCATION;VALUE=URI;X-ADDRESS=St Matthews Lutheran Church 8 Jumbuck Cres Woy Woy NSW 2257 Australia;X-APPLE-RADIUS=500;X-TITLE=8 Jumbuck Cres:geo:151.3274231,-33.4997606
END:VEVENT
BEGIN:VEVENT
DTSTART;TZID=UTC:20200517T120000
DTEND;TZID=UTC:20200517T133000
DTSTAMP:20260420T230523
CREATED:20180812T165956Z
LAST-MODIFIED:20200309T044009Z
UID:10000415-1589716800-1589722200@woywoy.lutheran.org.au
SUMMARY:Jumalanpalvelus suomeksi Finnish Worship Service
DESCRIPTION:
URL:https://woywoy.lutheran.org.au/event/finnish-worship-services/2020-05-17/
LOCATION:St Matthews Lutheran Church\, 8 Jumbuck Cres\, Woy Woy\, NSW\, 2257\, Australia
CATEGORIES:Worship
GEO:-33.4997606;151.3274231
X-APPLE-STRUCTURED-LOCATION;VALUE=URI;X-ADDRESS=St Matthews Lutheran Church 8 Jumbuck Cres Woy Woy NSW 2257 Australia;X-APPLE-RADIUS=500;X-TITLE=8 Jumbuck Cres:geo:151.3274231,-33.4997606
END:VEVENT
BEGIN:VEVENT
DTSTART;TZID=UTC:20200524T093000
DTEND;TZID=UTC:20200524T223000
DTSTAMP:20260420T230523
CREATED:20180812T165225Z
LAST-MODIFIED:20200323T030318Z
UID:10000090-1590312600-1590359400@woywoy.lutheran.org.au
SUMMARY:Online Worship Service
DESCRIPTION:As a temporary measure\, while State Government restrictions apply\, Sunday worships will be offered as simple live stream online via Facebook and YouTube.\nIt is possible to view the worships at a later date also.
URL:https://woywoy.lutheran.org.au/event/worship-service/2020-05-24/
LOCATION:St Matthews Lutheran Church\, 8 Jumbuck Cres\, Woy Woy\, NSW\, 2257\, Australia
CATEGORIES:Worship
GEO:-33.4997606;151.3274231
X-APPLE-STRUCTURED-LOCATION;VALUE=URI;X-ADDRESS=St Matthews Lutheran Church 8 Jumbuck Cres Woy Woy NSW 2257 Australia;X-APPLE-RADIUS=500;X-TITLE=8 Jumbuck Cres:geo:151.3274231,-33.4997606
END:VEVENT
END:VCALENDAR