BEGIN:VCALENDAR
VERSION:2.0
PRODID:-//St Matthew&#039;s Congregation Woy Woy, NSW - ECPv6.8.1//NONSGML v1.0//EN
CALSCALE:GREGORIAN
METHOD:PUBLISH
X-WR-CALNAME:St Matthew&#039;s Congregation Woy Woy, NSW
X-ORIGINAL-URL:https://woywoy.lutheran.org.au
X-WR-CALDESC:Events for St Matthew&#039;s Congregation Woy Woy, NSW
REFRESH-INTERVAL;VALUE=DURATION:PT1H
X-Robots-Tag:noindex
X-PUBLISHED-TTL:PT1H
BEGIN:VTIMEZONE
TZID:Australia/Sydney
BEGIN:STANDARD
TZOFFSETFROM:+1100
TZOFFSETTO:+1000
TZNAME:AEST
DTSTART:20280401T160000
END:STANDARD
BEGIN:DAYLIGHT
TZOFFSETFROM:+1000
TZOFFSETTO:+1100
TZNAME:AEDT
DTSTART:20280930T160000
END:DAYLIGHT
BEGIN:STANDARD
TZOFFSETFROM:+1100
TZOFFSETTO:+1000
TZNAME:AEST
DTSTART:20290331T160000
END:STANDARD
BEGIN:DAYLIGHT
TZOFFSETFROM:+1000
TZOFFSETTO:+1100
TZNAME:AEDT
DTSTART:20291006T160000
END:DAYLIGHT
END:VTIMEZONE
BEGIN:VEVENT
DTSTART;TZID=Australia/Sydney:20281015T093000
DTEND;TZID=Australia/Sydney:20281015T223000
DTSTAMP:20260420T154351
CREATED:20260313T002855Z
LAST-MODIFIED:20260317T004248Z
UID:10001050-1855215000-1855261800@woywoy.lutheran.org.au
SUMMARY:Worship Service
DESCRIPTION:Please join us at 930am on Sundays for worship at 8 Jumbuck Cres Woy Woy\, NSW 2257
URL:https://woywoy.lutheran.org.au/event/worship-service-2/2028-10-15/
LOCATION:St Matthews Lutheran Church\, 8 Jumbuck Cres\, Woy Woy\, NSW\, 2257\, Australia
GEO:-33.4997606;151.3274231
X-APPLE-STRUCTURED-LOCATION;VALUE=URI;X-ADDRESS=St Matthews Lutheran Church 8 Jumbuck Cres Woy Woy NSW 2257 Australia;X-APPLE-RADIUS=500;X-TITLE=8 Jumbuck Cres:geo:151.3274231,-33.4997606
END:VEVENT
BEGIN:VEVENT
DTSTART;TZID=Australia/Sydney:20281022T093000
DTEND;TZID=Australia/Sydney:20281022T223000
DTSTAMP:20260420T154351
CREATED:20260313T002855Z
LAST-MODIFIED:20260317T004248Z
UID:10001051-1855819800-1855866600@woywoy.lutheran.org.au
SUMMARY:Worship Service
DESCRIPTION:Please join us at 930am on Sundays for worship at 8 Jumbuck Cres Woy Woy\, NSW 2257
URL:https://woywoy.lutheran.org.au/event/worship-service-2/2028-10-22/
LOCATION:St Matthews Lutheran Church\, 8 Jumbuck Cres\, Woy Woy\, NSW\, 2257\, Australia
GEO:-33.4997606;151.3274231
X-APPLE-STRUCTURED-LOCATION;VALUE=URI;X-ADDRESS=St Matthews Lutheran Church 8 Jumbuck Cres Woy Woy NSW 2257 Australia;X-APPLE-RADIUS=500;X-TITLE=8 Jumbuck Cres:geo:151.3274231,-33.4997606
END:VEVENT
BEGIN:VEVENT
DTSTART;TZID=Australia/Sydney:20281029T093000
DTEND;TZID=Australia/Sydney:20281029T223000
DTSTAMP:20260420T154351
CREATED:20260313T002855Z
LAST-MODIFIED:20260317T004248Z
UID:10001052-1856424600-1856471400@woywoy.lutheran.org.au
SUMMARY:Worship Service
DESCRIPTION:Please join us at 930am on Sundays for worship at 8 Jumbuck Cres Woy Woy\, NSW 2257
URL:https://woywoy.lutheran.org.au/event/worship-service-2/2028-10-29/
LOCATION:St Matthews Lutheran Church\, 8 Jumbuck Cres\, Woy Woy\, NSW\, 2257\, Australia
GEO:-33.4997606;151.3274231
X-APPLE-STRUCTURED-LOCATION;VALUE=URI;X-ADDRESS=St Matthews Lutheran Church 8 Jumbuck Cres Woy Woy NSW 2257 Australia;X-APPLE-RADIUS=500;X-TITLE=8 Jumbuck Cres:geo:151.3274231,-33.4997606
END:VEVENT
BEGIN:VEVENT
DTSTART;TZID=Australia/Sydney:20281104T110000
DTEND;TZID=Australia/Sydney:20281104T120000
DTSTAMP:20260420T154351
CREATED:20260317T003737Z
LAST-MODIFIED:20260317T003737Z
UID:10001207-1856948400-1856952000@woywoy.lutheran.org.au
SUMMARY:Gottesdienst auf Deutsch / German Worship Service
DESCRIPTION:
URL:https://woywoy.lutheran.org.au/event/gottesdienst-auf-deutsch-german-worship-service/2028-11-04/
LOCATION:NSW
CATEGORIES:Worship
END:VEVENT
BEGIN:VEVENT
DTSTART;TZID=Australia/Sydney:20281105T093000
DTEND;TZID=Australia/Sydney:20281105T223000
DTSTAMP:20260420T154351
CREATED:20260313T002855Z
LAST-MODIFIED:20260317T004248Z
UID:10001053-1857029400-1857076200@woywoy.lutheran.org.au
SUMMARY:Worship Service
DESCRIPTION:Please join us at 930am on Sundays for worship at 8 Jumbuck Cres Woy Woy\, NSW 2257
URL:https://woywoy.lutheran.org.au/event/worship-service-2/2028-11-05/
LOCATION:St Matthews Lutheran Church\, 8 Jumbuck Cres\, Woy Woy\, NSW\, 2257\, Australia
GEO:-33.4997606;151.3274231
X-APPLE-STRUCTURED-LOCATION;VALUE=URI;X-ADDRESS=St Matthews Lutheran Church 8 Jumbuck Cres Woy Woy NSW 2257 Australia;X-APPLE-RADIUS=500;X-TITLE=8 Jumbuck Cres:geo:151.3274231,-33.4997606
END:VEVENT
BEGIN:VEVENT
DTSTART;TZID=Australia/Sydney:20281112T093000
DTEND;TZID=Australia/Sydney:20281112T223000
DTSTAMP:20260420T154351
CREATED:20260313T002855Z
LAST-MODIFIED:20260317T004248Z
UID:10001054-1857634200-1857681000@woywoy.lutheran.org.au
SUMMARY:Worship Service
DESCRIPTION:Please join us at 930am on Sundays for worship at 8 Jumbuck Cres Woy Woy\, NSW 2257
URL:https://woywoy.lutheran.org.au/event/worship-service-2/2028-11-12/
LOCATION:St Matthews Lutheran Church\, 8 Jumbuck Cres\, Woy Woy\, NSW\, 2257\, Australia
GEO:-33.4997606;151.3274231
X-APPLE-STRUCTURED-LOCATION;VALUE=URI;X-ADDRESS=St Matthews Lutheran Church 8 Jumbuck Cres Woy Woy NSW 2257 Australia;X-APPLE-RADIUS=500;X-TITLE=8 Jumbuck Cres:geo:151.3274231,-33.4997606
END:VEVENT
BEGIN:VEVENT
DTSTART;TZID=Australia/Sydney:20281119T093000
DTEND;TZID=Australia/Sydney:20281119T223000
DTSTAMP:20260420T154351
CREATED:20260313T002855Z
LAST-MODIFIED:20260317T004248Z
UID:10001055-1858239000-1858285800@woywoy.lutheran.org.au
SUMMARY:Worship Service
DESCRIPTION:Please join us at 930am on Sundays for worship at 8 Jumbuck Cres Woy Woy\, NSW 2257
URL:https://woywoy.lutheran.org.au/event/worship-service-2/2028-11-19/
LOCATION:St Matthews Lutheran Church\, 8 Jumbuck Cres\, Woy Woy\, NSW\, 2257\, Australia
GEO:-33.4997606;151.3274231
X-APPLE-STRUCTURED-LOCATION;VALUE=URI;X-ADDRESS=St Matthews Lutheran Church 8 Jumbuck Cres Woy Woy NSW 2257 Australia;X-APPLE-RADIUS=500;X-TITLE=8 Jumbuck Cres:geo:151.3274231,-33.4997606
END:VEVENT
BEGIN:VEVENT
DTSTART;TZID=Australia/Sydney:20281126T093000
DTEND;TZID=Australia/Sydney:20281126T223000
DTSTAMP:20260420T154351
CREATED:20260313T002855Z
LAST-MODIFIED:20260317T004248Z
UID:10001056-1858843800-1858890600@woywoy.lutheran.org.au
SUMMARY:Worship Service
DESCRIPTION:Please join us at 930am on Sundays for worship at 8 Jumbuck Cres Woy Woy\, NSW 2257
URL:https://woywoy.lutheran.org.au/event/worship-service-2/2028-11-26/
LOCATION:St Matthews Lutheran Church\, 8 Jumbuck Cres\, Woy Woy\, NSW\, 2257\, Australia
GEO:-33.4997606;151.3274231
X-APPLE-STRUCTURED-LOCATION;VALUE=URI;X-ADDRESS=St Matthews Lutheran Church 8 Jumbuck Cres Woy Woy NSW 2257 Australia;X-APPLE-RADIUS=500;X-TITLE=8 Jumbuck Cres:geo:151.3274231,-33.4997606
END:VEVENT
BEGIN:VEVENT
DTSTART;TZID=Australia/Sydney:20281202T110000
DTEND;TZID=Australia/Sydney:20281202T120000
DTSTAMP:20260420T154351
CREATED:20260317T003737Z
LAST-MODIFIED:20260317T003737Z
UID:10001208-1859367600-1859371200@woywoy.lutheran.org.au
SUMMARY:Gottesdienst auf Deutsch / German Worship Service
DESCRIPTION:
URL:https://woywoy.lutheran.org.au/event/gottesdienst-auf-deutsch-german-worship-service/2028-12-02/
LOCATION:NSW
CATEGORIES:Worship
END:VEVENT
BEGIN:VEVENT
DTSTART;TZID=Australia/Sydney:20281203T093000
DTEND;TZID=Australia/Sydney:20281203T223000
DTSTAMP:20260420T154351
CREATED:20260313T002855Z
LAST-MODIFIED:20260317T004248Z
UID:10001057-1859448600-1859495400@woywoy.lutheran.org.au
SUMMARY:Worship Service
DESCRIPTION:Please join us at 930am on Sundays for worship at 8 Jumbuck Cres Woy Woy\, NSW 2257
URL:https://woywoy.lutheran.org.au/event/worship-service-2/2028-12-03/
LOCATION:St Matthews Lutheran Church\, 8 Jumbuck Cres\, Woy Woy\, NSW\, 2257\, Australia
GEO:-33.4997606;151.3274231
X-APPLE-STRUCTURED-LOCATION;VALUE=URI;X-ADDRESS=St Matthews Lutheran Church 8 Jumbuck Cres Woy Woy NSW 2257 Australia;X-APPLE-RADIUS=500;X-TITLE=8 Jumbuck Cres:geo:151.3274231,-33.4997606
END:VEVENT
BEGIN:VEVENT
DTSTART;TZID=Australia/Sydney:20281210T093000
DTEND;TZID=Australia/Sydney:20281210T223000
DTSTAMP:20260420T154351
CREATED:20260313T002855Z
LAST-MODIFIED:20260317T004248Z
UID:10001058-1860053400-1860100200@woywoy.lutheran.org.au
SUMMARY:Worship Service
DESCRIPTION:Please join us at 930am on Sundays for worship at 8 Jumbuck Cres Woy Woy\, NSW 2257
URL:https://woywoy.lutheran.org.au/event/worship-service-2/2028-12-10/
LOCATION:St Matthews Lutheran Church\, 8 Jumbuck Cres\, Woy Woy\, NSW\, 2257\, Australia
GEO:-33.4997606;151.3274231
X-APPLE-STRUCTURED-LOCATION;VALUE=URI;X-ADDRESS=St Matthews Lutheran Church 8 Jumbuck Cres Woy Woy NSW 2257 Australia;X-APPLE-RADIUS=500;X-TITLE=8 Jumbuck Cres:geo:151.3274231,-33.4997606
END:VEVENT
BEGIN:VEVENT
DTSTART;TZID=Australia/Sydney:20281217T093000
DTEND;TZID=Australia/Sydney:20281217T223000
DTSTAMP:20260420T154351
CREATED:20260313T002855Z
LAST-MODIFIED:20260317T004248Z
UID:10001059-1860658200-1860705000@woywoy.lutheran.org.au
SUMMARY:Worship Service
DESCRIPTION:Please join us at 930am on Sundays for worship at 8 Jumbuck Cres Woy Woy\, NSW 2257
URL:https://woywoy.lutheran.org.au/event/worship-service-2/2028-12-17/
LOCATION:St Matthews Lutheran Church\, 8 Jumbuck Cres\, Woy Woy\, NSW\, 2257\, Australia
GEO:-33.4997606;151.3274231
X-APPLE-STRUCTURED-LOCATION;VALUE=URI;X-ADDRESS=St Matthews Lutheran Church 8 Jumbuck Cres Woy Woy NSW 2257 Australia;X-APPLE-RADIUS=500;X-TITLE=8 Jumbuck Cres:geo:151.3274231,-33.4997606
END:VEVENT
BEGIN:VEVENT
DTSTART;TZID=Australia/Sydney:20281224T093000
DTEND;TZID=Australia/Sydney:20281224T223000
DTSTAMP:20260420T154351
CREATED:20260313T002855Z
LAST-MODIFIED:20260317T004248Z
UID:10001060-1861263000-1861309800@woywoy.lutheran.org.au
SUMMARY:Worship Service
DESCRIPTION:Please join us at 930am on Sundays for worship at 8 Jumbuck Cres Woy Woy\, NSW 2257
URL:https://woywoy.lutheran.org.au/event/worship-service-2/2028-12-24/
LOCATION:St Matthews Lutheran Church\, 8 Jumbuck Cres\, Woy Woy\, NSW\, 2257\, Australia
GEO:-33.4997606;151.3274231
X-APPLE-STRUCTURED-LOCATION;VALUE=URI;X-ADDRESS=St Matthews Lutheran Church 8 Jumbuck Cres Woy Woy NSW 2257 Australia;X-APPLE-RADIUS=500;X-TITLE=8 Jumbuck Cres:geo:151.3274231,-33.4997606
END:VEVENT
BEGIN:VEVENT
DTSTART;TZID=Australia/Sydney:20281231T093000
DTEND;TZID=Australia/Sydney:20281231T223000
DTSTAMP:20260420T154351
CREATED:20260313T002855Z
LAST-MODIFIED:20260317T004248Z
UID:10001061-1861867800-1861914600@woywoy.lutheran.org.au
SUMMARY:Worship Service
DESCRIPTION:Please join us at 930am on Sundays for worship at 8 Jumbuck Cres Woy Woy\, NSW 2257
URL:https://woywoy.lutheran.org.au/event/worship-service-2/2028-12-31/
LOCATION:St Matthews Lutheran Church\, 8 Jumbuck Cres\, Woy Woy\, NSW\, 2257\, Australia
GEO:-33.4997606;151.3274231
X-APPLE-STRUCTURED-LOCATION;VALUE=URI;X-ADDRESS=St Matthews Lutheran Church 8 Jumbuck Cres Woy Woy NSW 2257 Australia;X-APPLE-RADIUS=500;X-TITLE=8 Jumbuck Cres:geo:151.3274231,-33.4997606
END:VEVENT
BEGIN:VEVENT
DTSTART;TZID=Australia/Sydney:20290106T110000
DTEND;TZID=Australia/Sydney:20290106T120000
DTSTAMP:20260420T154351
CREATED:20260317T003737Z
LAST-MODIFIED:20260317T003737Z
UID:10001209-1862391600-1862395200@woywoy.lutheran.org.au
SUMMARY:Gottesdienst auf Deutsch / German Worship Service
DESCRIPTION:
URL:https://woywoy.lutheran.org.au/event/gottesdienst-auf-deutsch-german-worship-service/2029-01-06/
LOCATION:NSW
CATEGORIES:Worship
END:VEVENT
BEGIN:VEVENT
DTSTART;TZID=Australia/Sydney:20290107T093000
DTEND;TZID=Australia/Sydney:20290107T223000
DTSTAMP:20260420T154351
CREATED:20260313T002855Z
LAST-MODIFIED:20260317T004248Z
UID:10001062-1862472600-1862519400@woywoy.lutheran.org.au
SUMMARY:Worship Service
DESCRIPTION:Please join us at 930am on Sundays for worship at 8 Jumbuck Cres Woy Woy\, NSW 2257
URL:https://woywoy.lutheran.org.au/event/worship-service-2/2029-01-07/
LOCATION:St Matthews Lutheran Church\, 8 Jumbuck Cres\, Woy Woy\, NSW\, 2257\, Australia
GEO:-33.4997606;151.3274231
X-APPLE-STRUCTURED-LOCATION;VALUE=URI;X-ADDRESS=St Matthews Lutheran Church 8 Jumbuck Cres Woy Woy NSW 2257 Australia;X-APPLE-RADIUS=500;X-TITLE=8 Jumbuck Cres:geo:151.3274231,-33.4997606
END:VEVENT
BEGIN:VEVENT
DTSTART;TZID=Australia/Sydney:20290114T093000
DTEND;TZID=Australia/Sydney:20290114T223000
DTSTAMP:20260420T154351
CREATED:20260313T002855Z
LAST-MODIFIED:20260317T004248Z
UID:10001063-1863077400-1863124200@woywoy.lutheran.org.au
SUMMARY:Worship Service
DESCRIPTION:Please join us at 930am on Sundays for worship at 8 Jumbuck Cres Woy Woy\, NSW 2257
URL:https://woywoy.lutheran.org.au/event/worship-service-2/2029-01-14/
LOCATION:St Matthews Lutheran Church\, 8 Jumbuck Cres\, Woy Woy\, NSW\, 2257\, Australia
GEO:-33.4997606;151.3274231
X-APPLE-STRUCTURED-LOCATION;VALUE=URI;X-ADDRESS=St Matthews Lutheran Church 8 Jumbuck Cres Woy Woy NSW 2257 Australia;X-APPLE-RADIUS=500;X-TITLE=8 Jumbuck Cres:geo:151.3274231,-33.4997606
END:VEVENT
BEGIN:VEVENT
DTSTART;TZID=Australia/Sydney:20290121T093000
DTEND;TZID=Australia/Sydney:20290121T223000
DTSTAMP:20260420T154351
CREATED:20260313T002855Z
LAST-MODIFIED:20260317T004248Z
UID:10001064-1863682200-1863729000@woywoy.lutheran.org.au
SUMMARY:Worship Service
DESCRIPTION:Please join us at 930am on Sundays for worship at 8 Jumbuck Cres Woy Woy\, NSW 2257
URL:https://woywoy.lutheran.org.au/event/worship-service-2/2029-01-21/
LOCATION:St Matthews Lutheran Church\, 8 Jumbuck Cres\, Woy Woy\, NSW\, 2257\, Australia
GEO:-33.4997606;151.3274231
X-APPLE-STRUCTURED-LOCATION;VALUE=URI;X-ADDRESS=St Matthews Lutheran Church 8 Jumbuck Cres Woy Woy NSW 2257 Australia;X-APPLE-RADIUS=500;X-TITLE=8 Jumbuck Cres:geo:151.3274231,-33.4997606
END:VEVENT
BEGIN:VEVENT
DTSTART;TZID=Australia/Sydney:20290128T093000
DTEND;TZID=Australia/Sydney:20290128T223000
DTSTAMP:20260420T154351
CREATED:20260313T002855Z
LAST-MODIFIED:20260317T004248Z
UID:10001065-1864287000-1864333800@woywoy.lutheran.org.au
SUMMARY:Worship Service
DESCRIPTION:Please join us at 930am on Sundays for worship at 8 Jumbuck Cres Woy Woy\, NSW 2257
URL:https://woywoy.lutheran.org.au/event/worship-service-2/2029-01-28/
LOCATION:St Matthews Lutheran Church\, 8 Jumbuck Cres\, Woy Woy\, NSW\, 2257\, Australia
GEO:-33.4997606;151.3274231
X-APPLE-STRUCTURED-LOCATION;VALUE=URI;X-ADDRESS=St Matthews Lutheran Church 8 Jumbuck Cres Woy Woy NSW 2257 Australia;X-APPLE-RADIUS=500;X-TITLE=8 Jumbuck Cres:geo:151.3274231,-33.4997606
END:VEVENT
BEGIN:VEVENT
DTSTART;TZID=Australia/Sydney:20290203T110000
DTEND;TZID=Australia/Sydney:20290203T120000
DTSTAMP:20260420T154351
CREATED:20260317T003737Z
LAST-MODIFIED:20260317T003737Z
UID:10001210-1864810800-1864814400@woywoy.lutheran.org.au
SUMMARY:Gottesdienst auf Deutsch / German Worship Service
DESCRIPTION:
URL:https://woywoy.lutheran.org.au/event/gottesdienst-auf-deutsch-german-worship-service/2029-02-03/
LOCATION:NSW
CATEGORIES:Worship
END:VEVENT
BEGIN:VEVENT
DTSTART;TZID=Australia/Sydney:20290204T093000
DTEND;TZID=Australia/Sydney:20290204T223000
DTSTAMP:20260420T154351
CREATED:20260313T002855Z
LAST-MODIFIED:20260317T004248Z
UID:10001066-1864891800-1864938600@woywoy.lutheran.org.au
SUMMARY:Worship Service
DESCRIPTION:Please join us at 930am on Sundays for worship at 8 Jumbuck Cres Woy Woy\, NSW 2257
URL:https://woywoy.lutheran.org.au/event/worship-service-2/2029-02-04/
LOCATION:St Matthews Lutheran Church\, 8 Jumbuck Cres\, Woy Woy\, NSW\, 2257\, Australia
GEO:-33.4997606;151.3274231
X-APPLE-STRUCTURED-LOCATION;VALUE=URI;X-ADDRESS=St Matthews Lutheran Church 8 Jumbuck Cres Woy Woy NSW 2257 Australia;X-APPLE-RADIUS=500;X-TITLE=8 Jumbuck Cres:geo:151.3274231,-33.4997606
END:VEVENT
BEGIN:VEVENT
DTSTART;TZID=Australia/Sydney:20290211T093000
DTEND;TZID=Australia/Sydney:20290211T223000
DTSTAMP:20260420T154351
CREATED:20260313T002855Z
LAST-MODIFIED:20260317T004248Z
UID:10001067-1865496600-1865543400@woywoy.lutheran.org.au
SUMMARY:Worship Service
DESCRIPTION:Please join us at 930am on Sundays for worship at 8 Jumbuck Cres Woy Woy\, NSW 2257
URL:https://woywoy.lutheran.org.au/event/worship-service-2/2029-02-11/
LOCATION:St Matthews Lutheran Church\, 8 Jumbuck Cres\, Woy Woy\, NSW\, 2257\, Australia
GEO:-33.4997606;151.3274231
X-APPLE-STRUCTURED-LOCATION;VALUE=URI;X-ADDRESS=St Matthews Lutheran Church 8 Jumbuck Cres Woy Woy NSW 2257 Australia;X-APPLE-RADIUS=500;X-TITLE=8 Jumbuck Cres:geo:151.3274231,-33.4997606
END:VEVENT
BEGIN:VEVENT
DTSTART;TZID=Australia/Sydney:20290218T093000
DTEND;TZID=Australia/Sydney:20290218T223000
DTSTAMP:20260420T154351
CREATED:20260313T002855Z
LAST-MODIFIED:20260317T004248Z
UID:10001068-1866101400-1866148200@woywoy.lutheran.org.au
SUMMARY:Worship Service
DESCRIPTION:Please join us at 930am on Sundays for worship at 8 Jumbuck Cres Woy Woy\, NSW 2257
URL:https://woywoy.lutheran.org.au/event/worship-service-2/2029-02-18/
LOCATION:St Matthews Lutheran Church\, 8 Jumbuck Cres\, Woy Woy\, NSW\, 2257\, Australia
GEO:-33.4997606;151.3274231
X-APPLE-STRUCTURED-LOCATION;VALUE=URI;X-ADDRESS=St Matthews Lutheran Church 8 Jumbuck Cres Woy Woy NSW 2257 Australia;X-APPLE-RADIUS=500;X-TITLE=8 Jumbuck Cres:geo:151.3274231,-33.4997606
END:VEVENT
BEGIN:VEVENT
DTSTART;TZID=Australia/Sydney:20290225T093000
DTEND;TZID=Australia/Sydney:20290225T223000
DTSTAMP:20260420T154351
CREATED:20260313T002855Z
LAST-MODIFIED:20260317T004248Z
UID:10001069-1866706200-1866753000@woywoy.lutheran.org.au
SUMMARY:Worship Service
DESCRIPTION:Please join us at 930am on Sundays for worship at 8 Jumbuck Cres Woy Woy\, NSW 2257
URL:https://woywoy.lutheran.org.au/event/worship-service-2/2029-02-25/
LOCATION:St Matthews Lutheran Church\, 8 Jumbuck Cres\, Woy Woy\, NSW\, 2257\, Australia
GEO:-33.4997606;151.3274231
X-APPLE-STRUCTURED-LOCATION;VALUE=URI;X-ADDRESS=St Matthews Lutheran Church 8 Jumbuck Cres Woy Woy NSW 2257 Australia;X-APPLE-RADIUS=500;X-TITLE=8 Jumbuck Cres:geo:151.3274231,-33.4997606
END:VEVENT
BEGIN:VEVENT
DTSTART;TZID=Australia/Sydney:20290303T110000
DTEND;TZID=Australia/Sydney:20290303T120000
DTSTAMP:20260420T154351
CREATED:20260317T003737Z
LAST-MODIFIED:20260317T003737Z
UID:10001211-1867230000-1867233600@woywoy.lutheran.org.au
SUMMARY:Gottesdienst auf Deutsch / German Worship Service
DESCRIPTION:
URL:https://woywoy.lutheran.org.au/event/gottesdienst-auf-deutsch-german-worship-service/2029-03-03/
LOCATION:NSW
CATEGORIES:Worship
END:VEVENT
BEGIN:VEVENT
DTSTART;TZID=Australia/Sydney:20290304T093000
DTEND;TZID=Australia/Sydney:20290304T223000
DTSTAMP:20260420T154351
CREATED:20260313T002855Z
LAST-MODIFIED:20260317T004248Z
UID:10001070-1867311000-1867357800@woywoy.lutheran.org.au
SUMMARY:Worship Service
DESCRIPTION:Please join us at 930am on Sundays for worship at 8 Jumbuck Cres Woy Woy\, NSW 2257
URL:https://woywoy.lutheran.org.au/event/worship-service-2/2029-03-04/
LOCATION:St Matthews Lutheran Church\, 8 Jumbuck Cres\, Woy Woy\, NSW\, 2257\, Australia
GEO:-33.4997606;151.3274231
X-APPLE-STRUCTURED-LOCATION;VALUE=URI;X-ADDRESS=St Matthews Lutheran Church 8 Jumbuck Cres Woy Woy NSW 2257 Australia;X-APPLE-RADIUS=500;X-TITLE=8 Jumbuck Cres:geo:151.3274231,-33.4997606
END:VEVENT
BEGIN:VEVENT
DTSTART;TZID=Australia/Sydney:20290311T093000
DTEND;TZID=Australia/Sydney:20290311T223000
DTSTAMP:20260420T154351
CREATED:20260313T002855Z
LAST-MODIFIED:20260317T004248Z
UID:10001071-1867915800-1867962600@woywoy.lutheran.org.au
SUMMARY:Worship Service
DESCRIPTION:Please join us at 930am on Sundays for worship at 8 Jumbuck Cres Woy Woy\, NSW 2257
URL:https://woywoy.lutheran.org.au/event/worship-service-2/2029-03-11/
LOCATION:St Matthews Lutheran Church\, 8 Jumbuck Cres\, Woy Woy\, NSW\, 2257\, Australia
GEO:-33.4997606;151.3274231
X-APPLE-STRUCTURED-LOCATION;VALUE=URI;X-ADDRESS=St Matthews Lutheran Church 8 Jumbuck Cres Woy Woy NSW 2257 Australia;X-APPLE-RADIUS=500;X-TITLE=8 Jumbuck Cres:geo:151.3274231,-33.4997606
END:VEVENT
BEGIN:VEVENT
DTSTART;TZID=Australia/Sydney:20290318T093000
DTEND;TZID=Australia/Sydney:20290318T223000
DTSTAMP:20260420T154351
CREATED:20260313T002855Z
LAST-MODIFIED:20260317T004248Z
UID:10001072-1868520600-1868567400@woywoy.lutheran.org.au
SUMMARY:Worship Service
DESCRIPTION:Please join us at 930am on Sundays for worship at 8 Jumbuck Cres Woy Woy\, NSW 2257
URL:https://woywoy.lutheran.org.au/event/worship-service-2/2029-03-18/
LOCATION:St Matthews Lutheran Church\, 8 Jumbuck Cres\, Woy Woy\, NSW\, 2257\, Australia
GEO:-33.4997606;151.3274231
X-APPLE-STRUCTURED-LOCATION;VALUE=URI;X-ADDRESS=St Matthews Lutheran Church 8 Jumbuck Cres Woy Woy NSW 2257 Australia;X-APPLE-RADIUS=500;X-TITLE=8 Jumbuck Cres:geo:151.3274231,-33.4997606
END:VEVENT
BEGIN:VEVENT
DTSTART;TZID=Australia/Sydney:20290325T093000
DTEND;TZID=Australia/Sydney:20290325T223000
DTSTAMP:20260420T154351
CREATED:20260313T002855Z
LAST-MODIFIED:20260317T004248Z
UID:10001073-1869125400-1869172200@woywoy.lutheran.org.au
SUMMARY:Worship Service
DESCRIPTION:Please join us at 930am on Sundays for worship at 8 Jumbuck Cres Woy Woy\, NSW 2257
URL:https://woywoy.lutheran.org.au/event/worship-service-2/2029-03-25/
LOCATION:St Matthews Lutheran Church\, 8 Jumbuck Cres\, Woy Woy\, NSW\, 2257\, Australia
GEO:-33.4997606;151.3274231
X-APPLE-STRUCTURED-LOCATION;VALUE=URI;X-ADDRESS=St Matthews Lutheran Church 8 Jumbuck Cres Woy Woy NSW 2257 Australia;X-APPLE-RADIUS=500;X-TITLE=8 Jumbuck Cres:geo:151.3274231,-33.4997606
END:VEVENT
BEGIN:VEVENT
DTSTART;TZID=Australia/Sydney:20290401T093000
DTEND;TZID=Australia/Sydney:20290401T223000
DTSTAMP:20260420T154351
CREATED:20260313T002855Z
LAST-MODIFIED:20260317T004248Z
UID:10001074-1869730200-1869777000@woywoy.lutheran.org.au
SUMMARY:Worship Service
DESCRIPTION:Please join us at 930am on Sundays for worship at 8 Jumbuck Cres Woy Woy\, NSW 2257
URL:https://woywoy.lutheran.org.au/event/worship-service-2/2029-04-01/
LOCATION:St Matthews Lutheran Church\, 8 Jumbuck Cres\, Woy Woy\, NSW\, 2257\, Australia
GEO:-33.4997606;151.3274231
X-APPLE-STRUCTURED-LOCATION;VALUE=URI;X-ADDRESS=St Matthews Lutheran Church 8 Jumbuck Cres Woy Woy NSW 2257 Australia;X-APPLE-RADIUS=500;X-TITLE=8 Jumbuck Cres:geo:151.3274231,-33.4997606
END:VEVENT
END:VCALENDAR