BEGIN:VCALENDAR
VERSION:2.0
PRODID:-//St Matthew&#039;s Congregation Woy Woy, NSW - ECPv6.8.1//NONSGML v1.0//EN
CALSCALE:GREGORIAN
METHOD:PUBLISH
X-ORIGINAL-URL:https://woywoy.lutheran.org.au
X-WR-CALDESC:Events for St Matthew&#039;s Congregation Woy Woy, NSW
REFRESH-INTERVAL;VALUE=DURATION:PT1H
X-Robots-Tag:noindex
X-PUBLISHED-TTL:PT1H
BEGIN:VTIMEZONE
TZID:Australia/Sydney
BEGIN:STANDARD
TZOFFSETFROM:+1100
TZOFFSETTO:+1000
TZNAME:AEST
DTSTART:20270403T160000
END:STANDARD
BEGIN:DAYLIGHT
TZOFFSETFROM:+1000
TZOFFSETTO:+1100
TZNAME:AEDT
DTSTART:20271002T160000
END:DAYLIGHT
BEGIN:STANDARD
TZOFFSETFROM:+1100
TZOFFSETTO:+1000
TZNAME:AEST
DTSTART:20280401T160000
END:STANDARD
BEGIN:DAYLIGHT
TZOFFSETFROM:+1000
TZOFFSETTO:+1100
TZNAME:AEDT
DTSTART:20280930T160000
END:DAYLIGHT
END:VTIMEZONE
BEGIN:VEVENT
DTSTART;TZID=Australia/Sydney:20271204T110000
DTEND;TZID=Australia/Sydney:20271204T120000
DTSTAMP:20260420T124718
CREATED:20260317T003737Z
LAST-MODIFIED:20260317T003737Z
UID:10001196-1827918000-1827921600@woywoy.lutheran.org.au
SUMMARY:Gottesdienst auf Deutsch / German Worship Service
DESCRIPTION:
URL:https://woywoy.lutheran.org.au/event/gottesdienst-auf-deutsch-german-worship-service/2027-12-04/
LOCATION:NSW
CATEGORIES:Worship
END:VEVENT
BEGIN:VEVENT
DTSTART;TZID=Australia/Sydney:20271205T093000
DTEND;TZID=Australia/Sydney:20271205T223000
DTSTAMP:20260420T124718
CREATED:20260313T002855Z
LAST-MODIFIED:20260317T004248Z
UID:10001005-1827999000-1828045800@woywoy.lutheran.org.au
SUMMARY:Worship Service
DESCRIPTION:Please join us at 930am on Sundays for worship at 8 Jumbuck Cres Woy Woy\, NSW 2257
URL:https://woywoy.lutheran.org.au/event/worship-service-2/2027-12-05/
LOCATION:St Matthews Lutheran Church\, 8 Jumbuck Cres\, Woy Woy\, NSW\, 2257\, Australia
GEO:-33.4997606;151.3274231
X-APPLE-STRUCTURED-LOCATION;VALUE=URI;X-ADDRESS=St Matthews Lutheran Church 8 Jumbuck Cres Woy Woy NSW 2257 Australia;X-APPLE-RADIUS=500;X-TITLE=8 Jumbuck Cres:geo:151.3274231,-33.4997606
END:VEVENT
BEGIN:VEVENT
DTSTART;TZID=Australia/Sydney:20271212T093000
DTEND;TZID=Australia/Sydney:20271212T223000
DTSTAMP:20260420T124718
CREATED:20260313T002855Z
LAST-MODIFIED:20260317T004248Z
UID:10001006-1828603800-1828650600@woywoy.lutheran.org.au
SUMMARY:Worship Service
DESCRIPTION:Please join us at 930am on Sundays for worship at 8 Jumbuck Cres Woy Woy\, NSW 2257
URL:https://woywoy.lutheran.org.au/event/worship-service-2/2027-12-12/
LOCATION:St Matthews Lutheran Church\, 8 Jumbuck Cres\, Woy Woy\, NSW\, 2257\, Australia
GEO:-33.4997606;151.3274231
X-APPLE-STRUCTURED-LOCATION;VALUE=URI;X-ADDRESS=St Matthews Lutheran Church 8 Jumbuck Cres Woy Woy NSW 2257 Australia;X-APPLE-RADIUS=500;X-TITLE=8 Jumbuck Cres:geo:151.3274231,-33.4997606
END:VEVENT
BEGIN:VEVENT
DTSTART;TZID=Australia/Sydney:20271219T093000
DTEND;TZID=Australia/Sydney:20271219T223000
DTSTAMP:20260420T124718
CREATED:20260313T002855Z
LAST-MODIFIED:20260317T004248Z
UID:10001007-1829208600-1829255400@woywoy.lutheran.org.au
SUMMARY:Worship Service
DESCRIPTION:Please join us at 930am on Sundays for worship at 8 Jumbuck Cres Woy Woy\, NSW 2257
URL:https://woywoy.lutheran.org.au/event/worship-service-2/2027-12-19/
LOCATION:St Matthews Lutheran Church\, 8 Jumbuck Cres\, Woy Woy\, NSW\, 2257\, Australia
GEO:-33.4997606;151.3274231
X-APPLE-STRUCTURED-LOCATION;VALUE=URI;X-ADDRESS=St Matthews Lutheran Church 8 Jumbuck Cres Woy Woy NSW 2257 Australia;X-APPLE-RADIUS=500;X-TITLE=8 Jumbuck Cres:geo:151.3274231,-33.4997606
END:VEVENT
BEGIN:VEVENT
DTSTART;TZID=Australia/Sydney:20271226T093000
DTEND;TZID=Australia/Sydney:20271226T223000
DTSTAMP:20260420T124718
CREATED:20260313T002855Z
LAST-MODIFIED:20260317T004248Z
UID:10001008-1829813400-1829860200@woywoy.lutheran.org.au
SUMMARY:Worship Service
DESCRIPTION:Please join us at 930am on Sundays for worship at 8 Jumbuck Cres Woy Woy\, NSW 2257
URL:https://woywoy.lutheran.org.au/event/worship-service-2/2027-12-26/
LOCATION:St Matthews Lutheran Church\, 8 Jumbuck Cres\, Woy Woy\, NSW\, 2257\, Australia
GEO:-33.4997606;151.3274231
X-APPLE-STRUCTURED-LOCATION;VALUE=URI;X-ADDRESS=St Matthews Lutheran Church 8 Jumbuck Cres Woy Woy NSW 2257 Australia;X-APPLE-RADIUS=500;X-TITLE=8 Jumbuck Cres:geo:151.3274231,-33.4997606
END:VEVENT
BEGIN:VEVENT
DTSTART;TZID=Australia/Sydney:20280101T110000
DTEND;TZID=Australia/Sydney:20280101T120000
DTSTAMP:20260420T124718
CREATED:20260317T003737Z
LAST-MODIFIED:20260317T003737Z
UID:10001197-1830337200-1830340800@woywoy.lutheran.org.au
SUMMARY:Gottesdienst auf Deutsch / German Worship Service
DESCRIPTION:
URL:https://woywoy.lutheran.org.au/event/gottesdienst-auf-deutsch-german-worship-service/2028-01-01/
LOCATION:NSW
CATEGORIES:Worship
END:VEVENT
BEGIN:VEVENT
DTSTART;TZID=Australia/Sydney:20280102T093000
DTEND;TZID=Australia/Sydney:20280102T223000
DTSTAMP:20260420T124718
CREATED:20260313T002855Z
LAST-MODIFIED:20260317T004248Z
UID:10001009-1830418200-1830465000@woywoy.lutheran.org.au
SUMMARY:Worship Service
DESCRIPTION:Please join us at 930am on Sundays for worship at 8 Jumbuck Cres Woy Woy\, NSW 2257
URL:https://woywoy.lutheran.org.au/event/worship-service-2/2028-01-02/
LOCATION:St Matthews Lutheran Church\, 8 Jumbuck Cres\, Woy Woy\, NSW\, 2257\, Australia
GEO:-33.4997606;151.3274231
X-APPLE-STRUCTURED-LOCATION;VALUE=URI;X-ADDRESS=St Matthews Lutheran Church 8 Jumbuck Cres Woy Woy NSW 2257 Australia;X-APPLE-RADIUS=500;X-TITLE=8 Jumbuck Cres:geo:151.3274231,-33.4997606
END:VEVENT
BEGIN:VEVENT
DTSTART;TZID=Australia/Sydney:20280109T093000
DTEND;TZID=Australia/Sydney:20280109T223000
DTSTAMP:20260420T124718
CREATED:20260313T002855Z
LAST-MODIFIED:20260317T004248Z
UID:10001010-1831023000-1831069800@woywoy.lutheran.org.au
SUMMARY:Worship Service
DESCRIPTION:Please join us at 930am on Sundays for worship at 8 Jumbuck Cres Woy Woy\, NSW 2257
URL:https://woywoy.lutheran.org.au/event/worship-service-2/2028-01-09/
LOCATION:St Matthews Lutheran Church\, 8 Jumbuck Cres\, Woy Woy\, NSW\, 2257\, Australia
GEO:-33.4997606;151.3274231
X-APPLE-STRUCTURED-LOCATION;VALUE=URI;X-ADDRESS=St Matthews Lutheran Church 8 Jumbuck Cres Woy Woy NSW 2257 Australia;X-APPLE-RADIUS=500;X-TITLE=8 Jumbuck Cres:geo:151.3274231,-33.4997606
END:VEVENT
BEGIN:VEVENT
DTSTART;TZID=Australia/Sydney:20280116T093000
DTEND;TZID=Australia/Sydney:20280116T223000
DTSTAMP:20260420T124718
CREATED:20260313T002855Z
LAST-MODIFIED:20260317T004248Z
UID:10001011-1831627800-1831674600@woywoy.lutheran.org.au
SUMMARY:Worship Service
DESCRIPTION:Please join us at 930am on Sundays for worship at 8 Jumbuck Cres Woy Woy\, NSW 2257
URL:https://woywoy.lutheran.org.au/event/worship-service-2/2028-01-16/
LOCATION:St Matthews Lutheran Church\, 8 Jumbuck Cres\, Woy Woy\, NSW\, 2257\, Australia
GEO:-33.4997606;151.3274231
X-APPLE-STRUCTURED-LOCATION;VALUE=URI;X-ADDRESS=St Matthews Lutheran Church 8 Jumbuck Cres Woy Woy NSW 2257 Australia;X-APPLE-RADIUS=500;X-TITLE=8 Jumbuck Cres:geo:151.3274231,-33.4997606
END:VEVENT
BEGIN:VEVENT
DTSTART;TZID=Australia/Sydney:20280123T093000
DTEND;TZID=Australia/Sydney:20280123T223000
DTSTAMP:20260420T124718
CREATED:20260313T002855Z
LAST-MODIFIED:20260317T004248Z
UID:10001012-1832232600-1832279400@woywoy.lutheran.org.au
SUMMARY:Worship Service
DESCRIPTION:Please join us at 930am on Sundays for worship at 8 Jumbuck Cres Woy Woy\, NSW 2257
URL:https://woywoy.lutheran.org.au/event/worship-service-2/2028-01-23/
LOCATION:St Matthews Lutheran Church\, 8 Jumbuck Cres\, Woy Woy\, NSW\, 2257\, Australia
GEO:-33.4997606;151.3274231
X-APPLE-STRUCTURED-LOCATION;VALUE=URI;X-ADDRESS=St Matthews Lutheran Church 8 Jumbuck Cres Woy Woy NSW 2257 Australia;X-APPLE-RADIUS=500;X-TITLE=8 Jumbuck Cres:geo:151.3274231,-33.4997606
END:VEVENT
BEGIN:VEVENT
DTSTART;TZID=Australia/Sydney:20280130T093000
DTEND;TZID=Australia/Sydney:20280130T223000
DTSTAMP:20260420T124718
CREATED:20260313T002855Z
LAST-MODIFIED:20260317T004248Z
UID:10001013-1832837400-1832884200@woywoy.lutheran.org.au
SUMMARY:Worship Service
DESCRIPTION:Please join us at 930am on Sundays for worship at 8 Jumbuck Cres Woy Woy\, NSW 2257
URL:https://woywoy.lutheran.org.au/event/worship-service-2/2028-01-30/
LOCATION:St Matthews Lutheran Church\, 8 Jumbuck Cres\, Woy Woy\, NSW\, 2257\, Australia
GEO:-33.4997606;151.3274231
X-APPLE-STRUCTURED-LOCATION;VALUE=URI;X-ADDRESS=St Matthews Lutheran Church 8 Jumbuck Cres Woy Woy NSW 2257 Australia;X-APPLE-RADIUS=500;X-TITLE=8 Jumbuck Cres:geo:151.3274231,-33.4997606
END:VEVENT
BEGIN:VEVENT
DTSTART;TZID=Australia/Sydney:20280205T110000
DTEND;TZID=Australia/Sydney:20280205T120000
DTSTAMP:20260420T124718
CREATED:20260317T003737Z
LAST-MODIFIED:20260317T003737Z
UID:10001198-1833361200-1833364800@woywoy.lutheran.org.au
SUMMARY:Gottesdienst auf Deutsch / German Worship Service
DESCRIPTION:
URL:https://woywoy.lutheran.org.au/event/gottesdienst-auf-deutsch-german-worship-service/2028-02-05/
LOCATION:NSW
CATEGORIES:Worship
END:VEVENT
BEGIN:VEVENT
DTSTART;TZID=Australia/Sydney:20280206T093000
DTEND;TZID=Australia/Sydney:20280206T223000
DTSTAMP:20260420T124718
CREATED:20260313T002855Z
LAST-MODIFIED:20260317T004248Z
UID:10001014-1833442200-1833489000@woywoy.lutheran.org.au
SUMMARY:Worship Service
DESCRIPTION:Please join us at 930am on Sundays for worship at 8 Jumbuck Cres Woy Woy\, NSW 2257
URL:https://woywoy.lutheran.org.au/event/worship-service-2/2028-02-06/
LOCATION:St Matthews Lutheran Church\, 8 Jumbuck Cres\, Woy Woy\, NSW\, 2257\, Australia
GEO:-33.4997606;151.3274231
X-APPLE-STRUCTURED-LOCATION;VALUE=URI;X-ADDRESS=St Matthews Lutheran Church 8 Jumbuck Cres Woy Woy NSW 2257 Australia;X-APPLE-RADIUS=500;X-TITLE=8 Jumbuck Cres:geo:151.3274231,-33.4997606
END:VEVENT
BEGIN:VEVENT
DTSTART;TZID=Australia/Sydney:20280213T093000
DTEND;TZID=Australia/Sydney:20280213T223000
DTSTAMP:20260420T124718
CREATED:20260313T002855Z
LAST-MODIFIED:20260317T004248Z
UID:10001015-1834047000-1834093800@woywoy.lutheran.org.au
SUMMARY:Worship Service
DESCRIPTION:Please join us at 930am on Sundays for worship at 8 Jumbuck Cres Woy Woy\, NSW 2257
URL:https://woywoy.lutheran.org.au/event/worship-service-2/2028-02-13/
LOCATION:St Matthews Lutheran Church\, 8 Jumbuck Cres\, Woy Woy\, NSW\, 2257\, Australia
GEO:-33.4997606;151.3274231
X-APPLE-STRUCTURED-LOCATION;VALUE=URI;X-ADDRESS=St Matthews Lutheran Church 8 Jumbuck Cres Woy Woy NSW 2257 Australia;X-APPLE-RADIUS=500;X-TITLE=8 Jumbuck Cres:geo:151.3274231,-33.4997606
END:VEVENT
BEGIN:VEVENT
DTSTART;TZID=Australia/Sydney:20280220T093000
DTEND;TZID=Australia/Sydney:20280220T223000
DTSTAMP:20260420T124718
CREATED:20260313T002855Z
LAST-MODIFIED:20260317T004248Z
UID:10001016-1834651800-1834698600@woywoy.lutheran.org.au
SUMMARY:Worship Service
DESCRIPTION:Please join us at 930am on Sundays for worship at 8 Jumbuck Cres Woy Woy\, NSW 2257
URL:https://woywoy.lutheran.org.au/event/worship-service-2/2028-02-20/
LOCATION:St Matthews Lutheran Church\, 8 Jumbuck Cres\, Woy Woy\, NSW\, 2257\, Australia
GEO:-33.4997606;151.3274231
X-APPLE-STRUCTURED-LOCATION;VALUE=URI;X-ADDRESS=St Matthews Lutheran Church 8 Jumbuck Cres Woy Woy NSW 2257 Australia;X-APPLE-RADIUS=500;X-TITLE=8 Jumbuck Cres:geo:151.3274231,-33.4997606
END:VEVENT
BEGIN:VEVENT
DTSTART;TZID=Australia/Sydney:20280227T093000
DTEND;TZID=Australia/Sydney:20280227T223000
DTSTAMP:20260420T124718
CREATED:20260313T002855Z
LAST-MODIFIED:20260317T004248Z
UID:10001017-1835256600-1835303400@woywoy.lutheran.org.au
SUMMARY:Worship Service
DESCRIPTION:Please join us at 930am on Sundays for worship at 8 Jumbuck Cres Woy Woy\, NSW 2257
URL:https://woywoy.lutheran.org.au/event/worship-service-2/2028-02-27/
LOCATION:St Matthews Lutheran Church\, 8 Jumbuck Cres\, Woy Woy\, NSW\, 2257\, Australia
GEO:-33.4997606;151.3274231
X-APPLE-STRUCTURED-LOCATION;VALUE=URI;X-ADDRESS=St Matthews Lutheran Church 8 Jumbuck Cres Woy Woy NSW 2257 Australia;X-APPLE-RADIUS=500;X-TITLE=8 Jumbuck Cres:geo:151.3274231,-33.4997606
END:VEVENT
BEGIN:VEVENT
DTSTART;TZID=Australia/Sydney:20280304T110000
DTEND;TZID=Australia/Sydney:20280304T120000
DTSTAMP:20260420T124718
CREATED:20260317T003737Z
LAST-MODIFIED:20260317T003737Z
UID:10001199-1835780400-1835784000@woywoy.lutheran.org.au
SUMMARY:Gottesdienst auf Deutsch / German Worship Service
DESCRIPTION:
URL:https://woywoy.lutheran.org.au/event/gottesdienst-auf-deutsch-german-worship-service/2028-03-04/
LOCATION:NSW
CATEGORIES:Worship
END:VEVENT
BEGIN:VEVENT
DTSTART;TZID=Australia/Sydney:20280305T093000
DTEND;TZID=Australia/Sydney:20280305T223000
DTSTAMP:20260420T124718
CREATED:20260313T002855Z
LAST-MODIFIED:20260317T004248Z
UID:10001018-1835861400-1835908200@woywoy.lutheran.org.au
SUMMARY:Worship Service
DESCRIPTION:Please join us at 930am on Sundays for worship at 8 Jumbuck Cres Woy Woy\, NSW 2257
URL:https://woywoy.lutheran.org.au/event/worship-service-2/2028-03-05/
LOCATION:St Matthews Lutheran Church\, 8 Jumbuck Cres\, Woy Woy\, NSW\, 2257\, Australia
GEO:-33.4997606;151.3274231
X-APPLE-STRUCTURED-LOCATION;VALUE=URI;X-ADDRESS=St Matthews Lutheran Church 8 Jumbuck Cres Woy Woy NSW 2257 Australia;X-APPLE-RADIUS=500;X-TITLE=8 Jumbuck Cres:geo:151.3274231,-33.4997606
END:VEVENT
BEGIN:VEVENT
DTSTART;TZID=Australia/Sydney:20280312T093000
DTEND;TZID=Australia/Sydney:20280312T223000
DTSTAMP:20260420T124718
CREATED:20260313T002855Z
LAST-MODIFIED:20260317T004248Z
UID:10001019-1836466200-1836513000@woywoy.lutheran.org.au
SUMMARY:Worship Service
DESCRIPTION:Please join us at 930am on Sundays for worship at 8 Jumbuck Cres Woy Woy\, NSW 2257
URL:https://woywoy.lutheran.org.au/event/worship-service-2/2028-03-12/
LOCATION:St Matthews Lutheran Church\, 8 Jumbuck Cres\, Woy Woy\, NSW\, 2257\, Australia
GEO:-33.4997606;151.3274231
X-APPLE-STRUCTURED-LOCATION;VALUE=URI;X-ADDRESS=St Matthews Lutheran Church 8 Jumbuck Cres Woy Woy NSW 2257 Australia;X-APPLE-RADIUS=500;X-TITLE=8 Jumbuck Cres:geo:151.3274231,-33.4997606
END:VEVENT
BEGIN:VEVENT
DTSTART;TZID=Australia/Sydney:20280319T093000
DTEND;TZID=Australia/Sydney:20280319T223000
DTSTAMP:20260420T124718
CREATED:20260313T002855Z
LAST-MODIFIED:20260317T004248Z
UID:10001020-1837071000-1837117800@woywoy.lutheran.org.au
SUMMARY:Worship Service
DESCRIPTION:Please join us at 930am on Sundays for worship at 8 Jumbuck Cres Woy Woy\, NSW 2257
URL:https://woywoy.lutheran.org.au/event/worship-service-2/2028-03-19/
LOCATION:St Matthews Lutheran Church\, 8 Jumbuck Cres\, Woy Woy\, NSW\, 2257\, Australia
GEO:-33.4997606;151.3274231
X-APPLE-STRUCTURED-LOCATION;VALUE=URI;X-ADDRESS=St Matthews Lutheran Church 8 Jumbuck Cres Woy Woy NSW 2257 Australia;X-APPLE-RADIUS=500;X-TITLE=8 Jumbuck Cres:geo:151.3274231,-33.4997606
END:VEVENT
BEGIN:VEVENT
DTSTART;TZID=Australia/Sydney:20280326T093000
DTEND;TZID=Australia/Sydney:20280326T223000
DTSTAMP:20260420T124718
CREATED:20260313T002855Z
LAST-MODIFIED:20260317T004248Z
UID:10001021-1837675800-1837722600@woywoy.lutheran.org.au
SUMMARY:Worship Service
DESCRIPTION:Please join us at 930am on Sundays for worship at 8 Jumbuck Cres Woy Woy\, NSW 2257
URL:https://woywoy.lutheran.org.au/event/worship-service-2/2028-03-26/
LOCATION:St Matthews Lutheran Church\, 8 Jumbuck Cres\, Woy Woy\, NSW\, 2257\, Australia
GEO:-33.4997606;151.3274231
X-APPLE-STRUCTURED-LOCATION;VALUE=URI;X-ADDRESS=St Matthews Lutheran Church 8 Jumbuck Cres Woy Woy NSW 2257 Australia;X-APPLE-RADIUS=500;X-TITLE=8 Jumbuck Cres:geo:151.3274231,-33.4997606
END:VEVENT
BEGIN:VEVENT
DTSTART;TZID=Australia/Sydney:20280401T110000
DTEND;TZID=Australia/Sydney:20280401T120000
DTSTAMP:20260420T124718
CREATED:20260317T003737Z
LAST-MODIFIED:20260317T003737Z
UID:10001200-1838199600-1838203200@woywoy.lutheran.org.au
SUMMARY:Gottesdienst auf Deutsch / German Worship Service
DESCRIPTION:
URL:https://woywoy.lutheran.org.au/event/gottesdienst-auf-deutsch-german-worship-service/2028-04-01/
LOCATION:NSW
CATEGORIES:Worship
END:VEVENT
BEGIN:VEVENT
DTSTART;TZID=Australia/Sydney:20280402T093000
DTEND;TZID=Australia/Sydney:20280402T223000
DTSTAMP:20260420T124718
CREATED:20260313T002855Z
LAST-MODIFIED:20260317T004248Z
UID:10001022-1838280600-1838327400@woywoy.lutheran.org.au
SUMMARY:Worship Service
DESCRIPTION:Please join us at 930am on Sundays for worship at 8 Jumbuck Cres Woy Woy\, NSW 2257
URL:https://woywoy.lutheran.org.au/event/worship-service-2/2028-04-02/
LOCATION:St Matthews Lutheran Church\, 8 Jumbuck Cres\, Woy Woy\, NSW\, 2257\, Australia
GEO:-33.4997606;151.3274231
X-APPLE-STRUCTURED-LOCATION;VALUE=URI;X-ADDRESS=St Matthews Lutheran Church 8 Jumbuck Cres Woy Woy NSW 2257 Australia;X-APPLE-RADIUS=500;X-TITLE=8 Jumbuck Cres:geo:151.3274231,-33.4997606
END:VEVENT
BEGIN:VEVENT
DTSTART;TZID=Australia/Sydney:20280409T093000
DTEND;TZID=Australia/Sydney:20280409T223000
DTSTAMP:20260420T124718
CREATED:20260313T002855Z
LAST-MODIFIED:20260317T004248Z
UID:10001023-1838885400-1838932200@woywoy.lutheran.org.au
SUMMARY:Worship Service
DESCRIPTION:Please join us at 930am on Sundays for worship at 8 Jumbuck Cres Woy Woy\, NSW 2257
URL:https://woywoy.lutheran.org.au/event/worship-service-2/2028-04-09/
LOCATION:St Matthews Lutheran Church\, 8 Jumbuck Cres\, Woy Woy\, NSW\, 2257\, Australia
GEO:-33.4997606;151.3274231
X-APPLE-STRUCTURED-LOCATION;VALUE=URI;X-ADDRESS=St Matthews Lutheran Church 8 Jumbuck Cres Woy Woy NSW 2257 Australia;X-APPLE-RADIUS=500;X-TITLE=8 Jumbuck Cres:geo:151.3274231,-33.4997606
END:VEVENT
BEGIN:VEVENT
DTSTART;TZID=Australia/Sydney:20280416T093000
DTEND;TZID=Australia/Sydney:20280416T223000
DTSTAMP:20260420T124718
CREATED:20260313T002855Z
LAST-MODIFIED:20260317T004248Z
UID:10001024-1839490200-1839537000@woywoy.lutheran.org.au
SUMMARY:Worship Service
DESCRIPTION:Please join us at 930am on Sundays for worship at 8 Jumbuck Cres Woy Woy\, NSW 2257
URL:https://woywoy.lutheran.org.au/event/worship-service-2/2028-04-16/
LOCATION:St Matthews Lutheran Church\, 8 Jumbuck Cres\, Woy Woy\, NSW\, 2257\, Australia
GEO:-33.4997606;151.3274231
X-APPLE-STRUCTURED-LOCATION;VALUE=URI;X-ADDRESS=St Matthews Lutheran Church 8 Jumbuck Cres Woy Woy NSW 2257 Australia;X-APPLE-RADIUS=500;X-TITLE=8 Jumbuck Cres:geo:151.3274231,-33.4997606
END:VEVENT
BEGIN:VEVENT
DTSTART;TZID=Australia/Sydney:20280423T093000
DTEND;TZID=Australia/Sydney:20280423T223000
DTSTAMP:20260420T124718
CREATED:20260313T002855Z
LAST-MODIFIED:20260317T004248Z
UID:10001025-1840095000-1840141800@woywoy.lutheran.org.au
SUMMARY:Worship Service
DESCRIPTION:Please join us at 930am on Sundays for worship at 8 Jumbuck Cres Woy Woy\, NSW 2257
URL:https://woywoy.lutheran.org.au/event/worship-service-2/2028-04-23/
LOCATION:St Matthews Lutheran Church\, 8 Jumbuck Cres\, Woy Woy\, NSW\, 2257\, Australia
GEO:-33.4997606;151.3274231
X-APPLE-STRUCTURED-LOCATION;VALUE=URI;X-ADDRESS=St Matthews Lutheran Church 8 Jumbuck Cres Woy Woy NSW 2257 Australia;X-APPLE-RADIUS=500;X-TITLE=8 Jumbuck Cres:geo:151.3274231,-33.4997606
END:VEVENT
BEGIN:VEVENT
DTSTART;TZID=Australia/Sydney:20280430T093000
DTEND;TZID=Australia/Sydney:20280430T223000
DTSTAMP:20260420T124718
CREATED:20260313T002855Z
LAST-MODIFIED:20260317T004248Z
UID:10001026-1840699800-1840746600@woywoy.lutheran.org.au
SUMMARY:Worship Service
DESCRIPTION:Please join us at 930am on Sundays for worship at 8 Jumbuck Cres Woy Woy\, NSW 2257
URL:https://woywoy.lutheran.org.au/event/worship-service-2/2028-04-30/
LOCATION:St Matthews Lutheran Church\, 8 Jumbuck Cres\, Woy Woy\, NSW\, 2257\, Australia
GEO:-33.4997606;151.3274231
X-APPLE-STRUCTURED-LOCATION;VALUE=URI;X-ADDRESS=St Matthews Lutheran Church 8 Jumbuck Cres Woy Woy NSW 2257 Australia;X-APPLE-RADIUS=500;X-TITLE=8 Jumbuck Cres:geo:151.3274231,-33.4997606
END:VEVENT
BEGIN:VEVENT
DTSTART;TZID=Australia/Sydney:20280506T110000
DTEND;TZID=Australia/Sydney:20280506T120000
DTSTAMP:20260420T124718
CREATED:20260317T003737Z
LAST-MODIFIED:20260317T003737Z
UID:10001201-1841223600-1841227200@woywoy.lutheran.org.au
SUMMARY:Gottesdienst auf Deutsch / German Worship Service
DESCRIPTION:
URL:https://woywoy.lutheran.org.au/event/gottesdienst-auf-deutsch-german-worship-service/2028-05-06/
LOCATION:NSW
CATEGORIES:Worship
END:VEVENT
BEGIN:VEVENT
DTSTART;TZID=Australia/Sydney:20280507T093000
DTEND;TZID=Australia/Sydney:20280507T223000
DTSTAMP:20260420T124718
CREATED:20260313T002855Z
LAST-MODIFIED:20260317T004248Z
UID:10001027-1841304600-1841351400@woywoy.lutheran.org.au
SUMMARY:Worship Service
DESCRIPTION:Please join us at 930am on Sundays for worship at 8 Jumbuck Cres Woy Woy\, NSW 2257
URL:https://woywoy.lutheran.org.au/event/worship-service-2/2028-05-07/
LOCATION:St Matthews Lutheran Church\, 8 Jumbuck Cres\, Woy Woy\, NSW\, 2257\, Australia
GEO:-33.4997606;151.3274231
X-APPLE-STRUCTURED-LOCATION;VALUE=URI;X-ADDRESS=St Matthews Lutheran Church 8 Jumbuck Cres Woy Woy NSW 2257 Australia;X-APPLE-RADIUS=500;X-TITLE=8 Jumbuck Cres:geo:151.3274231,-33.4997606
END:VEVENT
BEGIN:VEVENT
DTSTART;TZID=Australia/Sydney:20280514T093000
DTEND;TZID=Australia/Sydney:20280514T223000
DTSTAMP:20260420T124718
CREATED:20260313T002855Z
LAST-MODIFIED:20260317T004248Z
UID:10001028-1841909400-1841956200@woywoy.lutheran.org.au
SUMMARY:Worship Service
DESCRIPTION:Please join us at 930am on Sundays for worship at 8 Jumbuck Cres Woy Woy\, NSW 2257
URL:https://woywoy.lutheran.org.au/event/worship-service-2/2028-05-14/
LOCATION:St Matthews Lutheran Church\, 8 Jumbuck Cres\, Woy Woy\, NSW\, 2257\, Australia
GEO:-33.4997606;151.3274231
X-APPLE-STRUCTURED-LOCATION;VALUE=URI;X-ADDRESS=St Matthews Lutheran Church 8 Jumbuck Cres Woy Woy NSW 2257 Australia;X-APPLE-RADIUS=500;X-TITLE=8 Jumbuck Cres:geo:151.3274231,-33.4997606
END:VEVENT
END:VCALENDAR