BEGIN:VCALENDAR
VERSION:2.0
PRODID:-//St Matthew&#039;s Congregation Woy Woy, NSW - ECPv6.8.1//NONSGML v1.0//EN
CALSCALE:GREGORIAN
METHOD:PUBLISH
X-WR-CALNAME:St Matthew&#039;s Congregation Woy Woy, NSW
X-ORIGINAL-URL:https://woywoy.lutheran.org.au
X-WR-CALDESC:Events for St Matthew&#039;s Congregation Woy Woy, NSW
REFRESH-INTERVAL;VALUE=DURATION:PT1H
X-Robots-Tag:noindex
X-PUBLISHED-TTL:PT1H
BEGIN:VTIMEZONE
TZID:Australia/Sydney
BEGIN:STANDARD
TZOFFSETFROM:+1100
TZOFFSETTO:+1000
TZNAME:AEST
DTSTART:20290331T160000
END:STANDARD
BEGIN:DAYLIGHT
TZOFFSETFROM:+1000
TZOFFSETTO:+1100
TZNAME:AEDT
DTSTART:20291006T160000
END:DAYLIGHT
BEGIN:STANDARD
TZOFFSETFROM:+1100
TZOFFSETTO:+1000
TZNAME:AEST
DTSTART:20300406T160000
END:STANDARD
BEGIN:DAYLIGHT
TZOFFSETFROM:+1000
TZOFFSETTO:+1100
TZNAME:AEDT
DTSTART:20301005T160000
END:DAYLIGHT
END:VTIMEZONE
BEGIN:VEVENT
DTSTART;TZID=Australia/Sydney:20290930T093000
DTEND;TZID=Australia/Sydney:20290930T223000
DTSTAMP:20260420T180405
CREATED:20260313T002855Z
LAST-MODIFIED:20260317T004248Z
UID:10001100-1885455000-1885501800@woywoy.lutheran.org.au
SUMMARY:Worship Service
DESCRIPTION:Please join us at 930am on Sundays for worship at 8 Jumbuck Cres Woy Woy\, NSW 2257
URL:https://woywoy.lutheran.org.au/event/worship-service-2/2029-09-30/
LOCATION:St Matthews Lutheran Church\, 8 Jumbuck Cres\, Woy Woy\, NSW\, 2257\, Australia
GEO:-33.4997606;151.3274231
X-APPLE-STRUCTURED-LOCATION;VALUE=URI;X-ADDRESS=St Matthews Lutheran Church 8 Jumbuck Cres Woy Woy NSW 2257 Australia;X-APPLE-RADIUS=500;X-TITLE=8 Jumbuck Cres:geo:151.3274231,-33.4997606
END:VEVENT
BEGIN:VEVENT
DTSTART;TZID=Australia/Sydney:20291006T110000
DTEND;TZID=Australia/Sydney:20291006T120000
DTSTAMP:20260420T180405
CREATED:20260317T003737Z
LAST-MODIFIED:20260317T003737Z
UID:10001218-1885978800-1885982400@woywoy.lutheran.org.au
SUMMARY:Gottesdienst auf Deutsch / German Worship Service
DESCRIPTION:
URL:https://woywoy.lutheran.org.au/event/gottesdienst-auf-deutsch-german-worship-service/2029-10-06/
LOCATION:NSW
CATEGORIES:Worship
END:VEVENT
BEGIN:VEVENT
DTSTART;TZID=Australia/Sydney:20291007T093000
DTEND;TZID=Australia/Sydney:20291007T223000
DTSTAMP:20260420T180405
CREATED:20260313T002855Z
LAST-MODIFIED:20260317T004248Z
UID:10001101-1886059800-1886106600@woywoy.lutheran.org.au
SUMMARY:Worship Service
DESCRIPTION:Please join us at 930am on Sundays for worship at 8 Jumbuck Cres Woy Woy\, NSW 2257
URL:https://woywoy.lutheran.org.au/event/worship-service-2/2029-10-07/
LOCATION:St Matthews Lutheran Church\, 8 Jumbuck Cres\, Woy Woy\, NSW\, 2257\, Australia
GEO:-33.4997606;151.3274231
X-APPLE-STRUCTURED-LOCATION;VALUE=URI;X-ADDRESS=St Matthews Lutheran Church 8 Jumbuck Cres Woy Woy NSW 2257 Australia;X-APPLE-RADIUS=500;X-TITLE=8 Jumbuck Cres:geo:151.3274231,-33.4997606
END:VEVENT
BEGIN:VEVENT
DTSTART;TZID=Australia/Sydney:20291014T093000
DTEND;TZID=Australia/Sydney:20291014T223000
DTSTAMP:20260420T180405
CREATED:20260313T002855Z
LAST-MODIFIED:20260317T004248Z
UID:10001102-1886664600-1886711400@woywoy.lutheran.org.au
SUMMARY:Worship Service
DESCRIPTION:Please join us at 930am on Sundays for worship at 8 Jumbuck Cres Woy Woy\, NSW 2257
URL:https://woywoy.lutheran.org.au/event/worship-service-2/2029-10-14/
LOCATION:St Matthews Lutheran Church\, 8 Jumbuck Cres\, Woy Woy\, NSW\, 2257\, Australia
GEO:-33.4997606;151.3274231
X-APPLE-STRUCTURED-LOCATION;VALUE=URI;X-ADDRESS=St Matthews Lutheran Church 8 Jumbuck Cres Woy Woy NSW 2257 Australia;X-APPLE-RADIUS=500;X-TITLE=8 Jumbuck Cres:geo:151.3274231,-33.4997606
END:VEVENT
BEGIN:VEVENT
DTSTART;TZID=Australia/Sydney:20291021T093000
DTEND;TZID=Australia/Sydney:20291021T223000
DTSTAMP:20260420T180405
CREATED:20260313T002855Z
LAST-MODIFIED:20260317T004248Z
UID:10001103-1887269400-1887316200@woywoy.lutheran.org.au
SUMMARY:Worship Service
DESCRIPTION:Please join us at 930am on Sundays for worship at 8 Jumbuck Cres Woy Woy\, NSW 2257
URL:https://woywoy.lutheran.org.au/event/worship-service-2/2029-10-21/
LOCATION:St Matthews Lutheran Church\, 8 Jumbuck Cres\, Woy Woy\, NSW\, 2257\, Australia
GEO:-33.4997606;151.3274231
X-APPLE-STRUCTURED-LOCATION;VALUE=URI;X-ADDRESS=St Matthews Lutheran Church 8 Jumbuck Cres Woy Woy NSW 2257 Australia;X-APPLE-RADIUS=500;X-TITLE=8 Jumbuck Cres:geo:151.3274231,-33.4997606
END:VEVENT
BEGIN:VEVENT
DTSTART;TZID=Australia/Sydney:20291028T093000
DTEND;TZID=Australia/Sydney:20291028T223000
DTSTAMP:20260420T180405
CREATED:20260313T002855Z
LAST-MODIFIED:20260317T004248Z
UID:10001104-1887874200-1887921000@woywoy.lutheran.org.au
SUMMARY:Worship Service
DESCRIPTION:Please join us at 930am on Sundays for worship at 8 Jumbuck Cres Woy Woy\, NSW 2257
URL:https://woywoy.lutheran.org.au/event/worship-service-2/2029-10-28/
LOCATION:St Matthews Lutheran Church\, 8 Jumbuck Cres\, Woy Woy\, NSW\, 2257\, Australia
GEO:-33.4997606;151.3274231
X-APPLE-STRUCTURED-LOCATION;VALUE=URI;X-ADDRESS=St Matthews Lutheran Church 8 Jumbuck Cres Woy Woy NSW 2257 Australia;X-APPLE-RADIUS=500;X-TITLE=8 Jumbuck Cres:geo:151.3274231,-33.4997606
END:VEVENT
BEGIN:VEVENT
DTSTART;TZID=Australia/Sydney:20291103T110000
DTEND;TZID=Australia/Sydney:20291103T120000
DTSTAMP:20260420T180405
CREATED:20260317T003737Z
LAST-MODIFIED:20260317T003737Z
UID:10001219-1888398000-1888401600@woywoy.lutheran.org.au
SUMMARY:Gottesdienst auf Deutsch / German Worship Service
DESCRIPTION:
URL:https://woywoy.lutheran.org.au/event/gottesdienst-auf-deutsch-german-worship-service/2029-11-03/
LOCATION:NSW
CATEGORIES:Worship
END:VEVENT
BEGIN:VEVENT
DTSTART;TZID=Australia/Sydney:20291104T093000
DTEND;TZID=Australia/Sydney:20291104T223000
DTSTAMP:20260420T180405
CREATED:20260313T002855Z
LAST-MODIFIED:20260317T004248Z
UID:10001105-1888479000-1888525800@woywoy.lutheran.org.au
SUMMARY:Worship Service
DESCRIPTION:Please join us at 930am on Sundays for worship at 8 Jumbuck Cres Woy Woy\, NSW 2257
URL:https://woywoy.lutheran.org.au/event/worship-service-2/2029-11-04/
LOCATION:St Matthews Lutheran Church\, 8 Jumbuck Cres\, Woy Woy\, NSW\, 2257\, Australia
GEO:-33.4997606;151.3274231
X-APPLE-STRUCTURED-LOCATION;VALUE=URI;X-ADDRESS=St Matthews Lutheran Church 8 Jumbuck Cres Woy Woy NSW 2257 Australia;X-APPLE-RADIUS=500;X-TITLE=8 Jumbuck Cres:geo:151.3274231,-33.4997606
END:VEVENT
BEGIN:VEVENT
DTSTART;TZID=Australia/Sydney:20291111T093000
DTEND;TZID=Australia/Sydney:20291111T223000
DTSTAMP:20260420T180405
CREATED:20260313T002855Z
LAST-MODIFIED:20260317T004248Z
UID:10001106-1889083800-1889130600@woywoy.lutheran.org.au
SUMMARY:Worship Service
DESCRIPTION:Please join us at 930am on Sundays for worship at 8 Jumbuck Cres Woy Woy\, NSW 2257
URL:https://woywoy.lutheran.org.au/event/worship-service-2/2029-11-11/
LOCATION:St Matthews Lutheran Church\, 8 Jumbuck Cres\, Woy Woy\, NSW\, 2257\, Australia
GEO:-33.4997606;151.3274231
X-APPLE-STRUCTURED-LOCATION;VALUE=URI;X-ADDRESS=St Matthews Lutheran Church 8 Jumbuck Cres Woy Woy NSW 2257 Australia;X-APPLE-RADIUS=500;X-TITLE=8 Jumbuck Cres:geo:151.3274231,-33.4997606
END:VEVENT
BEGIN:VEVENT
DTSTART;TZID=Australia/Sydney:20291118T093000
DTEND;TZID=Australia/Sydney:20291118T223000
DTSTAMP:20260420T180405
CREATED:20260313T002855Z
LAST-MODIFIED:20260317T004248Z
UID:10001107-1889688600-1889735400@woywoy.lutheran.org.au
SUMMARY:Worship Service
DESCRIPTION:Please join us at 930am on Sundays for worship at 8 Jumbuck Cres Woy Woy\, NSW 2257
URL:https://woywoy.lutheran.org.au/event/worship-service-2/2029-11-18/
LOCATION:St Matthews Lutheran Church\, 8 Jumbuck Cres\, Woy Woy\, NSW\, 2257\, Australia
GEO:-33.4997606;151.3274231
X-APPLE-STRUCTURED-LOCATION;VALUE=URI;X-ADDRESS=St Matthews Lutheran Church 8 Jumbuck Cres Woy Woy NSW 2257 Australia;X-APPLE-RADIUS=500;X-TITLE=8 Jumbuck Cres:geo:151.3274231,-33.4997606
END:VEVENT
BEGIN:VEVENT
DTSTART;TZID=Australia/Sydney:20291125T093000
DTEND;TZID=Australia/Sydney:20291125T223000
DTSTAMP:20260420T180405
CREATED:20260313T002855Z
LAST-MODIFIED:20260317T004248Z
UID:10001108-1890293400-1890340200@woywoy.lutheran.org.au
SUMMARY:Worship Service
DESCRIPTION:Please join us at 930am on Sundays for worship at 8 Jumbuck Cres Woy Woy\, NSW 2257
URL:https://woywoy.lutheran.org.au/event/worship-service-2/2029-11-25/
LOCATION:St Matthews Lutheran Church\, 8 Jumbuck Cres\, Woy Woy\, NSW\, 2257\, Australia
GEO:-33.4997606;151.3274231
X-APPLE-STRUCTURED-LOCATION;VALUE=URI;X-ADDRESS=St Matthews Lutheran Church 8 Jumbuck Cres Woy Woy NSW 2257 Australia;X-APPLE-RADIUS=500;X-TITLE=8 Jumbuck Cres:geo:151.3274231,-33.4997606
END:VEVENT
BEGIN:VEVENT
DTSTART;TZID=Australia/Sydney:20291201T110000
DTEND;TZID=Australia/Sydney:20291201T120000
DTSTAMP:20260420T180405
CREATED:20260317T003737Z
LAST-MODIFIED:20260317T003737Z
UID:10001220-1890817200-1890820800@woywoy.lutheran.org.au
SUMMARY:Gottesdienst auf Deutsch / German Worship Service
DESCRIPTION:
URL:https://woywoy.lutheran.org.au/event/gottesdienst-auf-deutsch-german-worship-service/2029-12-01/
LOCATION:NSW
CATEGORIES:Worship
END:VEVENT
BEGIN:VEVENT
DTSTART;TZID=Australia/Sydney:20291202T093000
DTEND;TZID=Australia/Sydney:20291202T223000
DTSTAMP:20260420T180405
CREATED:20260313T002855Z
LAST-MODIFIED:20260317T004248Z
UID:10001109-1890898200-1890945000@woywoy.lutheran.org.au
SUMMARY:Worship Service
DESCRIPTION:Please join us at 930am on Sundays for worship at 8 Jumbuck Cres Woy Woy\, NSW 2257
URL:https://woywoy.lutheran.org.au/event/worship-service-2/2029-12-02/
LOCATION:St Matthews Lutheran Church\, 8 Jumbuck Cres\, Woy Woy\, NSW\, 2257\, Australia
GEO:-33.4997606;151.3274231
X-APPLE-STRUCTURED-LOCATION;VALUE=URI;X-ADDRESS=St Matthews Lutheran Church 8 Jumbuck Cres Woy Woy NSW 2257 Australia;X-APPLE-RADIUS=500;X-TITLE=8 Jumbuck Cres:geo:151.3274231,-33.4997606
END:VEVENT
BEGIN:VEVENT
DTSTART;TZID=Australia/Sydney:20291209T093000
DTEND;TZID=Australia/Sydney:20291209T223000
DTSTAMP:20260420T180405
CREATED:20260313T002855Z
LAST-MODIFIED:20260317T004248Z
UID:10001110-1891503000-1891549800@woywoy.lutheran.org.au
SUMMARY:Worship Service
DESCRIPTION:Please join us at 930am on Sundays for worship at 8 Jumbuck Cres Woy Woy\, NSW 2257
URL:https://woywoy.lutheran.org.au/event/worship-service-2/2029-12-09/
LOCATION:St Matthews Lutheran Church\, 8 Jumbuck Cres\, Woy Woy\, NSW\, 2257\, Australia
GEO:-33.4997606;151.3274231
X-APPLE-STRUCTURED-LOCATION;VALUE=URI;X-ADDRESS=St Matthews Lutheran Church 8 Jumbuck Cres Woy Woy NSW 2257 Australia;X-APPLE-RADIUS=500;X-TITLE=8 Jumbuck Cres:geo:151.3274231,-33.4997606
END:VEVENT
BEGIN:VEVENT
DTSTART;TZID=Australia/Sydney:20291216T093000
DTEND;TZID=Australia/Sydney:20291216T223000
DTSTAMP:20260420T180405
CREATED:20260313T002855Z
LAST-MODIFIED:20260317T004248Z
UID:10001111-1892107800-1892154600@woywoy.lutheran.org.au
SUMMARY:Worship Service
DESCRIPTION:Please join us at 930am on Sundays for worship at 8 Jumbuck Cres Woy Woy\, NSW 2257
URL:https://woywoy.lutheran.org.au/event/worship-service-2/2029-12-16/
LOCATION:St Matthews Lutheran Church\, 8 Jumbuck Cres\, Woy Woy\, NSW\, 2257\, Australia
GEO:-33.4997606;151.3274231
X-APPLE-STRUCTURED-LOCATION;VALUE=URI;X-ADDRESS=St Matthews Lutheran Church 8 Jumbuck Cres Woy Woy NSW 2257 Australia;X-APPLE-RADIUS=500;X-TITLE=8 Jumbuck Cres:geo:151.3274231,-33.4997606
END:VEVENT
BEGIN:VEVENT
DTSTART;TZID=Australia/Sydney:20291223T093000
DTEND;TZID=Australia/Sydney:20291223T223000
DTSTAMP:20260420T180405
CREATED:20260313T002855Z
LAST-MODIFIED:20260317T004248Z
UID:10001112-1892712600-1892759400@woywoy.lutheran.org.au
SUMMARY:Worship Service
DESCRIPTION:Please join us at 930am on Sundays for worship at 8 Jumbuck Cres Woy Woy\, NSW 2257
URL:https://woywoy.lutheran.org.au/event/worship-service-2/2029-12-23/
LOCATION:St Matthews Lutheran Church\, 8 Jumbuck Cres\, Woy Woy\, NSW\, 2257\, Australia
GEO:-33.4997606;151.3274231
X-APPLE-STRUCTURED-LOCATION;VALUE=URI;X-ADDRESS=St Matthews Lutheran Church 8 Jumbuck Cres Woy Woy NSW 2257 Australia;X-APPLE-RADIUS=500;X-TITLE=8 Jumbuck Cres:geo:151.3274231,-33.4997606
END:VEVENT
BEGIN:VEVENT
DTSTART;TZID=Australia/Sydney:20291230T093000
DTEND;TZID=Australia/Sydney:20291230T223000
DTSTAMP:20260420T180405
CREATED:20260313T002855Z
LAST-MODIFIED:20260317T004248Z
UID:10001113-1893317400-1893364200@woywoy.lutheran.org.au
SUMMARY:Worship Service
DESCRIPTION:Please join us at 930am on Sundays for worship at 8 Jumbuck Cres Woy Woy\, NSW 2257
URL:https://woywoy.lutheran.org.au/event/worship-service-2/2029-12-30/
LOCATION:St Matthews Lutheran Church\, 8 Jumbuck Cres\, Woy Woy\, NSW\, 2257\, Australia
GEO:-33.4997606;151.3274231
X-APPLE-STRUCTURED-LOCATION;VALUE=URI;X-ADDRESS=St Matthews Lutheran Church 8 Jumbuck Cres Woy Woy NSW 2257 Australia;X-APPLE-RADIUS=500;X-TITLE=8 Jumbuck Cres:geo:151.3274231,-33.4997606
END:VEVENT
BEGIN:VEVENT
DTSTART;TZID=Australia/Sydney:20300105T110000
DTEND;TZID=Australia/Sydney:20300105T120000
DTSTAMP:20260420T180405
CREATED:20260317T003737Z
LAST-MODIFIED:20260317T003737Z
UID:10001221-1893841200-1893844800@woywoy.lutheran.org.au
SUMMARY:Gottesdienst auf Deutsch / German Worship Service
DESCRIPTION:
URL:https://woywoy.lutheran.org.au/event/gottesdienst-auf-deutsch-german-worship-service/2030-01-05/
LOCATION:NSW
CATEGORIES:Worship
END:VEVENT
BEGIN:VEVENT
DTSTART;TZID=Australia/Sydney:20300106T093000
DTEND;TZID=Australia/Sydney:20300106T223000
DTSTAMP:20260420T180405
CREATED:20260313T002855Z
LAST-MODIFIED:20260317T004248Z
UID:10001114-1893922200-1893969000@woywoy.lutheran.org.au
SUMMARY:Worship Service
DESCRIPTION:Please join us at 930am on Sundays for worship at 8 Jumbuck Cres Woy Woy\, NSW 2257
URL:https://woywoy.lutheran.org.au/event/worship-service-2/2030-01-06/
LOCATION:St Matthews Lutheran Church\, 8 Jumbuck Cres\, Woy Woy\, NSW\, 2257\, Australia
GEO:-33.4997606;151.3274231
X-APPLE-STRUCTURED-LOCATION;VALUE=URI;X-ADDRESS=St Matthews Lutheran Church 8 Jumbuck Cres Woy Woy NSW 2257 Australia;X-APPLE-RADIUS=500;X-TITLE=8 Jumbuck Cres:geo:151.3274231,-33.4997606
END:VEVENT
BEGIN:VEVENT
DTSTART;TZID=Australia/Sydney:20300113T093000
DTEND;TZID=Australia/Sydney:20300113T223000
DTSTAMP:20260420T180405
CREATED:20260313T002855Z
LAST-MODIFIED:20260317T004248Z
UID:10001115-1894527000-1894573800@woywoy.lutheran.org.au
SUMMARY:Worship Service
DESCRIPTION:Please join us at 930am on Sundays for worship at 8 Jumbuck Cres Woy Woy\, NSW 2257
URL:https://woywoy.lutheran.org.au/event/worship-service-2/2030-01-13/
LOCATION:St Matthews Lutheran Church\, 8 Jumbuck Cres\, Woy Woy\, NSW\, 2257\, Australia
GEO:-33.4997606;151.3274231
X-APPLE-STRUCTURED-LOCATION;VALUE=URI;X-ADDRESS=St Matthews Lutheran Church 8 Jumbuck Cres Woy Woy NSW 2257 Australia;X-APPLE-RADIUS=500;X-TITLE=8 Jumbuck Cres:geo:151.3274231,-33.4997606
END:VEVENT
BEGIN:VEVENT
DTSTART;TZID=Australia/Sydney:20300120T093000
DTEND;TZID=Australia/Sydney:20300120T223000
DTSTAMP:20260420T180405
CREATED:20260313T002855Z
LAST-MODIFIED:20260317T004248Z
UID:10001116-1895131800-1895178600@woywoy.lutheran.org.au
SUMMARY:Worship Service
DESCRIPTION:Please join us at 930am on Sundays for worship at 8 Jumbuck Cres Woy Woy\, NSW 2257
URL:https://woywoy.lutheran.org.au/event/worship-service-2/2030-01-20/
LOCATION:St Matthews Lutheran Church\, 8 Jumbuck Cres\, Woy Woy\, NSW\, 2257\, Australia
GEO:-33.4997606;151.3274231
X-APPLE-STRUCTURED-LOCATION;VALUE=URI;X-ADDRESS=St Matthews Lutheran Church 8 Jumbuck Cres Woy Woy NSW 2257 Australia;X-APPLE-RADIUS=500;X-TITLE=8 Jumbuck Cres:geo:151.3274231,-33.4997606
END:VEVENT
BEGIN:VEVENT
DTSTART;TZID=Australia/Sydney:20300127T093000
DTEND;TZID=Australia/Sydney:20300127T223000
DTSTAMP:20260420T180405
CREATED:20260313T002855Z
LAST-MODIFIED:20260317T004248Z
UID:10001117-1895736600-1895783400@woywoy.lutheran.org.au
SUMMARY:Worship Service
DESCRIPTION:Please join us at 930am on Sundays for worship at 8 Jumbuck Cres Woy Woy\, NSW 2257
URL:https://woywoy.lutheran.org.au/event/worship-service-2/2030-01-27/
LOCATION:St Matthews Lutheran Church\, 8 Jumbuck Cres\, Woy Woy\, NSW\, 2257\, Australia
GEO:-33.4997606;151.3274231
X-APPLE-STRUCTURED-LOCATION;VALUE=URI;X-ADDRESS=St Matthews Lutheran Church 8 Jumbuck Cres Woy Woy NSW 2257 Australia;X-APPLE-RADIUS=500;X-TITLE=8 Jumbuck Cres:geo:151.3274231,-33.4997606
END:VEVENT
BEGIN:VEVENT
DTSTART;TZID=Australia/Sydney:20300202T110000
DTEND;TZID=Australia/Sydney:20300202T120000
DTSTAMP:20260420T180405
CREATED:20260317T003737Z
LAST-MODIFIED:20260317T003737Z
UID:10001222-1896260400-1896264000@woywoy.lutheran.org.au
SUMMARY:Gottesdienst auf Deutsch / German Worship Service
DESCRIPTION:
URL:https://woywoy.lutheran.org.au/event/gottesdienst-auf-deutsch-german-worship-service/2030-02-02/
LOCATION:NSW
CATEGORIES:Worship
END:VEVENT
BEGIN:VEVENT
DTSTART;TZID=Australia/Sydney:20300203T093000
DTEND;TZID=Australia/Sydney:20300203T223000
DTSTAMP:20260420T180405
CREATED:20260313T002855Z
LAST-MODIFIED:20260317T004248Z
UID:10001118-1896341400-1896388200@woywoy.lutheran.org.au
SUMMARY:Worship Service
DESCRIPTION:Please join us at 930am on Sundays for worship at 8 Jumbuck Cres Woy Woy\, NSW 2257
URL:https://woywoy.lutheran.org.au/event/worship-service-2/2030-02-03/
LOCATION:St Matthews Lutheran Church\, 8 Jumbuck Cres\, Woy Woy\, NSW\, 2257\, Australia
GEO:-33.4997606;151.3274231
X-APPLE-STRUCTURED-LOCATION;VALUE=URI;X-ADDRESS=St Matthews Lutheran Church 8 Jumbuck Cres Woy Woy NSW 2257 Australia;X-APPLE-RADIUS=500;X-TITLE=8 Jumbuck Cres:geo:151.3274231,-33.4997606
END:VEVENT
BEGIN:VEVENT
DTSTART;TZID=Australia/Sydney:20300210T093000
DTEND;TZID=Australia/Sydney:20300210T223000
DTSTAMP:20260420T180405
CREATED:20260313T002855Z
LAST-MODIFIED:20260317T004248Z
UID:10001119-1896946200-1896993000@woywoy.lutheran.org.au
SUMMARY:Worship Service
DESCRIPTION:Please join us at 930am on Sundays for worship at 8 Jumbuck Cres Woy Woy\, NSW 2257
URL:https://woywoy.lutheran.org.au/event/worship-service-2/2030-02-10/
LOCATION:St Matthews Lutheran Church\, 8 Jumbuck Cres\, Woy Woy\, NSW\, 2257\, Australia
GEO:-33.4997606;151.3274231
X-APPLE-STRUCTURED-LOCATION;VALUE=URI;X-ADDRESS=St Matthews Lutheran Church 8 Jumbuck Cres Woy Woy NSW 2257 Australia;X-APPLE-RADIUS=500;X-TITLE=8 Jumbuck Cres:geo:151.3274231,-33.4997606
END:VEVENT
BEGIN:VEVENT
DTSTART;TZID=Australia/Sydney:20300217T093000
DTEND;TZID=Australia/Sydney:20300217T223000
DTSTAMP:20260420T180405
CREATED:20260313T002855Z
LAST-MODIFIED:20260317T004248Z
UID:10001120-1897551000-1897597800@woywoy.lutheran.org.au
SUMMARY:Worship Service
DESCRIPTION:Please join us at 930am on Sundays for worship at 8 Jumbuck Cres Woy Woy\, NSW 2257
URL:https://woywoy.lutheran.org.au/event/worship-service-2/2030-02-17/
LOCATION:St Matthews Lutheran Church\, 8 Jumbuck Cres\, Woy Woy\, NSW\, 2257\, Australia
GEO:-33.4997606;151.3274231
X-APPLE-STRUCTURED-LOCATION;VALUE=URI;X-ADDRESS=St Matthews Lutheran Church 8 Jumbuck Cres Woy Woy NSW 2257 Australia;X-APPLE-RADIUS=500;X-TITLE=8 Jumbuck Cres:geo:151.3274231,-33.4997606
END:VEVENT
BEGIN:VEVENT
DTSTART;TZID=Australia/Sydney:20300224T093000
DTEND;TZID=Australia/Sydney:20300224T223000
DTSTAMP:20260420T180405
CREATED:20260313T002855Z
LAST-MODIFIED:20260317T004248Z
UID:10001121-1898155800-1898202600@woywoy.lutheran.org.au
SUMMARY:Worship Service
DESCRIPTION:Please join us at 930am on Sundays for worship at 8 Jumbuck Cres Woy Woy\, NSW 2257
URL:https://woywoy.lutheran.org.au/event/worship-service-2/2030-02-24/
LOCATION:St Matthews Lutheran Church\, 8 Jumbuck Cres\, Woy Woy\, NSW\, 2257\, Australia
GEO:-33.4997606;151.3274231
X-APPLE-STRUCTURED-LOCATION;VALUE=URI;X-ADDRESS=St Matthews Lutheran Church 8 Jumbuck Cres Woy Woy NSW 2257 Australia;X-APPLE-RADIUS=500;X-TITLE=8 Jumbuck Cres:geo:151.3274231,-33.4997606
END:VEVENT
BEGIN:VEVENT
DTSTART;TZID=Australia/Sydney:20300302T110000
DTEND;TZID=Australia/Sydney:20300302T120000
DTSTAMP:20260420T180405
CREATED:20260317T003737Z
LAST-MODIFIED:20260317T003737Z
UID:10001223-1898679600-1898683200@woywoy.lutheran.org.au
SUMMARY:Gottesdienst auf Deutsch / German Worship Service
DESCRIPTION:
URL:https://woywoy.lutheran.org.au/event/gottesdienst-auf-deutsch-german-worship-service/2030-03-02/
LOCATION:NSW
CATEGORIES:Worship
END:VEVENT
BEGIN:VEVENT
DTSTART;TZID=Australia/Sydney:20300303T093000
DTEND;TZID=Australia/Sydney:20300303T223000
DTSTAMP:20260420T180405
CREATED:20260313T002855Z
LAST-MODIFIED:20260317T004248Z
UID:10001122-1898760600-1898807400@woywoy.lutheran.org.au
SUMMARY:Worship Service
DESCRIPTION:Please join us at 930am on Sundays for worship at 8 Jumbuck Cres Woy Woy\, NSW 2257
URL:https://woywoy.lutheran.org.au/event/worship-service-2/2030-03-03/
LOCATION:St Matthews Lutheran Church\, 8 Jumbuck Cres\, Woy Woy\, NSW\, 2257\, Australia
GEO:-33.4997606;151.3274231
X-APPLE-STRUCTURED-LOCATION;VALUE=URI;X-ADDRESS=St Matthews Lutheran Church 8 Jumbuck Cres Woy Woy NSW 2257 Australia;X-APPLE-RADIUS=500;X-TITLE=8 Jumbuck Cres:geo:151.3274231,-33.4997606
END:VEVENT
BEGIN:VEVENT
DTSTART;TZID=Australia/Sydney:20300310T093000
DTEND;TZID=Australia/Sydney:20300310T223000
DTSTAMP:20260420T180405
CREATED:20260313T002855Z
LAST-MODIFIED:20260317T004248Z
UID:10001123-1899365400-1899412200@woywoy.lutheran.org.au
SUMMARY:Worship Service
DESCRIPTION:Please join us at 930am on Sundays for worship at 8 Jumbuck Cres Woy Woy\, NSW 2257
URL:https://woywoy.lutheran.org.au/event/worship-service-2/2030-03-10/
LOCATION:St Matthews Lutheran Church\, 8 Jumbuck Cres\, Woy Woy\, NSW\, 2257\, Australia
GEO:-33.4997606;151.3274231
X-APPLE-STRUCTURED-LOCATION;VALUE=URI;X-ADDRESS=St Matthews Lutheran Church 8 Jumbuck Cres Woy Woy NSW 2257 Australia;X-APPLE-RADIUS=500;X-TITLE=8 Jumbuck Cres:geo:151.3274231,-33.4997606
END:VEVENT
END:VCALENDAR